BEGIN:VCALENDAR
VERSION:2.0
PRODID:-//US Coast Guard Auxiliary-D11S - ECPv6.15.20//NONSGML v1.0//EN
CALSCALE:GREGORIAN
METHOD:PUBLISH
X-ORIGINAL-URL:https://web2.d11s.org
X-WR-CALDESC:Events for US Coast Guard Auxiliary-D11S
REFRESH-INTERVAL;VALUE=DURATION:PT1H
X-Robots-Tag:noindex
X-PUBLISHED-TTL:PT1H
BEGIN:VTIMEZONE
TZID:America/Los_Angeles
BEGIN:DAYLIGHT
TZOFFSETFROM:-0800
TZOFFSETTO:-0700
TZNAME:PDT
DTSTART:20250309T100000
END:DAYLIGHT
BEGIN:STANDARD
TZOFFSETFROM:-0700
TZOFFSETTO:-0800
TZNAME:PST
DTSTART:20251102T090000
END:STANDARD
BEGIN:DAYLIGHT
TZOFFSETFROM:-0800
TZOFFSETTO:-0700
TZNAME:PDT
DTSTART:20260308T100000
END:DAYLIGHT
BEGIN:STANDARD
TZOFFSETFROM:-0700
TZOFFSETTO:-0800
TZNAME:PST
DTSTART:20261101T090000
END:STANDARD
BEGIN:DAYLIGHT
TZOFFSETFROM:-0800
TZOFFSETTO:-0700
TZNAME:PDT
DTSTART:20270314T100000
END:DAYLIGHT
BEGIN:STANDARD
TZOFFSETFROM:-0700
TZOFFSETTO:-0800
TZNAME:PST
DTSTART:20271107T090000
END:STANDARD
END:VTIMEZONE
BEGIN:VEVENT
DTSTART;VALUE=DATE:20260501
DTEND;VALUE=DATE:20260504
DTSTAMP:20260423T104715
CREATED:20260409T201151Z
LAST-MODIFIED:20260409T212849Z
UID:10002166-1777593600-1777852799@web2.d11s.org
SUMMARY:Div 07 – Westcoast Sportfishing/Outdoor Boat Show
DESCRIPTION:Div 07 – PA RBS: Westcoast Sportfishing/Outdoor Boat Show\nMay 1 – 3\, 2026\nVentura County Fairgrounds and Event Center\n10 E Harbor Blvd\, Ventura\, CA 93001\, USA\nPublic affairs: RBS Outreach May 1-3\, 2026. Ventura Fairgrounds.
URL:https://web2.d11s.org/event/div-07-westcoast-sportfishing-outdoor-boat-show/
CATEGORIES:Special Event
ATTACH;FMTTYPE=image/png:https://web2.d11s.org/wp-content/uploads/2026/04/nsbc-wear-it-logo-transparent-4.png
END:VEVENT
BEGIN:VEVENT
DTSTART;TZID=America/Los_Angeles:20260502T100000
DTEND;TZID=America/Los_Angeles:20260502T150000
DTSTAMP:20260423T104715
CREATED:20260409T213151Z
LAST-MODIFIED:20260409T213151Z
UID:10002167-1777716000-1777734000@web2.d11s.org
SUMMARY:Div 07 / Flotilla 7-2: Boat Specialists Show
DESCRIPTION:Div 07 / Flotilla 7-2: Boat Specialists Show\nSaturday\, May 2\nBoat Specialists – Showroom\n2900 Golf Course Dr\, Ventura\, CA 93003\, USA
URL:https://web2.d11s.org/event/div-07-flotilla-7-2-boat-specialists-show/
CATEGORIES:Special Event
ATTACH;FMTTYPE=image/png:https://web2.d11s.org/wp-content/uploads/2026/04/nsbc-wear-it-logo-transparent-5.png
END:VEVENT
END:VCALENDAR