BEGIN:VCALENDAR
VERSION:2.0
PRODID:-//US Coast Guard Auxiliary-D11S - ECPv6.15.20//NONSGML v1.0//EN
CALSCALE:GREGORIAN
METHOD:PUBLISH
X-ORIGINAL-URL:https://web2.d11s.org
X-WR-CALDESC:Events for US Coast Guard Auxiliary-D11S
REFRESH-INTERVAL;VALUE=DURATION:PT1H
X-Robots-Tag:noindex
X-PUBLISHED-TTL:PT1H
BEGIN:VTIMEZONE
TZID:America/Los_Angeles
BEGIN:DAYLIGHT
TZOFFSETFROM:-0800
TZOFFSETTO:-0700
TZNAME:PDT
DTSTART:20250309T100000
END:DAYLIGHT
BEGIN:STANDARD
TZOFFSETFROM:-0700
TZOFFSETTO:-0800
TZNAME:PST
DTSTART:20251102T090000
END:STANDARD
BEGIN:DAYLIGHT
TZOFFSETFROM:-0800
TZOFFSETTO:-0700
TZNAME:PDT
DTSTART:20260308T100000
END:DAYLIGHT
BEGIN:STANDARD
TZOFFSETFROM:-0700
TZOFFSETTO:-0800
TZNAME:PST
DTSTART:20261101T090000
END:STANDARD
BEGIN:DAYLIGHT
TZOFFSETFROM:-0800
TZOFFSETTO:-0700
TZNAME:PDT
DTSTART:20270314T100000
END:DAYLIGHT
BEGIN:STANDARD
TZOFFSETFROM:-0700
TZOFFSETTO:-0800
TZNAME:PST
DTSTART:20271107T090000
END:STANDARD
END:VTIMEZONE
BEGIN:VEVENT
DTSTART;TZID=America/Los_Angeles:20260506T174500
DTEND;TZID=America/Los_Angeles:20260506T200000
DTSTAMP:20260423T121634
CREATED:20260408T023618Z
LAST-MODIFIED:20260408T023618Z
UID:10002099-1778089500-1778097600@web2.d11s.org
SUMMARY:2026 RM/TCT
DESCRIPTION:2026 Risk Management/TCT Course \nTo register\, please contact Robert McKoy @ robertpmckoy@aol.com
URL:https://web2.d11s.org/event/2026-rm-tct/2026-05-06/
LOCATION:Virtual Event
CATEGORIES:Member Training
ORGANIZER;CN="District 11":MAILTO:crosario.uscgaux@gmail.com
END:VEVENT
BEGIN:VEVENT
DTSTART;TZID=America/Los_Angeles:20260506T193000
DTEND;TZID=America/Los_Angeles:20260506T200000
DTSTAMP:20260423T121634
CREATED:20230706T014325Z
LAST-MODIFIED:20230706T014325Z
UID:10000907-1778095800-1778097600@web2.d11s.org
SUMMARY:Sector San Diego VHF Net
DESCRIPTION:Weekly SDG Sector VHF net on YSD repeater  Wendesday’s at 1930 PST/PDT – unless preempted by federal holiday.
URL:https://web2.d11s.org/event/sector-san-diego-vhf-net/2026-05-06/
END:VEVENT
END:VCALENDAR