BEGIN:VCALENDAR
VERSION:2.0
PRODID:-//US Coast Guard Auxiliary-D11S - ECPv6.15.20//NONSGML v1.0//EN
CALSCALE:GREGORIAN
METHOD:PUBLISH
X-ORIGINAL-URL:https://web2.d11s.org
X-WR-CALDESC:Events for US Coast Guard Auxiliary-D11S
REFRESH-INTERVAL;VALUE=DURATION:PT1H
X-Robots-Tag:noindex
X-PUBLISHED-TTL:PT1H
BEGIN:VTIMEZONE
TZID:America/Los_Angeles
BEGIN:DAYLIGHT
TZOFFSETFROM:-0800
TZOFFSETTO:-0700
TZNAME:PDT
DTSTART:20250309T100000
END:DAYLIGHT
BEGIN:STANDARD
TZOFFSETFROM:-0700
TZOFFSETTO:-0800
TZNAME:PST
DTSTART:20251102T090000
END:STANDARD
BEGIN:DAYLIGHT
TZOFFSETFROM:-0800
TZOFFSETTO:-0700
TZNAME:PDT
DTSTART:20260308T100000
END:DAYLIGHT
BEGIN:STANDARD
TZOFFSETFROM:-0700
TZOFFSETTO:-0800
TZNAME:PST
DTSTART:20261101T090000
END:STANDARD
BEGIN:DAYLIGHT
TZOFFSETFROM:-0800
TZOFFSETTO:-0700
TZNAME:PDT
DTSTART:20270314T100000
END:DAYLIGHT
BEGIN:STANDARD
TZOFFSETFROM:-0700
TZOFFSETTO:-0800
TZNAME:PST
DTSTART:20271107T090000
END:STANDARD
END:VTIMEZONE
BEGIN:VEVENT
DTSTART;VALUE=DATE:20260623
DTEND;VALUE=DATE:20260624
DTSTAMP:20260423T154020
CREATED:20260414T204948Z
LAST-MODIFIED:20260414T204948Z
UID:10002189-1782172800-1782259199@web2.d11s.org
SUMMARY:Coast Guard Auxiliary Birthday (236)
DESCRIPTION:The Coast Guard “Reserve” was authorized by act of Congress on June 23\, 1939\, the Coast Guard was given a legislative mandate to use civilian volunteers to promote safety on and over the high seas and the nation’s navigable waters. The Coast Guard Reserve was then a non-military service comprised of unpaid\, volunteer U.S. citizens who owned motorboats or yachts. \nTwo years later\, on Feb. 19\, Congress amended the 1939 act with passage of the Auxiliary and Reserve Act of 1941. Passage of this act designated the Reserve as a military branch of the active service\, while the civilian volunteers\, formerly referred to as the Coast Guard Reserve\, became the Auxiliary.\nFebruary 19 is formally recognized as the birth of the Coast Guard Reserve while June 23 is recognized as birthday of the Coast Guard Auxiliary.
URL:https://web2.d11s.org/event/coast-guard-auxiliary-birthday-236/
ATTACH;FMTTYPE=image/jpeg:https://web2.d11s.org/wp-content/uploads/2026/04/Happy-Birthday-Auxiliary.jpeg
END:VEVENT
BEGIN:VEVENT
DTSTART;TZID=America/Los_Angeles:20260623T173000
DTEND;TZID=America/Los_Angeles:20260623T193000
DTSTAMP:20260423T154020
CREATED:20230606T224755Z
LAST-MODIFIED:20230606T224755Z
UID:10000299-1782235800-1782243000@web2.d11s.org
SUMMARY:West Coast Regional HF Radio Net
DESCRIPTION:The weekly HF Radio Net begins at 1830 hrs. Tuesdays on B5D. A concurrent virtual session starts around 1730 on  and provides an opportunity to meet net members\, get experience\, or get assistance with radio problems.\nMembers display their name and callsign. Guests display their name and guest.
URL:https://web2.d11s.org/event/west-coast-regional-hf-radio-net/2026-06-23/
ORGANIZER;CN="District 11":MAILTO:crosario.uscgaux@gmail.com
END:VEVENT
BEGIN:VEVENT
DTSTART;TZID=America/Los_Angeles:20260623T193000
DTEND;TZID=America/Los_Angeles:20260623T203000
DTSTAMP:20260423T154020
CREATED:20230606T231511Z
LAST-MODIFIED:20230607T183825Z
UID:10000561-1782243000-1782246600@web2.d11s.org
SUMMARY:District 11 South VHF AUXNET
DESCRIPTION:The District 11 Sothern Region weekly VHF AUXNET starts at 1930hrs. each Tuesday on the Yankee Sierra Repeater. This net provides an opportunity for members to get experience talking on the radio and ensure their equipment is functioning properly.\nIt also provides the district with a list of known operating radio stations and operator for emergency and contingency communications.
URL:https://web2.d11s.org/event/district-11-south-vhf-auxnet/2026-06-23/
END:VEVENT
END:VCALENDAR