BEGIN:VCALENDAR
VERSION:2.0
PRODID:-//US Coast Guard Auxiliary-D11S - ECPv6.15.20//NONSGML v1.0//EN
CALSCALE:GREGORIAN
METHOD:PUBLISH
X-ORIGINAL-URL:https://web2.d11s.org
X-WR-CALDESC:Events for US Coast Guard Auxiliary-D11S
REFRESH-INTERVAL;VALUE=DURATION:PT1H
X-Robots-Tag:noindex
X-PUBLISHED-TTL:PT1H
BEGIN:VTIMEZONE
TZID:America/Los_Angeles
BEGIN:DAYLIGHT
TZOFFSETFROM:-0800
TZOFFSETTO:-0700
TZNAME:PDT
DTSTART:20230312T100000
END:DAYLIGHT
BEGIN:STANDARD
TZOFFSETFROM:-0700
TZOFFSETTO:-0800
TZNAME:PST
DTSTART:20231105T090000
END:STANDARD
BEGIN:DAYLIGHT
TZOFFSETFROM:-0800
TZOFFSETTO:-0700
TZNAME:PDT
DTSTART:20240310T100000
END:DAYLIGHT
BEGIN:STANDARD
TZOFFSETFROM:-0700
TZOFFSETTO:-0800
TZNAME:PST
DTSTART:20241103T090000
END:STANDARD
BEGIN:DAYLIGHT
TZOFFSETFROM:-0800
TZOFFSETTO:-0700
TZNAME:PDT
DTSTART:20250309T100000
END:DAYLIGHT
BEGIN:STANDARD
TZOFFSETFROM:-0700
TZOFFSETTO:-0800
TZNAME:PST
DTSTART:20251102T090000
END:STANDARD
BEGIN:DAYLIGHT
TZOFFSETFROM:-0800
TZOFFSETTO:-0700
TZNAME:PDT
DTSTART:20260308T100000
END:DAYLIGHT
BEGIN:STANDARD
TZOFFSETFROM:-0700
TZOFFSETTO:-0800
TZNAME:PST
DTSTART:20261101T090000
END:STANDARD
BEGIN:DAYLIGHT
TZOFFSETFROM:-0800
TZOFFSETTO:-0700
TZNAME:PDT
DTSTART:20270314T100000
END:DAYLIGHT
BEGIN:STANDARD
TZOFFSETFROM:-0700
TZOFFSETTO:-0800
TZNAME:PST
DTSTART:20271107T090000
END:STANDARD
END:VTIMEZONE
BEGIN:VEVENT
DTSTART;VALUE=DATE:20260409
DTEND;VALUE=DATE:20260410
DTSTAMP:20260423T154342
CREATED:20260409T220312Z
LAST-MODIFIED:20260409T220312Z
UID:10002178-1775692800-1775779199@web2.d11s.org
SUMMARY:Div 06 Picnic - Sunset Aquatic Park
DESCRIPTION:Div 06 Picnic (Sunset Aquatic Park)\nSaturday\, July 18\nJULY 18        Division 6 Picnic (Sunset Aquatic Park)
URL:https://web2.d11s.org/event/div-06-picnic-sunset-aquatic-park/
CATEGORIES:Fellowship
ATTACH;FMTTYPE=image/png:https://web2.d11s.org/wp-content/uploads/2026/04/PTWM_Banner.png
END:VEVENT
BEGIN:VEVENT
DTSTART;TZID=America/Los_Angeles:20240622T083000
DTEND;TZID=America/Los_Angeles:20240622T140000
DTSTAMP:20260423T154342
CREATED:20240619T064727Z
LAST-MODIFIED:20240619T064727Z
UID:10001567-1719045000-1719064800@web2.d11s.org
SUMMARY:Flotilla 114-07-03 RBS at Lake Piru CA
DESCRIPTION:Flotilla 114-07-03 RBS at Lake Piru CA\nSat June 22 0830-1400\nVE\nPA\nFellowship BBQ
URL:https://web2.d11s.org/event/flotilla-114-07-03-rbs-at-lake-piru-ca/
CATEGORIES:Fellowship,Special Event
END:VEVENT
BEGIN:VEVENT
DTSTART;TZID=America/Los_Angeles:20240413T100000
DTEND;TZID=America/Los_Angeles:20240413T160000
DTSTAMP:20260423T154342
CREATED:20240202T063333Z
LAST-MODIFIED:20240202T063333Z
UID:10001333-1713002400-1713024000@web2.d11s.org
SUMMARY:Whale of a Day Festival
DESCRIPTION:Point Vicente Lighthouse\nRancho Palos Verdes\, CA
URL:https://web2.d11s.org/event/whale-of-a-day-festival/
CATEGORIES:Fellowship
END:VEVENT
BEGIN:VEVENT
DTSTART;TZID=America/Los_Angeles:20240413T080000
DTEND;TZID=America/Los_Angeles:20240413T180000
DTSTAMP:20260423T154342
CREATED:20240307T012507Z
LAST-MODIFIED:20240307T012507Z
UID:10001529-1712995200-1713031200@web2.d11s.org
SUMMARY:Division 114-06 Hosts Narwhal in Dana Point
DESCRIPTION:CGC Narwhal will be docked at the DP Ocean Institute on Saturday April 13. in Dana Point Harbor.\nPublic Tours of the ship are coordinated with CG crew\, Auxiliary members\, and Ocean Institute personnel.\nTours from 1000 – 1500\n4th cornerstone BBQ from 1630 – 1800
URL:https://web2.d11s.org/event/division-114-06-hosts-narwhal-in-dana-point/
CATEGORIES:Fellowship,Special Event
END:VEVENT
BEGIN:VEVENT
DTSTART;TZID=America/Los_Angeles:20240127T160000
DTEND;TZID=America/Los_Angeles:20240127T200000
DTSTAMP:20260423T154342
CREATED:20240118T174559Z
LAST-MODIFIED:20240118T174559Z
UID:10001268-1706371200-1706385600@web2.d11s.org
SUMMARY:Division 10 Arizona Change of Watch
DESCRIPTION:Division 10 Arizona will host it’s 2nd consecutive COW since 2017 at Luke Air Force Base Club 56 on Saturday evening\, 27 January 2024.
URL:https://web2.d11s.org/event/division-10-arizona-change-of-watch/
CATEGORIES:Fellowship
ATTACH;FMTTYPE=image/png:https://web2.d11s.org/wp-content/uploads/2024/01/Div-logo.png
END:VEVENT
END:VCALENDAR