BEGIN:VCALENDAR
VERSION:2.0
PRODID:-//US Coast Guard Auxiliary-D11S - ECPv6.15.20//NONSGML v1.0//EN
CALSCALE:GREGORIAN
METHOD:PUBLISH
X-WR-CALNAME:US Coast Guard Auxiliary-D11S
X-ORIGINAL-URL:https://web2.d11s.org
X-WR-CALDESC:Events for US Coast Guard Auxiliary-D11S
REFRESH-INTERVAL;VALUE=DURATION:PT1H
X-Robots-Tag:noindex
X-PUBLISHED-TTL:PT1H
BEGIN:VTIMEZONE
TZID:America/Los_Angeles
BEGIN:DAYLIGHT
TZOFFSETFROM:-0800
TZOFFSETTO:-0700
TZNAME:PDT
DTSTART:20250309T100000
END:DAYLIGHT
BEGIN:STANDARD
TZOFFSETFROM:-0700
TZOFFSETTO:-0800
TZNAME:PST
DTSTART:20251102T090000
END:STANDARD
BEGIN:DAYLIGHT
TZOFFSETFROM:-0800
TZOFFSETTO:-0700
TZNAME:PDT
DTSTART:20260308T100000
END:DAYLIGHT
BEGIN:STANDARD
TZOFFSETFROM:-0700
TZOFFSETTO:-0800
TZNAME:PST
DTSTART:20261101T090000
END:STANDARD
BEGIN:DAYLIGHT
TZOFFSETFROM:-0800
TZOFFSETTO:-0700
TZNAME:PDT
DTSTART:20270314T100000
END:DAYLIGHT
BEGIN:STANDARD
TZOFFSETFROM:-0700
TZOFFSETTO:-0800
TZNAME:PST
DTSTART:20271107T090000
END:STANDARD
END:VTIMEZONE
BEGIN:VEVENT
DTSTART;VALUE=DATE:20260501
DTEND;VALUE=DATE:20260504
DTSTAMP:20260423T104818
CREATED:20260409T201151Z
LAST-MODIFIED:20260409T212849Z
UID:10002166-1777593600-1777852799@web2.d11s.org
SUMMARY:Div 07 – Westcoast Sportfishing/Outdoor Boat Show
DESCRIPTION:Div 07 – PA RBS: Westcoast Sportfishing/Outdoor Boat Show\nMay 1 – 3\, 2026\nVentura County Fairgrounds and Event Center\n10 E Harbor Blvd\, Ventura\, CA 93001\, USA\nPublic affairs: RBS Outreach May 1-3\, 2026. Ventura Fairgrounds.
URL:https://web2.d11s.org/event/div-07-westcoast-sportfishing-outdoor-boat-show/
CATEGORIES:Special Event
ATTACH;FMTTYPE=image/png:https://web2.d11s.org/wp-content/uploads/2026/04/nsbc-wear-it-logo-transparent-4.png
END:VEVENT
BEGIN:VEVENT
DTSTART;TZID=America/Los_Angeles:20260502T100000
DTEND;TZID=America/Los_Angeles:20260502T150000
DTSTAMP:20260423T104818
CREATED:20260409T213151Z
LAST-MODIFIED:20260409T213151Z
UID:10002167-1777716000-1777734000@web2.d11s.org
SUMMARY:Div 07 / Flotilla 7-2: Boat Specialists Show
DESCRIPTION:Div 07 / Flotilla 7-2: Boat Specialists Show\nSaturday\, May 2\nBoat Specialists – Showroom\n2900 Golf Course Dr\, Ventura\, CA 93003\, USA
URL:https://web2.d11s.org/event/div-07-flotilla-7-2-boat-specialists-show/
CATEGORIES:Special Event
ATTACH;FMTTYPE=image/png:https://web2.d11s.org/wp-content/uploads/2026/04/nsbc-wear-it-logo-transparent-5.png
END:VEVENT
BEGIN:VEVENT
DTSTART;TZID=America/Los_Angeles:20260509T100000
DTEND;TZID=America/Los_Angeles:20260509T140000
DTSTAMP:20260423T104818
CREATED:20260411T144728Z
LAST-MODIFIED:20260414T203253Z
UID:10002187-1778320800-1778335200@web2.d11s.org
SUMMARY:Div 7 FL 07-02 Lions Club Carnival
DESCRIPTION:Service Organizations Carnival\nSat May 9\, 10AM-2PM\nConstitution Park\, Camarillo CA\nHosted: Lions Club Somis Pleasant Valley\nContact Robert Hamming for more informatin\nFlotilla 114-07-02
URL:https://web2.d11s.org/event/div-7-fl-07-02-lyons-club-carnival/
CATEGORIES:Special Event
ATTACH;FMTTYPE=image/png:https://web2.d11s.org/wp-content/uploads/2026/04/nsbc-wear-it-logo-transparent-20.png
END:VEVENT
BEGIN:VEVENT
DTSTART;TZID=America/Los_Angeles:20260509T100000
DTEND;TZID=America/Los_Angeles:20260509T150000
DTSTAMP:20260423T104818
CREATED:20260409T195154Z
LAST-MODIFIED:20260409T212501Z
UID:10002102-1778320800-1778338800@web2.d11s.org
SUMMARY:Point Vicente Lighthouse Open House
DESCRIPTION:2nd Saturday of every month\, Monthly Open Houses at the Point Vicente Lighthouse\, 1000-1500\, rain or shine. POC USCG Capt (ret) “Kip” Louttit\, Mobile:  310 897 1714
URL:https://web2.d11s.org/event/point-vicente-lighthouse-open-house/2026-05-09/
CATEGORIES:Special Event
ATTACH;FMTTYPE=image/png:https://web2.d11s.org/wp-content/uploads/2026/04/nsbc-wear-it-logo-transparent-1.png
END:VEVENT
BEGIN:VEVENT
DTSTART;VALUE=DATE:20260516
DTEND;VALUE=DATE:20260517
DTSTAMP:20260423T104818
CREATED:20260409T213842Z
LAST-MODIFIED:20260409T215351Z
UID:10002170-1778889600-1778975999@web2.d11s.org
SUMMARY:Div 12 & 06 Torrance Armed Forces Day Parade
DESCRIPTION:Div 12 & 06 Torrance Armed Forces Day Parade\nSaturday\, May 16\nTorrance\nTorrance\, CA\, USA\nhttps://www.torranceca.gov/home/showpublishedimage/23981/638831819883170000
URL:https://web2.d11s.org/event/div-12-06-torrance-armed-forces-day-parade/
CATEGORIES:Special Event
ATTACH;FMTTYPE=image/png:https://web2.d11s.org/wp-content/uploads/2026/04/nsbc-wear-it-logo-transparent-8.png
END:VEVENT
BEGIN:VEVENT
DTSTART;TZID=America/Los_Angeles:20260516T090000
DTEND;TZID=America/Los_Angeles:20260516T170000
DTSTAMP:20260423T104818
CREATED:20260409T213358Z
LAST-MODIFIED:20260409T213358Z
UID:10002168-1778922000-1778950800@web2.d11s.org
SUMMARY:Div 07 / Flotilla 7-2: NSBW/ Safe Boating Expo
DESCRIPTION:Div 07 / Flotilla 7-2: NSBW/ Safe Boating Expo\nSaturday\, May 16\nChannel Islands Maritime Museum\n3900 Bluefin Cir\, Oxnard\, CA 93035\, USA\nAux Div 7\, Flotilla 7-2\, National Safe Boating Week (Expo). In Partnership with Ventura Harbor Patrol.
URL:https://web2.d11s.org/event/div-07-flotilla-7-2-nsbw-safe-boating-expo/
CATEGORIES:Special Event
ATTACH;FMTTYPE=image/png:https://web2.d11s.org/wp-content/uploads/2026/04/nsbc-wear-it-logo-transparent-6.png
END:VEVENT
BEGIN:VEVENT
DTSTART;TZID=America/Los_Angeles:20260516T100000
DTEND;TZID=America/Los_Angeles:20260516T130000
DTSTAMP:20260423T104818
CREATED:20260409T213602Z
LAST-MODIFIED:20260409T213602Z
UID:10002169-1778925600-1778936400@web2.d11s.org
SUMMARY:Div 07 / Flotilla 7-61 Safe Boating Day Morro Bay
DESCRIPTION:Div 07 / Flotilla 7-61 May 16 Safe Boating Day Morro Bay North T Pier\nSaturday\, May 16\nMay 16 Safe Boating Day Morro Bay North T Pier 10am-1pm
URL:https://web2.d11s.org/event/div-07-flotilla-7-61-safe-boating-day-morro-bay/
CATEGORIES:Special Event
ATTACH;FMTTYPE=image/png:https://web2.d11s.org/wp-content/uploads/2026/04/nsbc-wear-it-logo-transparent-7.png
END:VEVENT
BEGIN:VEVENT
DTSTART;TZID=America/Los_Angeles:20260516T100000
DTEND;TZID=America/Los_Angeles:20260516T150000
DTSTAMP:20260423T104818
CREATED:20260409T214123Z
LAST-MODIFIED:20260409T214123Z
UID:10002171-1778925600-1778943600@web2.d11s.org
SUMMARY:Div. 01 : Ocean Beach Kite Festival
DESCRIPTION:Div. 01 : Ocean Beach Kite Festival\nSaturday\, May 16\nOcean Beach\nOcean Beach\, San Diego\, CA\, USA\nDivision 1: May 16. 2026 Ocean Beach Kite Festival
URL:https://web2.d11s.org/event/div-01-ocean-beach-kite-festival/
CATEGORIES:Special Event
ATTACH;FMTTYPE=image/png:https://web2.d11s.org/wp-content/uploads/2026/04/nsbc-wear-it-logo-transparent-9.png
END:VEVENT
BEGIN:VEVENT
DTSTART;TZID=America/Los_Angeles:20260517T100000
DTEND;TZID=America/Los_Angeles:20260517T150000
DTSTAMP:20260423T104818
CREATED:20260409T214317Z
LAST-MODIFIED:20260409T214317Z
UID:10002172-1779012000-1779030000@web2.d11s.org
SUMMARY:Div 07 / Flotilla 7-61 Safe Boating Day San Luis Avila Beach
DESCRIPTION:Div 07 / Flotilla 7-61 Safe Boating Day San Luis Avila Beach\nSunday\, May 17\nMay 17 Safe Boating Day Port San Luis Avila Beach by Coastal Gateway Bldg
URL:https://web2.d11s.org/event/div-07-flotilla-7-61-safe-boating-day-san-luis-avila-beach/
CATEGORIES:Special Event
ATTACH;FMTTYPE=image/png:https://web2.d11s.org/wp-content/uploads/2026/04/nsbc-wear-it-logo-transparent-10.png
END:VEVENT
BEGIN:VEVENT
DTSTART;TZID=America/Los_Angeles:20260530T080000
DTEND;TZID=America/Los_Angeles:20260530T170000
DTSTAMP:20260423T104818
CREATED:20260409T215009Z
LAST-MODIFIED:20260409T215009Z
UID:10002173-1780128000-1780160400@web2.d11s.org
SUMMARY:Div 07 Flotilla 7-61 Boat America - Morro Bay
DESCRIPTION:Div 07 Flotilla 7-61 Boat America – Morro Bay\nSaturday\, May 30
URL:https://web2.d11s.org/event/div-07-flotilla-7-61-boat-america-morro-bay/
CATEGORIES:Special Event
ATTACH;FMTTYPE=image/png:https://web2.d11s.org/wp-content/uploads/2026/04/USCGAux_logo-min.png
END:VEVENT
END:VCALENDAR