BEGIN:VCALENDAR
VERSION:2.0
PRODID:-//US Coast Guard Auxiliary-D11S - ECPv6.15.20//NONSGML v1.0//EN
CALSCALE:GREGORIAN
METHOD:PUBLISH
X-WR-CALNAME:US Coast Guard Auxiliary-D11S
X-ORIGINAL-URL:https://web2.d11s.org
X-WR-CALDESC:Events for US Coast Guard Auxiliary-D11S
REFRESH-INTERVAL;VALUE=DURATION:PT1H
X-Robots-Tag:noindex
X-PUBLISHED-TTL:PT1H
BEGIN:VTIMEZONE
TZID:America/Los_Angeles
BEGIN:DAYLIGHT
TZOFFSETFROM:-0800
TZOFFSETTO:-0700
TZNAME:PDT
DTSTART:20250309T100000
END:DAYLIGHT
BEGIN:STANDARD
TZOFFSETFROM:-0700
TZOFFSETTO:-0800
TZNAME:PST
DTSTART:20251102T090000
END:STANDARD
BEGIN:DAYLIGHT
TZOFFSETFROM:-0800
TZOFFSETTO:-0700
TZNAME:PDT
DTSTART:20260308T100000
END:DAYLIGHT
BEGIN:STANDARD
TZOFFSETFROM:-0700
TZOFFSETTO:-0800
TZNAME:PST
DTSTART:20261101T090000
END:STANDARD
BEGIN:DAYLIGHT
TZOFFSETFROM:-0800
TZOFFSETTO:-0700
TZNAME:PDT
DTSTART:20270314T100000
END:DAYLIGHT
BEGIN:STANDARD
TZOFFSETFROM:-0700
TZOFFSETTO:-0800
TZNAME:PST
DTSTART:20271107T090000
END:STANDARD
END:VTIMEZONE
BEGIN:VEVENT
DTSTART;VALUE=DATE:20260804
DTEND;VALUE=DATE:20260805
DTSTAMP:20260423T172814
CREATED:20260414T204105Z
LAST-MODIFIED:20260414T204151Z
UID:10002188-1785801600-1785887999@web2.d11s.org
SUMMARY:Coast Guard Day Aug 4
DESCRIPTION:commemorate the founding of the United States Coast Guard as the Revenue-Marine on August 4\, 1790\, by then-Secretary of the Treasury Alexander Hamilton. On that date\, U.S. Congress\, guided by Hamilton\, authorized the building of a fleet of the first ten Revenue Service cutters\, whose responsibility would be enforcement of the first tariff laws enacted by the U.S. Congress under the U.S. Constitution.
URL:https://web2.d11s.org/event/coast-guard-day-aug-4/
CATEGORIES:Special Event
ATTACH;FMTTYPE=image/jpeg:https://web2.d11s.org/wp-content/uploads/2026/04/USCG-Clip-art.jpeg
END:VEVENT
END:VCALENDAR