BEGIN:VCALENDAR
VERSION:2.0
PRODID:-//US Coast Guard Auxiliary-D11S - ECPv6.15.20//NONSGML v1.0//EN
CALSCALE:GREGORIAN
METHOD:PUBLISH
X-WR-CALNAME:US Coast Guard Auxiliary-D11S
X-ORIGINAL-URL:https://web2.d11s.org
X-WR-CALDESC:Events for US Coast Guard Auxiliary-D11S
REFRESH-INTERVAL;VALUE=DURATION:PT1H
X-Robots-Tag:noindex
X-PUBLISHED-TTL:PT1H
BEGIN:VTIMEZONE
TZID:America/Los_Angeles
BEGIN:DAYLIGHT
TZOFFSETFROM:-0800
TZOFFSETTO:-0700
TZNAME:PDT
DTSTART:20220313T100000
END:DAYLIGHT
BEGIN:STANDARD
TZOFFSETFROM:-0700
TZOFFSETTO:-0800
TZNAME:PST
DTSTART:20221106T090000
END:STANDARD
BEGIN:DAYLIGHT
TZOFFSETFROM:-0800
TZOFFSETTO:-0700
TZNAME:PDT
DTSTART:20230312T100000
END:DAYLIGHT
BEGIN:STANDARD
TZOFFSETFROM:-0700
TZOFFSETTO:-0800
TZNAME:PST
DTSTART:20231105T090000
END:STANDARD
BEGIN:DAYLIGHT
TZOFFSETFROM:-0800
TZOFFSETTO:-0700
TZNAME:PDT
DTSTART:20240310T100000
END:DAYLIGHT
BEGIN:STANDARD
TZOFFSETFROM:-0700
TZOFFSETTO:-0800
TZNAME:PST
DTSTART:20241103T090000
END:STANDARD
BEGIN:DAYLIGHT
TZOFFSETFROM:-0800
TZOFFSETTO:-0700
TZNAME:PDT
DTSTART:20250309T100000
END:DAYLIGHT
BEGIN:STANDARD
TZOFFSETFROM:-0700
TZOFFSETTO:-0800
TZNAME:PST
DTSTART:20251102T090000
END:STANDARD
BEGIN:DAYLIGHT
TZOFFSETFROM:-0800
TZOFFSETTO:-0700
TZNAME:PDT
DTSTART:20260308T100000
END:DAYLIGHT
BEGIN:STANDARD
TZOFFSETFROM:-0700
TZOFFSETTO:-0800
TZNAME:PST
DTSTART:20261101T090000
END:STANDARD
BEGIN:DAYLIGHT
TZOFFSETFROM:-0800
TZOFFSETTO:-0700
TZNAME:PDT
DTSTART:20270314T100000
END:DAYLIGHT
BEGIN:STANDARD
TZOFFSETFROM:-0700
TZOFFSETTO:-0800
TZNAME:PST
DTSTART:20271107T090000
END:STANDARD
END:VTIMEZONE
BEGIN:VEVENT
DTSTART;TZID=America/Los_Angeles:20260419T110000
DTEND;TZID=America/Los_Angeles:20260419T150000
DTSTAMP:20260423T121826
CREATED:20260409T200304Z
LAST-MODIFIED:20260409T214613Z
UID:10002163-1776596400-1776610800@web2.d11s.org
SUMMARY:Div 07 Flotilla 07-02 Celebration of the Whale of the Day
DESCRIPTION:Div 07 Flotilla 07-02 Celebration of the Whale of the Day\nSunday\, April 19⋅11:00am – 3:00pm\nChannel Islands Harbor is excited to welcome the community to the 27th Annual Celebration of the Whales Festival\, taking place from 11 a.m. to 3 p.m. on Sunday\, April 19\, 2026. \nA beloved Harbor tradition\, this free\, family-friendly event celebrates the incredible migration of the Pacific Gray Whale with a full day of interactive activities\, education\, and ocean-inspired fun. \nThis year’s festival will feature a community art project\, colorful chalk art\, shopping\, a children’s fun zone\, and more. Activities will take place at the Channel Islands Maritime Museum\, Channel Islands Boating Center\, the Harbor Farmers Market\, and along the popular “Gray Whale Migration Trail” through Harbor View Park\, connecting the event’s main activity hubs.
URL:https://web2.d11s.org/event/div-07-flotilla-07-02-celebration-of-the-whale-of-the-day/
CATEGORIES:Special Event
ATTACH;FMTTYPE=image/png:https://web2.d11s.org/wp-content/uploads/2026/04/nsbc-wear-it-logo-transparent-11.png
END:VEVENT
BEGIN:VEVENT
DTSTART;TZID=America/Los_Angeles:20260418T090000
DTEND;TZID=America/Los_Angeles:20260418T120000
DTSTAMP:20260423T121826
CREATED:20260409T195908Z
LAST-MODIFIED:20260409T212650Z
UID:10002162-1776502800-1776513600@web2.d11s.org
SUMMARY:Div 11 Earth Day – Upland
DESCRIPTION:Div 11 Earth Day – Upland\nSaturday\, April 18\nGreenbelt Park in Upland. Event starts at 0900 hrs and goes to 1200 hrs.
URL:https://web2.d11s.org/event/div-11-earth-day-upland/
CATEGORIES:Special Event
ATTACH;FMTTYPE=image/png:https://web2.d11s.org/wp-content/uploads/2026/04/nsbc-wear-it-logo-transparent-3.png
END:VEVENT
BEGIN:VEVENT
DTSTART;VALUE=DATE:20260416
DTEND;VALUE=DATE:20260420
DTSTAMP:20260423T121826
CREATED:20260409T195601Z
LAST-MODIFIED:20260409T212615Z
UID:10002161-1776297600-1776643199@web2.d11s.org
SUMMARY:Div 06 Newport Beach Intl Boat Show
DESCRIPTION:Div 06 Newport Beach Intl Boat Show\nApril 16 – 19\, 2026
URL:https://web2.d11s.org/event/div-06-newport-beach-intl-boat-show/
CATEGORIES:Special Event
ATTACH;FMTTYPE=image/png:https://web2.d11s.org/wp-content/uploads/2026/04/nsbc-wear-it-logo-transparent-2.png
END:VEVENT
BEGIN:VEVENT
DTSTART;TZID=America/Los_Angeles:20260411T100000
DTEND;TZID=America/Los_Angeles:20260411T150000
DTSTAMP:20260423T121826
CREATED:20260409T195154Z
LAST-MODIFIED:20260409T212501Z
UID:10002101-1775901600-1775919600@web2.d11s.org
SUMMARY:Point Vicente Lighthouse Open House
DESCRIPTION:2nd Saturday of every month\, Monthly Open Houses at the Point Vicente Lighthouse\, 1000-1500\, rain or shine. POC USCG Capt (ret) “Kip” Louttit\, Mobile:  310 897 1714
URL:https://web2.d11s.org/event/point-vicente-lighthouse-open-house/2026-04-11/
CATEGORIES:Special Event
ATTACH;FMTTYPE=image/png:https://web2.d11s.org/wp-content/uploads/2026/04/nsbc-wear-it-logo-transparent-1.png
END:VEVENT
BEGIN:VEVENT
DTSTART;TZID=America/Los_Angeles:20250316T100000
DTEND;TZID=America/Los_Angeles:20250316T140000
DTSTAMP:20260423T121826
CREATED:20241214T073720Z
LAST-MODIFIED:20241214T073720Z
UID:10001655-1742119200-1742133600@web2.d11s.org
SUMMARY:DIV 7 CHANGE OF WATCH
DESCRIPTION:Division 114-07 Channel Islands\nCHANGE OF WATCH\nAwards And Fellowship Brunch\nSunday March 16\, 2025\nFellowship 10:00 a.m.    Brunch 11:00 a.m.\nRSVP starting January 2025 \nPacific Corinthian Yacht Club\nOxnard\, CA
URL:https://web2.d11s.org/event/div-7-change-of-watch/
CATEGORIES:Special Event
ATTACH;FMTTYPE=image/png:https://web2.d11s.org/wp-content/uploads/2024/12/Division11407-Logo-rope-2024.png
END:VEVENT
BEGIN:VEVENT
DTSTART;TZID=America/Los_Angeles:20250118T090000
DTEND;TZID=America/Los_Angeles:20250118T130000
DTSTAMP:20260423T121826
CREATED:20241122T184544Z
LAST-MODIFIED:20241122T184544Z
UID:10001652-1737190800-1737205200@web2.d11s.org
SUMMARY:Suddenly in Command
DESCRIPTION:Public Education Class: The captain becomes incapacitated or falls overboard; you purchase a new boat for the first time. You are Suddenly in Command. This boating safety primer is designed for those not generally at the helm and will help you to be prepared with the basics in case of an emergency.  \nCourse location: Quad Area\, 4980 N. Harbor Dr. San Diego\, CA 92106. Contact Mark Anning at ma.uscg.aux@gmail.com for details and registration
URL:https://web2.d11s.org/event/suddenly-in-command-4/
CATEGORIES:Special Event
ORGANIZER;CN="District 11":MAILTO:crosario.uscgaux@gmail.com
END:VEVENT
BEGIN:VEVENT
DTSTART;VALUE=DATE:20241020
DTEND;VALUE=DATE:20241021
DTSTAMP:20260423T121826
CREATED:20240905T184946Z
LAST-MODIFIED:20240905T184946Z
UID:10001581-1729382400-1729468799@web2.d11s.org
SUMMARY:Boat America Class
DESCRIPTION:Boat America class offered by Flotilla 7-61.\nPE Instructors: Donna Banks\, Charlie Cohn\, Mike Fiamingo\, Neil Malpiede\, and Dave Naumann.
URL:https://web2.d11s.org/event/boat-america-class-4/
LOCATION:In Person
CATEGORIES:Special Event
END:VEVENT
BEGIN:VEVENT
DTSTART;VALUE=DATE:20240817
DTEND;VALUE=DATE:20240819
DTSTAMP:20260423T121827
CREATED:20240702T054105Z
LAST-MODIFIED:20240702T054105Z
UID:10001569-1723852800-1724025599@web2.d11s.org
SUMMARY:Wings Over Camarillo Airshow
DESCRIPTION:Saturday & Sunday August 17-18\, 2024\nAt the 43rd Annual  Wings Over Camarillo Air Show\, Thousands of paid visitors have the opportunity to see able to view a wide variety of air show performers\, both in the sky and on the ground\, static aircraft display models\, reenactment camps\, airplane and helicopter rides\, along with hands-on experiences for the whole family. \nThis is a really fun event which includes USCG Helicopter display and exciting airshow from Navy and private acrobatics\, parachute jumpers\, classic car show\, STEM display\, multiple food vendors\, and family fun. Several thousand people attend daily.  FREE to our Aux booth staff\, but paid admission to the public.  This has been an excellent event for Auxiliary VSC and class\, and Aux recruiting sign-ups for last few years! \nContact Patrick Newburn\, Division Commander 114-07 and Public Affairs Specialist 3 auxnewburn@gmail.com
URL:https://web2.d11s.org/event/wings-over-camarillo-airshow-2/
CATEGORIES:Special Event
ATTACH;FMTTYPE=image/jpeg:https://web2.d11s.org/wp-content/uploads/2024/07/52303168845_6d47357ccc_b-1266606321.jpg
END:VEVENT
BEGIN:VEVENT
DTSTART;TZID=America/Los_Angeles:20240720T093000
DTEND;TZID=America/Los_Angeles:20240720T173000
DTSTAMP:20260423T121827
CREATED:20240618T145711Z
LAST-MODIFIED:20240618T145711Z
UID:10001565-1721467800-1721496600@web2.d11s.org
SUMMARY:Las Vegas Public Education / Boat America Course
DESCRIPTION:Boat America\nSat\, 20 Jul 2024\n9:30 AM – 5:30 PM  \nBass Pro Shops\, 2nd Floor\, Conservation Room\n8200 Dean Martin Drive Las Vegas\, NV 89139  \nTo register or for more information\, please contact: Leslie Pelosi lesliepelosi@yahoo.com (805) 501-3962
URL:https://web2.d11s.org/event/las-vegas-public-education-boat-america-course/
CATEGORIES:Special Event
ORGANIZER;CN="District 11":MAILTO:crosario.uscgaux@gmail.com
END:VEVENT
BEGIN:VEVENT
DTSTART;TZID=America/Los_Angeles:20240629T080000
DTEND;TZID=America/Los_Angeles:20240629T163000
DTSTAMP:20260423T121827
CREATED:20240328T212643Z
LAST-MODIFIED:20240328T212643Z
UID:10001535-1719648000-1719678600@web2.d11s.org
SUMMARY:Boat America Class
DESCRIPTION:Morro Bay Flotilla 7-61 is offering this boating safety class at San Luis Obispo Sport Association\, 3280 Gilardi Road (Education Bldg)\, San Luis Obispo\, Ca 93405.\nPIC: Donna Banks\, FSO-PE
URL:https://web2.d11s.org/event/boat-america-class-3/
LOCATION:In Person
CATEGORIES:Special Event
END:VEVENT
BEGIN:VEVENT
DTSTART;TZID=America/Los_Angeles:20240622T083000
DTEND;TZID=America/Los_Angeles:20240622T140000
DTSTAMP:20260423T121827
CREATED:20240619T064727Z
LAST-MODIFIED:20240619T064727Z
UID:10001567-1719045000-1719064800@web2.d11s.org
SUMMARY:Flotilla 114-07-03 RBS at Lake Piru CA
DESCRIPTION:Flotilla 114-07-03 RBS at Lake Piru CA\nSat June 22 0830-1400\nVE\nPA\nFellowship BBQ
URL:https://web2.d11s.org/event/flotilla-114-07-03-rbs-at-lake-piru-ca/
CATEGORIES:Fellowship,Special Event
END:VEVENT
BEGIN:VEVENT
DTSTART;TZID=America/Los_Angeles:20240521T100000
DTEND;TZID=America/Los_Angeles:20240521T230000
DTSTAMP:20260423T121827
CREATED:20240427T052701Z
LAST-MODIFIED:20240427T052701Z
UID:10001542-1716285600-1716332400@web2.d11s.org
SUMMARY:City of Santa Monica Mayor Brock presents Safe Boating Week proclamation
DESCRIPTION:Mayor Brock will present the Safe Boating Week proclamation for the City of Santa Monica to Division 12.
URL:https://web2.d11s.org/event/city-of-santa-monica-mayor-brock-presents-safe-boating-week-proclamation/
CATEGORIES:Special Event
END:VEVENT
BEGIN:VEVENT
DTSTART;TZID=America/Los_Angeles:20240521T100000
DTEND;TZID=America/Los_Angeles:20240521T140000
DTSTAMP:20260423T121827
CREATED:20240427T051600Z
LAST-MODIFIED:20240427T051600Z
UID:10001541-1716285600-1716300000@web2.d11s.org
SUMMARY:West Marine RBS outreach Marina Del Rey
DESCRIPTION:Staffing an RBS Outreach table in the store answering the public’s questions and encouraging safe boating and education.
URL:https://web2.d11s.org/event/west-marine-rbs-outreach-marina-del-rey/
CATEGORIES:Special Event
ATTACH;FMTTYPE=image/jpeg:https://web2.d11s.org/wp-content/uploads/2024/04/IMG_8418aa.jpg
END:VEVENT
BEGIN:VEVENT
DTSTART;VALUE=DATE:20240518
DTEND;VALUE=DATE:20240525
DTSTAMP:20260423T121827
CREATED:20240429T191717Z
LAST-MODIFIED:20240429T191717Z
UID:10001544-1715990400-1716595199@web2.d11s.org
SUMMARY:Safe Boating Week
DESCRIPTION:Each year the third Saturday in May starts National Safe Boating Week\, the kick-off of the annual Safe Boating Campaign. It runs through the following Friday to serve as an important boating safety reminder before the Memorial Day weekend.
URL:https://web2.d11s.org/event/safe-boating-week/
CATEGORIES:Special Event
END:VEVENT
BEGIN:VEVENT
DTSTART;VALUE=DATE:20240517
DTEND;VALUE=DATE:20240518
DTSTAMP:20260423T121827
CREATED:20240429T191355Z
LAST-MODIFIED:20240429T191355Z
UID:10001543-1715904000-1715990399@web2.d11s.org
SUMMARY:Wear Your Lifejacket to Work Day
DESCRIPTION:The Safe Boating Council encourages all boaters to participate in Wear Your Life Jacket at Work Day on May 17\, 2024\, the day before National Safe Boating Week. No matter where boaters are working\, they can join in the fun by wearing their life jacket and posting creative pictures on social media for a chance to win a prize. \nThis is a great way to encourage others to boat responsibly. \nHow to Participate \nBoaters share a picture of themselves wearing a life jacket at work (or home) on social media along with the hashtag #wearyourlifejacketatworkday and tag @boatingcampaign (Facebook\, Twitter\, or Instagram). \nDon’t use social media? Email photos to outreach@safeboatingcouncil.org. \nChance to Win a Prize \nWinners will be chosen randomly throughout the day to receive boating swag from the Safe Boating Campaign\, such as t-shirts\, dry bags\, first aid kits\, stickers\, and more. \nNational Safe Boating Week Toolkit
URL:https://web2.d11s.org/event/wear-your-lifejacket-to-work-day/
CATEGORIES:Special Event
ATTACH;FMTTYPE=image/jpeg:https://web2.d11s.org/wp-content/uploads/2024/04/sbc-wyljwd-2020.jpeg
END:VEVENT
BEGIN:VEVENT
DTSTART;TZID=America/Los_Angeles:20240501T183000
DTEND;TZID=America/Los_Angeles:20240501T210000
DTSTAMP:20260423T121827
CREATED:20240429T192218Z
LAST-MODIFIED:20240429T192218Z
UID:10001545-1714588200-1714597200@web2.d11s.org
SUMMARY:Suddenly In Command
DESCRIPTION:The captain becomes incapacitated or falls overboard; you purchase a new boat for the first time. You are Suddenly in Command. This boating safety primer is designed for those not generally at the helm\, and will help you to be prepared with the basics in case of an emergency
URL:https://web2.d11s.org/event/suddenly-in-command-3/
LOCATION:Virtual Event
CATEGORIES:Special Event
END:VEVENT
BEGIN:VEVENT
DTSTART;TZID=America/Los_Angeles:20240413T080000
DTEND;TZID=America/Los_Angeles:20240413T180000
DTSTAMP:20260423T121827
CREATED:20240307T012507Z
LAST-MODIFIED:20240307T012507Z
UID:10001529-1712995200-1713031200@web2.d11s.org
SUMMARY:Division 114-06 Hosts Narwhal in Dana Point
DESCRIPTION:CGC Narwhal will be docked at the DP Ocean Institute on Saturday April 13. in Dana Point Harbor.\nPublic Tours of the ship are coordinated with CG crew\, Auxiliary members\, and Ocean Institute personnel.\nTours from 1000 – 1500\n4th cornerstone BBQ from 1630 – 1800
URL:https://web2.d11s.org/event/division-114-06-hosts-narwhal-in-dana-point/
CATEGORIES:Fellowship,Special Event
END:VEVENT
BEGIN:VEVENT
DTSTART;VALUE=DATE:20240407
DTEND;VALUE=DATE:20240408
DTSTAMP:20260423T121827
CREATED:20240212T222224Z
LAST-MODIFIED:20240212T222224Z
UID:10001338-1712448000-1712534399@web2.d11s.org
SUMMARY:Boat America Course (Avila Beach\, CA)
DESCRIPTION:Boat America is a boating certificate class that offers an in-depth and interesting boating safety class and provides the knowledge needed to obtain a boating certificate. Classes are offered to the public and give you the basic knowledge needed to obtain a boat license or safety certification . RSVP befor April 3: Contact Aux Dave Naumann 408-497-5667. Location is Avial Beach\, CA.
URL:https://web2.d11s.org/event/boat-america-course-avila-beach-ca/
CATEGORIES:Special Event
ATTACH;FMTTYPE=image/jpeg:https://web2.d11s.org/wp-content/uploads/2024/02/BoatAmerica_logo.jpg
END:VEVENT
BEGIN:VEVENT
DTSTART;VALUE=DATE:20240407
DTEND;VALUE=DATE:20240408
DTSTAMP:20260423T121827
CREATED:20240212T183539Z
LAST-MODIFIED:20240212T183539Z
UID:10001337-1712448000-1712534399@web2.d11s.org
SUMMARY:Boat America Class
DESCRIPTION:USCG Auxiliary Boat America Class\nPort San Luis\nCoastal Gateway Meeting Room\n3900 Avila Beach Dr.\nAvila Beach\, CA 93405
URL:https://web2.d11s.org/event/boat-america-class-2/
LOCATION:In Person
CATEGORIES:Special Event
END:VEVENT
BEGIN:VEVENT
DTSTART;TZID=America/Los_Angeles:20240324T090000
DTEND;TZID=America/Los_Angeles:20240324T160000
DTSTAMP:20260423T121827
CREATED:20240304T225257Z
LAST-MODIFIED:20240304T225257Z
UID:10001470-1711270800-1711296000@web2.d11s.org
SUMMARY:Bass Pro Shops - Spring Fishing Classic
DESCRIPTION:The Spring Fishing Classic. This annual three-week event is how Bass Pro Shops kicks off the boating and fishing season. Accompanying their big sale on items throughout the store (particularly rods and reels)\, they invite local organizations and vendors to set up tables\, pass out material and speak to the public. \nSign Up Form:\nhttps://docs.google.com/forms/d/e/1FAIpQLScHpj3SssEwoHIhQOEH92DdNtE93WTzEfHChOaczjO_5McG2g/viewform?usp=sf_link
URL:https://web2.d11s.org/event/bass-pro-shops-spring-fishing-classic/2024-03-24/
LOCATION:In Person
CATEGORIES:Special Event
ATTACH;FMTTYPE=image/png:https://web2.d11s.org/wp-content/uploads/2024/03/DIV-11-Logo.png
END:VEVENT
BEGIN:VEVENT
DTSTART;TZID=America/Los_Angeles:20240323T090000
DTEND;TZID=America/Los_Angeles:20240323T160000
DTSTAMP:20260423T121827
CREATED:20240304T225257Z
LAST-MODIFIED:20240304T225257Z
UID:10001469-1711184400-1711209600@web2.d11s.org
SUMMARY:Bass Pro Shops - Spring Fishing Classic
DESCRIPTION:The Spring Fishing Classic. This annual three-week event is how Bass Pro Shops kicks off the boating and fishing season. Accompanying their big sale on items throughout the store (particularly rods and reels)\, they invite local organizations and vendors to set up tables\, pass out material and speak to the public. \nSign Up Form:\nhttps://docs.google.com/forms/d/e/1FAIpQLScHpj3SssEwoHIhQOEH92DdNtE93WTzEfHChOaczjO_5McG2g/viewform?usp=sf_link
URL:https://web2.d11s.org/event/bass-pro-shops-spring-fishing-classic/2024-03-23/
LOCATION:In Person
CATEGORIES:Special Event
ATTACH;FMTTYPE=image/png:https://web2.d11s.org/wp-content/uploads/2024/03/DIV-11-Logo.png
END:VEVENT
BEGIN:VEVENT
DTSTART;TZID=America/Los_Angeles:20240317T090000
DTEND;TZID=America/Los_Angeles:20240317T160000
DTSTAMP:20260423T121827
CREATED:20240304T225257Z
LAST-MODIFIED:20240304T225257Z
UID:10001468-1710666000-1710691200@web2.d11s.org
SUMMARY:Bass Pro Shops - Spring Fishing Classic
DESCRIPTION:The Spring Fishing Classic. This annual three-week event is how Bass Pro Shops kicks off the boating and fishing season. Accompanying their big sale on items throughout the store (particularly rods and reels)\, they invite local organizations and vendors to set up tables\, pass out material and speak to the public. \nSign Up Form:\nhttps://docs.google.com/forms/d/e/1FAIpQLScHpj3SssEwoHIhQOEH92DdNtE93WTzEfHChOaczjO_5McG2g/viewform?usp=sf_link
URL:https://web2.d11s.org/event/bass-pro-shops-spring-fishing-classic/2024-03-17/
LOCATION:In Person
CATEGORIES:Special Event
ATTACH;FMTTYPE=image/png:https://web2.d11s.org/wp-content/uploads/2024/03/DIV-11-Logo.png
END:VEVENT
BEGIN:VEVENT
DTSTART;TZID=America/Los_Angeles:20240316T090000
DTEND;TZID=America/Los_Angeles:20240316T160000
DTSTAMP:20260423T121827
CREATED:20240304T225257Z
LAST-MODIFIED:20240304T225257Z
UID:10001467-1710579600-1710604800@web2.d11s.org
SUMMARY:Bass Pro Shops - Spring Fishing Classic
DESCRIPTION:The Spring Fishing Classic. This annual three-week event is how Bass Pro Shops kicks off the boating and fishing season. Accompanying their big sale on items throughout the store (particularly rods and reels)\, they invite local organizations and vendors to set up tables\, pass out material and speak to the public. \nSign Up Form:\nhttps://docs.google.com/forms/d/e/1FAIpQLScHpj3SssEwoHIhQOEH92DdNtE93WTzEfHChOaczjO_5McG2g/viewform?usp=sf_link
URL:https://web2.d11s.org/event/bass-pro-shops-spring-fishing-classic/2024-03-16/
LOCATION:In Person
CATEGORIES:Special Event
ATTACH;FMTTYPE=image/png:https://web2.d11s.org/wp-content/uploads/2024/03/DIV-11-Logo.png
END:VEVENT
BEGIN:VEVENT
DTSTART;TZID=America/Los_Angeles:20240316T080000
DTEND;TZID=America/Los_Angeles:20240316T110000
DTSTAMP:20260423T121827
CREATED:20240202T222512Z
LAST-MODIFIED:20240202T222512Z
UID:10001334-1710576000-1710586800@web2.d11s.org
SUMMARY:County Ventura St. Patrick's Day Parade
DESCRIPTION:Come join the Parade if you’re not attending DTRAIN! USCG Station Channel Islands to tow RBM vessel and coasties to walk along. Additionally have requested tHelicopter Fly-Over from FOB Pt. Mugu. Auxiliary POC is AUC Mike Brodey (818) 635-4833. https://www.venturastpatricksdayparade.com
URL:https://web2.d11s.org/event/county-ventura-st-patricks-day-parade/
CATEGORIES:Special Event
ATTACH;FMTTYPE=image/jpeg:https://web2.d11s.org/wp-content/uploads/2024/02/52753298696_3a69028cb0_c.jpg
END:VEVENT
BEGIN:VEVENT
DTSTART;TZID=America/Los_Angeles:20240310T100000
DTEND;TZID=America/Los_Angeles:20240310T140000
DTSTAMP:20260423T121827
CREATED:20231119T210530Z
LAST-MODIFIED:20231119T210530Z
UID:10001185-1710064800-1710079200@web2.d11s.org
SUMMARY:Change of Watch Award Brunch
DESCRIPTION:Division 114-07 – Channel Islands\nChange of Watch\nSunday 10 March 2024\n100-1400\nPacific Corinthian Yacht Club\n2600 Harbor Blvd\, Oxnard\, CA 93035
URL:https://web2.d11s.org/event/change-of-watch-award-brunch/
CATEGORIES:Special Event
ATTACH;FMTTYPE=image/png:https://web2.d11s.org/wp-content/uploads/2023/11/aux-Lonestar-proof-1.png
END:VEVENT
BEGIN:VEVENT
DTSTART;TZID=America/Los_Angeles:20240310T090000
DTEND;TZID=America/Los_Angeles:20240310T160000
DTSTAMP:20260423T121827
CREATED:20240304T225257Z
LAST-MODIFIED:20240304T225257Z
UID:10001466-1710061200-1710086400@web2.d11s.org
SUMMARY:Bass Pro Shops - Spring Fishing Classic
DESCRIPTION:The Spring Fishing Classic. This annual three-week event is how Bass Pro Shops kicks off the boating and fishing season. Accompanying their big sale on items throughout the store (particularly rods and reels)\, they invite local organizations and vendors to set up tables\, pass out material and speak to the public. \nSign Up Form:\nhttps://docs.google.com/forms/d/e/1FAIpQLScHpj3SssEwoHIhQOEH92DdNtE93WTzEfHChOaczjO_5McG2g/viewform?usp=sf_link
URL:https://web2.d11s.org/event/bass-pro-shops-spring-fishing-classic/2024-03-10/
LOCATION:In Person
CATEGORIES:Special Event
ATTACH;FMTTYPE=image/png:https://web2.d11s.org/wp-content/uploads/2024/03/DIV-11-Logo.png
END:VEVENT
BEGIN:VEVENT
DTSTART;TZID=America/Los_Angeles:20240309T090000
DTEND;TZID=America/Los_Angeles:20240309T160000
DTSTAMP:20260423T121827
CREATED:20240304T225257Z
LAST-MODIFIED:20240304T225257Z
UID:10001465-1709974800-1710000000@web2.d11s.org
SUMMARY:Bass Pro Shops - Spring Fishing Classic
DESCRIPTION:The Spring Fishing Classic. This annual three-week event is how Bass Pro Shops kicks off the boating and fishing season. Accompanying their big sale on items throughout the store (particularly rods and reels)\, they invite local organizations and vendors to set up tables\, pass out material and speak to the public. \nSign Up Form:\nhttps://docs.google.com/forms/d/e/1FAIpQLScHpj3SssEwoHIhQOEH92DdNtE93WTzEfHChOaczjO_5McG2g/viewform?usp=sf_link
URL:https://web2.d11s.org/event/bass-pro-shops-spring-fishing-classic/2024-03-09/
LOCATION:In Person
CATEGORIES:Special Event
ATTACH;FMTTYPE=image/png:https://web2.d11s.org/wp-content/uploads/2024/03/DIV-11-Logo.png
END:VEVENT
BEGIN:VEVENT
DTSTART;VALUE=DATE:20240224
DTEND;VALUE=DATE:20240226
DTSTAMP:20260423T121827
CREATED:20240202T223456Z
LAST-MODIFIED:20240202T223456Z
UID:10001335-1708732800-1708905599@web2.d11s.org
SUMMARY:PE Course" Boating Skills & Seamanship
DESCRIPTION:Division 7. Oxnard\, CA.  The U. S. Coast Guard Auxiliary’s Boating Skills and Seamanship (BS&S) course is a comprehensive boater certificate course designed for both the experienced and novice boater. The 2-day course consists of eight core lessons\, plus five elective lessons providing up-to-date knowledge for handling boats under all conditions.
URL:https://web2.d11s.org/event/pe-course-boating-skills-seamanship/
CATEGORIES:Special Event
ATTACH;FMTTYPE=image/jpeg:https://web2.d11s.org/wp-content/uploads/2024/02/BSSCover-2.jpg
END:VEVENT
BEGIN:VEVENT
DTSTART;TZID=America/Los_Angeles:20231111T100000
DTEND;TZID=America/Los_Angeles:20231111T120000
DTSTAMP:20260423T121827
CREATED:20231019T204120Z
LAST-MODIFIED:20231019T204120Z
UID:10001182-1699696800-1699704000@web2.d11s.org
SUMMARY:Arizona Division Veterans Day Events
DESCRIPTION:27th Annual Phoenix Veterans Day Parade\, Saturday\, November 11th\, Division 10 entry will have participants from Flotilla 10-01\, 10-3\, 10-07 and 10-08. \n10th Annual East Valley Veterans Parade\, Saturday\, November 11th.  Flotilla 10-11 will be representing the USCG and USCAUX at this event.
URL:https://web2.d11s.org/event/arizona-division-veterans-day-events/
CATEGORIES:Special Event
ATTACH;FMTTYPE=image/jpeg:https://web2.d11s.org/wp-content/uploads/2023/10/USCG-Balloon.jpg
END:VEVENT
BEGIN:VEVENT
DTSTART;TZID=America/Los_Angeles:20231111T080000
DTEND;TZID=America/Los_Angeles:20231111T120000
DTSTAMP:20260423T121827
CREATED:20230924T165230Z
LAST-MODIFIED:20230924T165230Z
UID:10001060-1699689600-1699704000@web2.d11s.org
SUMMARY:Veteran's Day Parade
DESCRIPTION:Annual Veterans Day parade in Las Vegas
URL:https://web2.d11s.org/event/veterans-day-parade/
CATEGORIES:Special Event
END:VEVENT
END:VCALENDAR