BEGIN:VCALENDAR
VERSION:2.0
PRODID:-//US Coast Guard Auxiliary-D11S - ECPv6.15.20//NONSGML v1.0//EN
CALSCALE:GREGORIAN
METHOD:PUBLISH
X-WR-CALNAME:US Coast Guard Auxiliary-D11S
X-ORIGINAL-URL:https://web2.d11s.org
X-WR-CALDESC:Events for US Coast Guard Auxiliary-D11S
REFRESH-INTERVAL;VALUE=DURATION:PT1H
X-Robots-Tag:noindex
X-PUBLISHED-TTL:PT1H
BEGIN:VTIMEZONE
TZID:America/Los_Angeles
BEGIN:DAYLIGHT
TZOFFSETFROM:-0800
TZOFFSETTO:-0700
TZNAME:PDT
DTSTART:20250309T100000
END:DAYLIGHT
BEGIN:STANDARD
TZOFFSETFROM:-0700
TZOFFSETTO:-0800
TZNAME:PST
DTSTART:20251102T090000
END:STANDARD
BEGIN:DAYLIGHT
TZOFFSETFROM:-0800
TZOFFSETTO:-0700
TZNAME:PDT
DTSTART:20260308T100000
END:DAYLIGHT
BEGIN:STANDARD
TZOFFSETFROM:-0700
TZOFFSETTO:-0800
TZNAME:PST
DTSTART:20261101T090000
END:STANDARD
BEGIN:DAYLIGHT
TZOFFSETFROM:-0800
TZOFFSETTO:-0700
TZNAME:PDT
DTSTART:20270314T100000
END:DAYLIGHT
BEGIN:STANDARD
TZOFFSETFROM:-0700
TZOFFSETTO:-0800
TZNAME:PST
DTSTART:20271107T090000
END:STANDARD
END:VTIMEZONE
BEGIN:VEVENT
DTSTART;TZID=America/Los_Angeles:20260309T183000
DTEND;TZID=America/Los_Angeles:20260309T200000
DTSTAMP:20260423T154934
CREATED:20240212T222904Z
LAST-MODIFIED:20240212T222904Z
UID:10001352-1773081000-1773086400@web2.d11s.org
SUMMARY:Division 114-07 Board Meeting
DESCRIPTION:Division 114-07 Board and Staff Officer Meeting. Held Monthly 2nd Monday of the month. Via Zoom.
URL:https://web2.d11s.org/event/division-114-07-board-meeting-2/2026-03-09/
CATEGORIES:Unit Meeting
ATTACH;FMTTYPE=image/jpeg:https://web2.d11s.org/wp-content/uploads/2024/02/Division11407-logo-good-2024-1.jpg
END:VEVENT
BEGIN:VEVENT
DTSTART;TZID=America/Los_Angeles:20260309T183000
DTEND;TZID=America/Los_Angeles:20260309T200000
DTSTAMP:20260423T154934
CREATED:20240212T223300Z
LAST-MODIFIED:20240212T223300Z
UID:10001393-1773081000-1773086400@web2.d11s.org
SUMMARY:Division 114-07 Board Meeting
DESCRIPTION:Division 114-07 Board and Staff Officer Meeting. Held Monthly 2nd Monday of the month. Via Zoom.
URL:https://web2.d11s.org/event/division-114-07-board-meeting-3/2026-03-09/
CATEGORIES:Unit Meeting
ATTACH;FMTTYPE=image/jpeg:https://web2.d11s.org/wp-content/uploads/2024/02/Division11407-logo-good-2024-2.jpg
END:VEVENT
BEGIN:VEVENT
DTSTART;TZID=America/Los_Angeles:20260316T190000
DTEND;TZID=America/Los_Angeles:20260316T203000
DTSTAMP:20260423T154934
CREATED:20240104T024713Z
LAST-MODIFIED:20240104T024713Z
UID:10001234-1773687600-1773693000@web2.d11s.org
SUMMARY:Division 1 Division meeting
DESCRIPTION:Division 1 monthly meeting at Sector San Diego
URL:https://web2.d11s.org/event/division-1-division-meeting/2026-03-16/
CATEGORIES:Unit Meeting
END:VEVENT
BEGIN:VEVENT
DTSTART;TZID=America/Los_Angeles:20260325T180000
DTEND;TZID=America/Los_Angeles:20260325T200000
DTSTAMP:20260423T154934
CREATED:20231019T180854Z
LAST-MODIFIED:20231019T180854Z
UID:10001151-1774461600-1774468800@web2.d11s.org
SUMMARY:Flotilla 96 Meeting
DESCRIPTION:Flotilla 114-09-06 Las Vegas Monthly Meeting
URL:https://web2.d11s.org/event/flotilla-96-meeting/2026-03-25/
LOCATION:In Person
CATEGORIES:Member Training,Unit Meeting
END:VEVENT
BEGIN:VEVENT
DTSTART;TZID=America/Los_Angeles:20260413T183000
DTEND;TZID=America/Los_Angeles:20260413T200000
DTSTAMP:20260423T154934
CREATED:20240212T223300Z
LAST-MODIFIED:20240212T223300Z
UID:10001394-1776105000-1776110400@web2.d11s.org
SUMMARY:Division 114-07 Board Meeting
DESCRIPTION:Division 114-07 Board and Staff Officer Meeting. Held Monthly 2nd Monday of the month. Via Zoom.
URL:https://web2.d11s.org/event/division-114-07-board-meeting-3/2026-04-13/
CATEGORIES:Unit Meeting
ATTACH;FMTTYPE=image/jpeg:https://web2.d11s.org/wp-content/uploads/2024/02/Division11407-logo-good-2024-2.jpg
END:VEVENT
BEGIN:VEVENT
DTSTART;TZID=America/Los_Angeles:20260420T190000
DTEND;TZID=America/Los_Angeles:20260420T203000
DTSTAMP:20260423T154934
CREATED:20240104T024713Z
LAST-MODIFIED:20240104T024713Z
UID:10001235-1776711600-1776717000@web2.d11s.org
SUMMARY:Division 1 Division meeting
DESCRIPTION:Division 1 monthly meeting at Sector San Diego
URL:https://web2.d11s.org/event/division-1-division-meeting/2026-04-20/
CATEGORIES:Unit Meeting
END:VEVENT
BEGIN:VEVENT
DTSTART;TZID=America/Los_Angeles:20260429T180000
DTEND;TZID=America/Los_Angeles:20260429T200000
DTSTAMP:20260423T154934
CREATED:20231019T180854Z
LAST-MODIFIED:20231019T180854Z
UID:10001152-1777485600-1777492800@web2.d11s.org
SUMMARY:Flotilla 96 Meeting
DESCRIPTION:Flotilla 114-09-06 Las Vegas Monthly Meeting
URL:https://web2.d11s.org/event/flotilla-96-meeting/2026-04-29/
LOCATION:In Person
CATEGORIES:Member Training,Unit Meeting
END:VEVENT
BEGIN:VEVENT
DTSTART;TZID=America/Los_Angeles:20260511T183000
DTEND;TZID=America/Los_Angeles:20260511T200000
DTSTAMP:20260423T154934
CREATED:20240212T222904Z
LAST-MODIFIED:20240212T222904Z
UID:10001353-1778524200-1778529600@web2.d11s.org
SUMMARY:Division 114-07 Board Meeting
DESCRIPTION:Division 114-07 Board and Staff Officer Meeting. Held Monthly 2nd Monday of the month. Via Zoom.
URL:https://web2.d11s.org/event/division-114-07-board-meeting-2/2026-05-11/
CATEGORIES:Unit Meeting
ATTACH;FMTTYPE=image/jpeg:https://web2.d11s.org/wp-content/uploads/2024/02/Division11407-logo-good-2024-1.jpg
END:VEVENT
BEGIN:VEVENT
DTSTART;TZID=America/Los_Angeles:20260511T183000
DTEND;TZID=America/Los_Angeles:20260511T200000
DTSTAMP:20260423T154934
CREATED:20240212T223300Z
LAST-MODIFIED:20240212T223300Z
UID:10001395-1778524200-1778529600@web2.d11s.org
SUMMARY:Division 114-07 Board Meeting
DESCRIPTION:Division 114-07 Board and Staff Officer Meeting. Held Monthly 2nd Monday of the month. Via Zoom.
URL:https://web2.d11s.org/event/division-114-07-board-meeting-3/2026-05-11/
CATEGORIES:Unit Meeting
ATTACH;FMTTYPE=image/jpeg:https://web2.d11s.org/wp-content/uploads/2024/02/Division11407-logo-good-2024-2.jpg
END:VEVENT
BEGIN:VEVENT
DTSTART;TZID=America/Los_Angeles:20260518T190000
DTEND;TZID=America/Los_Angeles:20260518T203000
DTSTAMP:20260423T154934
CREATED:20240104T024713Z
LAST-MODIFIED:20240104T024713Z
UID:10001236-1779130800-1779136200@web2.d11s.org
SUMMARY:Division 1 Division meeting
DESCRIPTION:Division 1 monthly meeting at Sector San Diego
URL:https://web2.d11s.org/event/division-1-division-meeting/2026-05-18/
CATEGORIES:Unit Meeting
END:VEVENT
BEGIN:VEVENT
DTSTART;TZID=America/Los_Angeles:20260527T180000
DTEND;TZID=America/Los_Angeles:20260527T200000
DTSTAMP:20260423T154934
CREATED:20231019T180854Z
LAST-MODIFIED:20231019T180854Z
UID:10001153-1779904800-1779912000@web2.d11s.org
SUMMARY:Flotilla 96 Meeting
DESCRIPTION:Flotilla 114-09-06 Las Vegas Monthly Meeting
URL:https://web2.d11s.org/event/flotilla-96-meeting/2026-05-27/
LOCATION:In Person
CATEGORIES:Member Training,Unit Meeting
END:VEVENT
BEGIN:VEVENT
DTSTART;TZID=America/Los_Angeles:20260608T183000
DTEND;TZID=America/Los_Angeles:20260608T200000
DTSTAMP:20260423T154934
CREATED:20240212T223300Z
LAST-MODIFIED:20240212T223300Z
UID:10001396-1780943400-1780948800@web2.d11s.org
SUMMARY:Division 114-07 Board Meeting
DESCRIPTION:Division 114-07 Board and Staff Officer Meeting. Held Monthly 2nd Monday of the month. Via Zoom.
URL:https://web2.d11s.org/event/division-114-07-board-meeting-3/2026-06-08/
CATEGORIES:Unit Meeting
ATTACH;FMTTYPE=image/jpeg:https://web2.d11s.org/wp-content/uploads/2024/02/Division11407-logo-good-2024-2.jpg
END:VEVENT
BEGIN:VEVENT
DTSTART;TZID=America/Los_Angeles:20260615T190000
DTEND;TZID=America/Los_Angeles:20260615T203000
DTSTAMP:20260423T154934
CREATED:20240104T024713Z
LAST-MODIFIED:20240104T024713Z
UID:10001237-1781550000-1781555400@web2.d11s.org
SUMMARY:Division 1 Division meeting
DESCRIPTION:Division 1 monthly meeting at Sector San Diego
URL:https://web2.d11s.org/event/division-1-division-meeting/2026-06-15/
CATEGORIES:Unit Meeting
END:VEVENT
BEGIN:VEVENT
DTSTART;TZID=America/Los_Angeles:20260624T180000
DTEND;TZID=America/Los_Angeles:20260624T200000
DTSTAMP:20260423T154934
CREATED:20231019T180854Z
LAST-MODIFIED:20231019T180854Z
UID:10001154-1782324000-1782331200@web2.d11s.org
SUMMARY:Flotilla 96 Meeting
DESCRIPTION:Flotilla 114-09-06 Las Vegas Monthly Meeting
URL:https://web2.d11s.org/event/flotilla-96-meeting/2026-06-24/
LOCATION:In Person
CATEGORIES:Member Training,Unit Meeting
END:VEVENT
BEGIN:VEVENT
DTSTART;TZID=America/Los_Angeles:20260713T183000
DTEND;TZID=America/Los_Angeles:20260713T200000
DTSTAMP:20260423T154934
CREATED:20240212T222904Z
LAST-MODIFIED:20240212T222904Z
UID:10001354-1783967400-1783972800@web2.d11s.org
SUMMARY:Division 114-07 Board Meeting
DESCRIPTION:Division 114-07 Board and Staff Officer Meeting. Held Monthly 2nd Monday of the month. Via Zoom.
URL:https://web2.d11s.org/event/division-114-07-board-meeting-2/2026-07-13/
CATEGORIES:Unit Meeting
ATTACH;FMTTYPE=image/jpeg:https://web2.d11s.org/wp-content/uploads/2024/02/Division11407-logo-good-2024-1.jpg
END:VEVENT
BEGIN:VEVENT
DTSTART;TZID=America/Los_Angeles:20260713T183000
DTEND;TZID=America/Los_Angeles:20260713T200000
DTSTAMP:20260423T154934
CREATED:20240212T223300Z
LAST-MODIFIED:20240212T223300Z
UID:10001397-1783967400-1783972800@web2.d11s.org
SUMMARY:Division 114-07 Board Meeting
DESCRIPTION:Division 114-07 Board and Staff Officer Meeting. Held Monthly 2nd Monday of the month. Via Zoom.
URL:https://web2.d11s.org/event/division-114-07-board-meeting-3/2026-07-13/
CATEGORIES:Unit Meeting
ATTACH;FMTTYPE=image/jpeg:https://web2.d11s.org/wp-content/uploads/2024/02/Division11407-logo-good-2024-2.jpg
END:VEVENT
BEGIN:VEVENT
DTSTART;TZID=America/Los_Angeles:20260720T190000
DTEND;TZID=America/Los_Angeles:20260720T203000
DTSTAMP:20260423T154934
CREATED:20240104T024713Z
LAST-MODIFIED:20240104T024713Z
UID:10001238-1784574000-1784579400@web2.d11s.org
SUMMARY:Division 1 Division meeting
DESCRIPTION:Division 1 monthly meeting at Sector San Diego
URL:https://web2.d11s.org/event/division-1-division-meeting/2026-07-20/
CATEGORIES:Unit Meeting
END:VEVENT
BEGIN:VEVENT
DTSTART;TZID=America/Los_Angeles:20260729T180000
DTEND;TZID=America/Los_Angeles:20260729T200000
DTSTAMP:20260423T154934
CREATED:20231019T180854Z
LAST-MODIFIED:20231019T180854Z
UID:10001155-1785348000-1785355200@web2.d11s.org
SUMMARY:Flotilla 96 Meeting
DESCRIPTION:Flotilla 114-09-06 Las Vegas Monthly Meeting
URL:https://web2.d11s.org/event/flotilla-96-meeting/2026-07-29/
LOCATION:In Person
CATEGORIES:Member Training,Unit Meeting
END:VEVENT
BEGIN:VEVENT
DTSTART;TZID=America/Los_Angeles:20260810T183000
DTEND;TZID=America/Los_Angeles:20260810T200000
DTSTAMP:20260423T154934
CREATED:20240212T223300Z
LAST-MODIFIED:20240212T223300Z
UID:10001398-1786386600-1786392000@web2.d11s.org
SUMMARY:Division 114-07 Board Meeting
DESCRIPTION:Division 114-07 Board and Staff Officer Meeting. Held Monthly 2nd Monday of the month. Via Zoom.
URL:https://web2.d11s.org/event/division-114-07-board-meeting-3/2026-08-10/
CATEGORIES:Unit Meeting
ATTACH;FMTTYPE=image/jpeg:https://web2.d11s.org/wp-content/uploads/2024/02/Division11407-logo-good-2024-2.jpg
END:VEVENT
BEGIN:VEVENT
DTSTART;TZID=America/Los_Angeles:20260817T190000
DTEND;TZID=America/Los_Angeles:20260817T203000
DTSTAMP:20260423T154934
CREATED:20240104T024713Z
LAST-MODIFIED:20240104T024713Z
UID:10001239-1786993200-1786998600@web2.d11s.org
SUMMARY:Division 1 Division meeting
DESCRIPTION:Division 1 monthly meeting at Sector San Diego
URL:https://web2.d11s.org/event/division-1-division-meeting/2026-08-17/
CATEGORIES:Unit Meeting
END:VEVENT
BEGIN:VEVENT
DTSTART;TZID=America/Los_Angeles:20260826T180000
DTEND;TZID=America/Los_Angeles:20260826T200000
DTSTAMP:20260423T154934
CREATED:20231019T180854Z
LAST-MODIFIED:20231019T180854Z
UID:10001156-1787767200-1787774400@web2.d11s.org
SUMMARY:Flotilla 96 Meeting
DESCRIPTION:Flotilla 114-09-06 Las Vegas Monthly Meeting
URL:https://web2.d11s.org/event/flotilla-96-meeting/2026-08-26/
LOCATION:In Person
CATEGORIES:Member Training,Unit Meeting
END:VEVENT
BEGIN:VEVENT
DTSTART;TZID=America/Los_Angeles:20260914T183000
DTEND;TZID=America/Los_Angeles:20260914T200000
DTSTAMP:20260423T154934
CREATED:20240212T222904Z
LAST-MODIFIED:20240212T222904Z
UID:10001355-1789410600-1789416000@web2.d11s.org
SUMMARY:Division 114-07 Board Meeting
DESCRIPTION:Division 114-07 Board and Staff Officer Meeting. Held Monthly 2nd Monday of the month. Via Zoom.
URL:https://web2.d11s.org/event/division-114-07-board-meeting-2/2026-09-14/
CATEGORIES:Unit Meeting
ATTACH;FMTTYPE=image/jpeg:https://web2.d11s.org/wp-content/uploads/2024/02/Division11407-logo-good-2024-1.jpg
END:VEVENT
BEGIN:VEVENT
DTSTART;TZID=America/Los_Angeles:20260914T183000
DTEND;TZID=America/Los_Angeles:20260914T200000
DTSTAMP:20260423T154934
CREATED:20240212T223300Z
LAST-MODIFIED:20240212T223300Z
UID:10001399-1789410600-1789416000@web2.d11s.org
SUMMARY:Division 114-07 Board Meeting
DESCRIPTION:Division 114-07 Board and Staff Officer Meeting. Held Monthly 2nd Monday of the month. Via Zoom.
URL:https://web2.d11s.org/event/division-114-07-board-meeting-3/2026-09-14/
CATEGORIES:Unit Meeting
ATTACH;FMTTYPE=image/jpeg:https://web2.d11s.org/wp-content/uploads/2024/02/Division11407-logo-good-2024-2.jpg
END:VEVENT
BEGIN:VEVENT
DTSTART;TZID=America/Los_Angeles:20260921T190000
DTEND;TZID=America/Los_Angeles:20260921T203000
DTSTAMP:20260423T154934
CREATED:20240104T024713Z
LAST-MODIFIED:20240104T024713Z
UID:10001240-1790017200-1790022600@web2.d11s.org
SUMMARY:Division 1 Division meeting
DESCRIPTION:Division 1 monthly meeting at Sector San Diego
URL:https://web2.d11s.org/event/division-1-division-meeting/2026-09-21/
CATEGORIES:Unit Meeting
END:VEVENT
BEGIN:VEVENT
DTSTART;TZID=America/Los_Angeles:20260930T180000
DTEND;TZID=America/Los_Angeles:20260930T200000
DTSTAMP:20260423T154934
CREATED:20231019T180854Z
LAST-MODIFIED:20231019T180854Z
UID:10001157-1790791200-1790798400@web2.d11s.org
SUMMARY:Flotilla 96 Meeting
DESCRIPTION:Flotilla 114-09-06 Las Vegas Monthly Meeting
URL:https://web2.d11s.org/event/flotilla-96-meeting/2026-09-30/
LOCATION:In Person
CATEGORIES:Member Training,Unit Meeting
END:VEVENT
BEGIN:VEVENT
DTSTART;TZID=America/Los_Angeles:20261012T183000
DTEND;TZID=America/Los_Angeles:20261012T200000
DTSTAMP:20260423T154934
CREATED:20240212T223300Z
LAST-MODIFIED:20240212T223300Z
UID:10001400-1791829800-1791835200@web2.d11s.org
SUMMARY:Division 114-07 Board Meeting
DESCRIPTION:Division 114-07 Board and Staff Officer Meeting. Held Monthly 2nd Monday of the month. Via Zoom.
URL:https://web2.d11s.org/event/division-114-07-board-meeting-3/2026-10-12/
CATEGORIES:Unit Meeting
ATTACH;FMTTYPE=image/jpeg:https://web2.d11s.org/wp-content/uploads/2024/02/Division11407-logo-good-2024-2.jpg
END:VEVENT
BEGIN:VEVENT
DTSTART;TZID=America/Los_Angeles:20261019T190000
DTEND;TZID=America/Los_Angeles:20261019T203000
DTSTAMP:20260423T154934
CREATED:20240104T024713Z
LAST-MODIFIED:20240104T024713Z
UID:10001241-1792436400-1792441800@web2.d11s.org
SUMMARY:Division 1 Division meeting
DESCRIPTION:Division 1 monthly meeting at Sector San Diego
URL:https://web2.d11s.org/event/division-1-division-meeting/2026-10-19/
CATEGORIES:Unit Meeting
END:VEVENT
BEGIN:VEVENT
DTSTART;TZID=America/Los_Angeles:20261028T180000
DTEND;TZID=America/Los_Angeles:20261028T200000
DTSTAMP:20260423T154934
CREATED:20231019T180854Z
LAST-MODIFIED:20231019T180854Z
UID:10001158-1793210400-1793217600@web2.d11s.org
SUMMARY:Flotilla 96 Meeting
DESCRIPTION:Flotilla 114-09-06 Las Vegas Monthly Meeting
URL:https://web2.d11s.org/event/flotilla-96-meeting/2026-10-28/
LOCATION:In Person
CATEGORIES:Member Training,Unit Meeting
END:VEVENT
BEGIN:VEVENT
DTSTART;TZID=America/Los_Angeles:20261109T183000
DTEND;TZID=America/Los_Angeles:20261109T200000
DTSTAMP:20260423T154934
CREATED:20240212T222904Z
LAST-MODIFIED:20240212T222904Z
UID:10001356-1794249000-1794254400@web2.d11s.org
SUMMARY:Division 114-07 Board Meeting
DESCRIPTION:Division 114-07 Board and Staff Officer Meeting. Held Monthly 2nd Monday of the month. Via Zoom.
URL:https://web2.d11s.org/event/division-114-07-board-meeting-2/2026-11-09/
CATEGORIES:Unit Meeting
ATTACH;FMTTYPE=image/jpeg:https://web2.d11s.org/wp-content/uploads/2024/02/Division11407-logo-good-2024-1.jpg
END:VEVENT
BEGIN:VEVENT
DTSTART;TZID=America/Los_Angeles:20261109T183000
DTEND;TZID=America/Los_Angeles:20261109T200000
DTSTAMP:20260423T154934
CREATED:20240212T223300Z
LAST-MODIFIED:20240212T223300Z
UID:10001401-1794249000-1794254400@web2.d11s.org
SUMMARY:Division 114-07 Board Meeting
DESCRIPTION:Division 114-07 Board and Staff Officer Meeting. Held Monthly 2nd Monday of the month. Via Zoom.
URL:https://web2.d11s.org/event/division-114-07-board-meeting-3/2026-11-09/
CATEGORIES:Unit Meeting
ATTACH;FMTTYPE=image/jpeg:https://web2.d11s.org/wp-content/uploads/2024/02/Division11407-logo-good-2024-2.jpg
END:VEVENT
END:VCALENDAR