BEGIN:VCALENDAR
VERSION:2.0
PRODID:-//US Coast Guard Auxiliary-D11S - ECPv6.15.20//NONSGML v1.0//EN
CALSCALE:GREGORIAN
METHOD:PUBLISH
X-ORIGINAL-URL:https://web2.d11s.org
X-WR-CALDESC:Events for US Coast Guard Auxiliary-D11S
REFRESH-INTERVAL;VALUE=DURATION:PT1H
X-Robots-Tag:noindex
X-PUBLISHED-TTL:PT1H
BEGIN:VTIMEZONE
TZID:America/Los_Angeles
BEGIN:DAYLIGHT
TZOFFSETFROM:-0800
TZOFFSETTO:-0700
TZNAME:PDT
DTSTART:20240310T100000
END:DAYLIGHT
BEGIN:STANDARD
TZOFFSETFROM:-0700
TZOFFSETTO:-0800
TZNAME:PST
DTSTART:20241103T090000
END:STANDARD
BEGIN:DAYLIGHT
TZOFFSETFROM:-0800
TZOFFSETTO:-0700
TZNAME:PDT
DTSTART:20250309T100000
END:DAYLIGHT
BEGIN:STANDARD
TZOFFSETFROM:-0700
TZOFFSETTO:-0800
TZNAME:PST
DTSTART:20251102T090000
END:STANDARD
BEGIN:DAYLIGHT
TZOFFSETFROM:-0800
TZOFFSETTO:-0700
TZNAME:PDT
DTSTART:20260308T100000
END:DAYLIGHT
BEGIN:STANDARD
TZOFFSETFROM:-0700
TZOFFSETTO:-0800
TZNAME:PST
DTSTART:20261101T090000
END:STANDARD
BEGIN:DAYLIGHT
TZOFFSETFROM:-0800
TZOFFSETTO:-0700
TZNAME:PDT
DTSTART:20270314T100000
END:DAYLIGHT
BEGIN:STANDARD
TZOFFSETFROM:-0700
TZOFFSETTO:-0800
TZNAME:PST
DTSTART:20271107T090000
END:STANDARD
END:VTIMEZONE
BEGIN:VEVENT
DTSTART;TZID=America/Los_Angeles:20260112T183000
DTEND;TZID=America/Los_Angeles:20260112T200000
DTSTAMP:20260423T154557
CREATED:20240212T222904Z
LAST-MODIFIED:20240212T222904Z
UID:10001351-1768242600-1768248000@web2.d11s.org
SUMMARY:Division 114-07 Board Meeting
DESCRIPTION:Division 114-07 Board and Staff Officer Meeting. Held Monthly 2nd Monday of the month. Via Zoom.
URL:https://web2.d11s.org/event/division-114-07-board-meeting-2/2026-01-12/
CATEGORIES:Unit Meeting
ATTACH;FMTTYPE=image/jpeg:https://web2.d11s.org/wp-content/uploads/2024/02/Division11407-logo-good-2024-1.jpg
END:VEVENT
BEGIN:VEVENT
DTSTART;TZID=America/Los_Angeles:20251231T180000
DTEND;TZID=America/Los_Angeles:20251231T200000
DTSTAMP:20260423T154557
CREATED:20231019T180854Z
LAST-MODIFIED:20231019T180854Z
UID:10001148-1767204000-1767211200@web2.d11s.org
SUMMARY:Flotilla 96 Meeting
DESCRIPTION:Flotilla 114-09-06 Las Vegas Monthly Meeting
URL:https://web2.d11s.org/event/flotilla-96-meeting/2025-12-31/
LOCATION:In Person
CATEGORIES:Member Training,Unit Meeting
END:VEVENT
BEGIN:VEVENT
DTSTART;TZID=America/Los_Angeles:20251215T190000
DTEND;TZID=America/Los_Angeles:20251215T203000
DTSTAMP:20260423T154557
CREATED:20240104T024713Z
LAST-MODIFIED:20240104T024713Z
UID:10001231-1765825200-1765830600@web2.d11s.org
SUMMARY:Division 1 Division meeting
DESCRIPTION:Division 1 monthly meeting at Sector San Diego
URL:https://web2.d11s.org/event/division-1-division-meeting/2025-12-15/
CATEGORIES:Unit Meeting
END:VEVENT
BEGIN:VEVENT
DTSTART;TZID=America/Los_Angeles:20251208T183000
DTEND;TZID=America/Los_Angeles:20251208T200000
DTSTAMP:20260423T154557
CREATED:20240212T223300Z
LAST-MODIFIED:20240212T223300Z
UID:10001390-1765218600-1765224000@web2.d11s.org
SUMMARY:Division 114-07 Board Meeting
DESCRIPTION:Division 114-07 Board and Staff Officer Meeting. Held Monthly 2nd Monday of the month. Via Zoom.
URL:https://web2.d11s.org/event/division-114-07-board-meeting-3/2025-12-08/
CATEGORIES:Unit Meeting
ATTACH;FMTTYPE=image/jpeg:https://web2.d11s.org/wp-content/uploads/2024/02/Division11407-logo-good-2024-2.jpg
END:VEVENT
BEGIN:VEVENT
DTSTART;TZID=America/Los_Angeles:20251126T180000
DTEND;TZID=America/Los_Angeles:20251126T200000
DTSTAMP:20260423T154557
CREATED:20231019T180854Z
LAST-MODIFIED:20231019T180854Z
UID:10001147-1764180000-1764187200@web2.d11s.org
SUMMARY:Flotilla 96 Meeting
DESCRIPTION:Flotilla 114-09-06 Las Vegas Monthly Meeting
URL:https://web2.d11s.org/event/flotilla-96-meeting/2025-11-26/
LOCATION:In Person
CATEGORIES:Member Training,Unit Meeting
END:VEVENT
BEGIN:VEVENT
DTSTART;TZID=America/Los_Angeles:20251117T190000
DTEND;TZID=America/Los_Angeles:20251117T203000
DTSTAMP:20260423T154557
CREATED:20240104T024713Z
LAST-MODIFIED:20240104T024713Z
UID:10001230-1763406000-1763411400@web2.d11s.org
SUMMARY:Division 1 Division meeting
DESCRIPTION:Division 1 monthly meeting at Sector San Diego
URL:https://web2.d11s.org/event/division-1-division-meeting/2025-11-17/
CATEGORIES:Unit Meeting
END:VEVENT
BEGIN:VEVENT
DTSTART;TZID=America/Los_Angeles:20251110T183000
DTEND;TZID=America/Los_Angeles:20251110T200000
DTSTAMP:20260423T154557
CREATED:20240212T223300Z
LAST-MODIFIED:20240212T223300Z
UID:10001389-1762799400-1762804800@web2.d11s.org
SUMMARY:Division 114-07 Board Meeting
DESCRIPTION:Division 114-07 Board and Staff Officer Meeting. Held Monthly 2nd Monday of the month. Via Zoom.
URL:https://web2.d11s.org/event/division-114-07-board-meeting-3/2025-11-10/
CATEGORIES:Unit Meeting
ATTACH;FMTTYPE=image/jpeg:https://web2.d11s.org/wp-content/uploads/2024/02/Division11407-logo-good-2024-2.jpg
END:VEVENT
BEGIN:VEVENT
DTSTART;TZID=America/Los_Angeles:20251110T183000
DTEND;TZID=America/Los_Angeles:20251110T200000
DTSTAMP:20260423T154557
CREATED:20240212T222904Z
LAST-MODIFIED:20240212T222904Z
UID:10001350-1762799400-1762804800@web2.d11s.org
SUMMARY:Division 114-07 Board Meeting
DESCRIPTION:Division 114-07 Board and Staff Officer Meeting. Held Monthly 2nd Monday of the month. Via Zoom.
URL:https://web2.d11s.org/event/division-114-07-board-meeting-2/2025-11-10/
CATEGORIES:Unit Meeting
ATTACH;FMTTYPE=image/jpeg:https://web2.d11s.org/wp-content/uploads/2024/02/Division11407-logo-good-2024-1.jpg
END:VEVENT
BEGIN:VEVENT
DTSTART;TZID=America/Los_Angeles:20251029T180000
DTEND;TZID=America/Los_Angeles:20251029T200000
DTSTAMP:20260423T154557
CREATED:20231019T180854Z
LAST-MODIFIED:20231019T180854Z
UID:10001146-1761760800-1761768000@web2.d11s.org
SUMMARY:Flotilla 96 Meeting
DESCRIPTION:Flotilla 114-09-06 Las Vegas Monthly Meeting
URL:https://web2.d11s.org/event/flotilla-96-meeting/2025-10-29/
LOCATION:In Person
CATEGORIES:Member Training,Unit Meeting
END:VEVENT
BEGIN:VEVENT
DTSTART;TZID=America/Los_Angeles:20251020T190000
DTEND;TZID=America/Los_Angeles:20251020T203000
DTSTAMP:20260423T154557
CREATED:20240104T024713Z
LAST-MODIFIED:20240104T024713Z
UID:10001229-1760986800-1760992200@web2.d11s.org
SUMMARY:Division 1 Division meeting
DESCRIPTION:Division 1 monthly meeting at Sector San Diego
URL:https://web2.d11s.org/event/division-1-division-meeting/2025-10-20/
CATEGORIES:Unit Meeting
END:VEVENT
BEGIN:VEVENT
DTSTART;TZID=America/Los_Angeles:20251013T183000
DTEND;TZID=America/Los_Angeles:20251013T200000
DTSTAMP:20260423T154557
CREATED:20240212T223300Z
LAST-MODIFIED:20240212T223300Z
UID:10001388-1760380200-1760385600@web2.d11s.org
SUMMARY:Division 114-07 Board Meeting
DESCRIPTION:Division 114-07 Board and Staff Officer Meeting. Held Monthly 2nd Monday of the month. Via Zoom.
URL:https://web2.d11s.org/event/division-114-07-board-meeting-3/2025-10-13/
CATEGORIES:Unit Meeting
ATTACH;FMTTYPE=image/jpeg:https://web2.d11s.org/wp-content/uploads/2024/02/Division11407-logo-good-2024-2.jpg
END:VEVENT
BEGIN:VEVENT
DTSTART;TZID=America/Los_Angeles:20250924T180000
DTEND;TZID=America/Los_Angeles:20250924T200000
DTSTAMP:20260423T154557
CREATED:20231019T180854Z
LAST-MODIFIED:20231019T180854Z
UID:10001145-1758736800-1758744000@web2.d11s.org
SUMMARY:Flotilla 96 Meeting
DESCRIPTION:Flotilla 114-09-06 Las Vegas Monthly Meeting
URL:https://web2.d11s.org/event/flotilla-96-meeting/2025-09-24/
LOCATION:In Person
CATEGORIES:Member Training,Unit Meeting
END:VEVENT
BEGIN:VEVENT
DTSTART;TZID=America/Los_Angeles:20250915T190000
DTEND;TZID=America/Los_Angeles:20250915T203000
DTSTAMP:20260423T154557
CREATED:20240104T024713Z
LAST-MODIFIED:20240104T024713Z
UID:10001228-1757962800-1757968200@web2.d11s.org
SUMMARY:Division 1 Division meeting
DESCRIPTION:Division 1 monthly meeting at Sector San Diego
URL:https://web2.d11s.org/event/division-1-division-meeting/2025-09-15/
CATEGORIES:Unit Meeting
END:VEVENT
BEGIN:VEVENT
DTSTART;TZID=America/Los_Angeles:20250908T183000
DTEND;TZID=America/Los_Angeles:20250908T200000
DTSTAMP:20260423T154557
CREATED:20240212T223300Z
LAST-MODIFIED:20240212T223300Z
UID:10001387-1757356200-1757361600@web2.d11s.org
SUMMARY:Division 114-07 Board Meeting
DESCRIPTION:Division 114-07 Board and Staff Officer Meeting. Held Monthly 2nd Monday of the month. Via Zoom.
URL:https://web2.d11s.org/event/division-114-07-board-meeting-3/2025-09-08/
CATEGORIES:Unit Meeting
ATTACH;FMTTYPE=image/jpeg:https://web2.d11s.org/wp-content/uploads/2024/02/Division11407-logo-good-2024-2.jpg
END:VEVENT
BEGIN:VEVENT
DTSTART;TZID=America/Los_Angeles:20250908T183000
DTEND;TZID=America/Los_Angeles:20250908T200000
DTSTAMP:20260423T154557
CREATED:20240212T222904Z
LAST-MODIFIED:20240212T222904Z
UID:10001349-1757356200-1757361600@web2.d11s.org
SUMMARY:Division 114-07 Board Meeting
DESCRIPTION:Division 114-07 Board and Staff Officer Meeting. Held Monthly 2nd Monday of the month. Via Zoom.
URL:https://web2.d11s.org/event/division-114-07-board-meeting-2/2025-09-08/
CATEGORIES:Unit Meeting
ATTACH;FMTTYPE=image/jpeg:https://web2.d11s.org/wp-content/uploads/2024/02/Division11407-logo-good-2024-1.jpg
END:VEVENT
BEGIN:VEVENT
DTSTART;TZID=America/Los_Angeles:20250827T180000
DTEND;TZID=America/Los_Angeles:20250827T200000
DTSTAMP:20260423T154557
CREATED:20231019T180854Z
LAST-MODIFIED:20231019T180854Z
UID:10001144-1756317600-1756324800@web2.d11s.org
SUMMARY:Flotilla 96 Meeting
DESCRIPTION:Flotilla 114-09-06 Las Vegas Monthly Meeting
URL:https://web2.d11s.org/event/flotilla-96-meeting/2025-08-27/
LOCATION:In Person
CATEGORIES:Member Training,Unit Meeting
END:VEVENT
BEGIN:VEVENT
DTSTART;TZID=America/Los_Angeles:20250818T190000
DTEND;TZID=America/Los_Angeles:20250818T203000
DTSTAMP:20260423T154557
CREATED:20240104T024713Z
LAST-MODIFIED:20240104T024713Z
UID:10001227-1755543600-1755549000@web2.d11s.org
SUMMARY:Division 1 Division meeting
DESCRIPTION:Division 1 monthly meeting at Sector San Diego
URL:https://web2.d11s.org/event/division-1-division-meeting/2025-08-18/
CATEGORIES:Unit Meeting
END:VEVENT
BEGIN:VEVENT
DTSTART;TZID=America/Los_Angeles:20250811T183000
DTEND;TZID=America/Los_Angeles:20250811T200000
DTSTAMP:20260423T154557
CREATED:20240212T223300Z
LAST-MODIFIED:20240212T223300Z
UID:10001386-1754937000-1754942400@web2.d11s.org
SUMMARY:Division 114-07 Board Meeting
DESCRIPTION:Division 114-07 Board and Staff Officer Meeting. Held Monthly 2nd Monday of the month. Via Zoom.
URL:https://web2.d11s.org/event/division-114-07-board-meeting-3/2025-08-11/
CATEGORIES:Unit Meeting
ATTACH;FMTTYPE=image/jpeg:https://web2.d11s.org/wp-content/uploads/2024/02/Division11407-logo-good-2024-2.jpg
END:VEVENT
BEGIN:VEVENT
DTSTART;TZID=America/Los_Angeles:20250730T180000
DTEND;TZID=America/Los_Angeles:20250730T200000
DTSTAMP:20260423T154557
CREATED:20231019T180854Z
LAST-MODIFIED:20231019T180854Z
UID:10001143-1753898400-1753905600@web2.d11s.org
SUMMARY:Flotilla 96 Meeting
DESCRIPTION:Flotilla 114-09-06 Las Vegas Monthly Meeting
URL:https://web2.d11s.org/event/flotilla-96-meeting/2025-07-30/
LOCATION:In Person
CATEGORIES:Member Training,Unit Meeting
END:VEVENT
BEGIN:VEVENT
DTSTART;TZID=America/Los_Angeles:20250721T190000
DTEND;TZID=America/Los_Angeles:20250721T203000
DTSTAMP:20260423T154557
CREATED:20240104T024713Z
LAST-MODIFIED:20240104T024713Z
UID:10001226-1753124400-1753129800@web2.d11s.org
SUMMARY:Division 1 Division meeting
DESCRIPTION:Division 1 monthly meeting at Sector San Diego
URL:https://web2.d11s.org/event/division-1-division-meeting/2025-07-21/
CATEGORIES:Unit Meeting
END:VEVENT
BEGIN:VEVENT
DTSTART;TZID=America/Los_Angeles:20250714T183000
DTEND;TZID=America/Los_Angeles:20250714T200000
DTSTAMP:20260423T154557
CREATED:20240212T223300Z
LAST-MODIFIED:20240212T223300Z
UID:10001385-1752517800-1752523200@web2.d11s.org
SUMMARY:Division 114-07 Board Meeting
DESCRIPTION:Division 114-07 Board and Staff Officer Meeting. Held Monthly 2nd Monday of the month. Via Zoom.
URL:https://web2.d11s.org/event/division-114-07-board-meeting-3/2025-07-14/
CATEGORIES:Unit Meeting
ATTACH;FMTTYPE=image/jpeg:https://web2.d11s.org/wp-content/uploads/2024/02/Division11407-logo-good-2024-2.jpg
END:VEVENT
BEGIN:VEVENT
DTSTART;TZID=America/Los_Angeles:20250714T183000
DTEND;TZID=America/Los_Angeles:20250714T200000
DTSTAMP:20260423T154557
CREATED:20240212T222904Z
LAST-MODIFIED:20240212T222904Z
UID:10001348-1752517800-1752523200@web2.d11s.org
SUMMARY:Division 114-07 Board Meeting
DESCRIPTION:Division 114-07 Board and Staff Officer Meeting. Held Monthly 2nd Monday of the month. Via Zoom.
URL:https://web2.d11s.org/event/division-114-07-board-meeting-2/2025-07-14/
CATEGORIES:Unit Meeting
ATTACH;FMTTYPE=image/jpeg:https://web2.d11s.org/wp-content/uploads/2024/02/Division11407-logo-good-2024-1.jpg
END:VEVENT
BEGIN:VEVENT
DTSTART;TZID=America/Los_Angeles:20250625T180000
DTEND;TZID=America/Los_Angeles:20250625T200000
DTSTAMP:20260423T154557
CREATED:20231019T180854Z
LAST-MODIFIED:20231019T180854Z
UID:10001142-1750874400-1750881600@web2.d11s.org
SUMMARY:Flotilla 96 Meeting
DESCRIPTION:Flotilla 114-09-06 Las Vegas Monthly Meeting
URL:https://web2.d11s.org/event/flotilla-96-meeting/2025-06-25/
LOCATION:In Person
CATEGORIES:Member Training,Unit Meeting
END:VEVENT
BEGIN:VEVENT
DTSTART;TZID=America/Los_Angeles:20250616T190000
DTEND;TZID=America/Los_Angeles:20250616T203000
DTSTAMP:20260423T154557
CREATED:20240104T024713Z
LAST-MODIFIED:20240104T024713Z
UID:10001225-1750100400-1750105800@web2.d11s.org
SUMMARY:Division 1 Division meeting
DESCRIPTION:Division 1 monthly meeting at Sector San Diego
URL:https://web2.d11s.org/event/division-1-division-meeting/2025-06-16/
CATEGORIES:Unit Meeting
END:VEVENT
BEGIN:VEVENT
DTSTART;TZID=America/Los_Angeles:20250609T183000
DTEND;TZID=America/Los_Angeles:20250609T200000
DTSTAMP:20260423T154557
CREATED:20240212T223300Z
LAST-MODIFIED:20240212T223300Z
UID:10001384-1749493800-1749499200@web2.d11s.org
SUMMARY:Division 114-07 Board Meeting
DESCRIPTION:Division 114-07 Board and Staff Officer Meeting. Held Monthly 2nd Monday of the month. Via Zoom.
URL:https://web2.d11s.org/event/division-114-07-board-meeting-3/2025-06-09/
CATEGORIES:Unit Meeting
ATTACH;FMTTYPE=image/jpeg:https://web2.d11s.org/wp-content/uploads/2024/02/Division11407-logo-good-2024-2.jpg
END:VEVENT
BEGIN:VEVENT
DTSTART;TZID=America/Los_Angeles:20250528T180000
DTEND;TZID=America/Los_Angeles:20250528T200000
DTSTAMP:20260423T154557
CREATED:20231019T180854Z
LAST-MODIFIED:20231019T180854Z
UID:10001141-1748455200-1748462400@web2.d11s.org
SUMMARY:Flotilla 96 Meeting
DESCRIPTION:Flotilla 114-09-06 Las Vegas Monthly Meeting
URL:https://web2.d11s.org/event/flotilla-96-meeting/2025-05-28/
LOCATION:In Person
CATEGORIES:Member Training,Unit Meeting
END:VEVENT
BEGIN:VEVENT
DTSTART;TZID=America/Los_Angeles:20250519T190000
DTEND;TZID=America/Los_Angeles:20250519T203000
DTSTAMP:20260423T154557
CREATED:20240104T024713Z
LAST-MODIFIED:20240104T024713Z
UID:10001224-1747681200-1747686600@web2.d11s.org
SUMMARY:Division 1 Division meeting
DESCRIPTION:Division 1 monthly meeting at Sector San Diego
URL:https://web2.d11s.org/event/division-1-division-meeting/2025-05-19/
CATEGORIES:Unit Meeting
END:VEVENT
BEGIN:VEVENT
DTSTART;TZID=America/Los_Angeles:20250512T183000
DTEND;TZID=America/Los_Angeles:20250512T200000
DTSTAMP:20260423T154557
CREATED:20240212T223300Z
LAST-MODIFIED:20240212T223300Z
UID:10001383-1747074600-1747080000@web2.d11s.org
SUMMARY:Division 114-07 Board Meeting
DESCRIPTION:Division 114-07 Board and Staff Officer Meeting. Held Monthly 2nd Monday of the month. Via Zoom.
URL:https://web2.d11s.org/event/division-114-07-board-meeting-3/2025-05-12/
CATEGORIES:Unit Meeting
ATTACH;FMTTYPE=image/jpeg:https://web2.d11s.org/wp-content/uploads/2024/02/Division11407-logo-good-2024-2.jpg
END:VEVENT
BEGIN:VEVENT
DTSTART;TZID=America/Los_Angeles:20250512T183000
DTEND;TZID=America/Los_Angeles:20250512T200000
DTSTAMP:20260423T154557
CREATED:20240212T222904Z
LAST-MODIFIED:20240212T222904Z
UID:10001347-1747074600-1747080000@web2.d11s.org
SUMMARY:Division 114-07 Board Meeting
DESCRIPTION:Division 114-07 Board and Staff Officer Meeting. Held Monthly 2nd Monday of the month. Via Zoom.
URL:https://web2.d11s.org/event/division-114-07-board-meeting-2/2025-05-12/
CATEGORIES:Unit Meeting
ATTACH;FMTTYPE=image/jpeg:https://web2.d11s.org/wp-content/uploads/2024/02/Division11407-logo-good-2024-1.jpg
END:VEVENT
BEGIN:VEVENT
DTSTART;TZID=America/Los_Angeles:20250430T180000
DTEND;TZID=America/Los_Angeles:20250430T200000
DTSTAMP:20260423T154557
CREATED:20231019T180854Z
LAST-MODIFIED:20231019T180854Z
UID:10001140-1746036000-1746043200@web2.d11s.org
SUMMARY:Flotilla 96 Meeting
DESCRIPTION:Flotilla 114-09-06 Las Vegas Monthly Meeting
URL:https://web2.d11s.org/event/flotilla-96-meeting/2025-04-30/
LOCATION:In Person
CATEGORIES:Member Training,Unit Meeting
END:VEVENT
END:VCALENDAR