BEGIN:VCALENDAR
VERSION:2.0
PRODID:-//US Coast Guard Auxiliary-D11S - ECPv6.15.20//NONSGML v1.0//EN
CALSCALE:GREGORIAN
METHOD:PUBLISH
X-ORIGINAL-URL:https://web2.d11s.org
X-WR-CALDESC:Events for US Coast Guard Auxiliary-D11S
REFRESH-INTERVAL;VALUE=DURATION:PT1H
X-Robots-Tag:noindex
X-PUBLISHED-TTL:PT1H
BEGIN:VTIMEZONE
TZID:America/Los_Angeles
BEGIN:DAYLIGHT
TZOFFSETFROM:-0800
TZOFFSETTO:-0700
TZNAME:PDT
DTSTART:20230312T100000
END:DAYLIGHT
BEGIN:STANDARD
TZOFFSETFROM:-0700
TZOFFSETTO:-0800
TZNAME:PST
DTSTART:20231105T090000
END:STANDARD
BEGIN:DAYLIGHT
TZOFFSETFROM:-0800
TZOFFSETTO:-0700
TZNAME:PDT
DTSTART:20240310T100000
END:DAYLIGHT
BEGIN:STANDARD
TZOFFSETFROM:-0700
TZOFFSETTO:-0800
TZNAME:PST
DTSTART:20241103T090000
END:STANDARD
BEGIN:DAYLIGHT
TZOFFSETFROM:-0800
TZOFFSETTO:-0700
TZNAME:PDT
DTSTART:20250309T100000
END:DAYLIGHT
BEGIN:STANDARD
TZOFFSETFROM:-0700
TZOFFSETTO:-0800
TZNAME:PST
DTSTART:20251102T090000
END:STANDARD
END:VTIMEZONE
BEGIN:VEVENT
DTSTART;TZID=America/Los_Angeles:20240610T183000
DTEND;TZID=America/Los_Angeles:20240610T200000
DTSTAMP:20260425T083501
CREATED:20240212T223300Z
LAST-MODIFIED:20240212T223300Z
UID:10001372-1718044200-1718049600@web2.d11s.org
SUMMARY:Division 114-07 Board Meeting
DESCRIPTION:Division 114-07 Board and Staff Officer Meeting. Held Monthly 2nd Monday of the month. Via Zoom.
URL:https://web2.d11s.org/event/division-114-07-board-meeting-3/2024-06-10/
CATEGORIES:Unit Meeting
ATTACH;FMTTYPE=image/jpeg:https://web2.d11s.org/wp-content/uploads/2024/02/Division11407-logo-good-2024-2.jpg
END:VEVENT
BEGIN:VEVENT
DTSTART;TZID=America/Los_Angeles:20240617T190000
DTEND;TZID=America/Los_Angeles:20240617T203000
DTSTAMP:20260425T083501
CREATED:20240104T024713Z
LAST-MODIFIED:20240104T024713Z
UID:10001213-1718650800-1718656200@web2.d11s.org
SUMMARY:Division 1 Division meeting
DESCRIPTION:Division 1 monthly meeting at Sector San Diego
URL:https://web2.d11s.org/event/division-1-division-meeting/2024-06-17/
CATEGORIES:Unit Meeting
END:VEVENT
BEGIN:VEVENT
DTSTART;TZID=America/Los_Angeles:20240624T183000
DTEND;TZID=America/Los_Angeles:20240624T200000
DTSTAMP:20260425T083501
CREATED:20240530T133132Z
LAST-MODIFIED:20240530T133132Z
UID:10001563-1719253800-1719259200@web2.d11s.org
SUMMARY:Unit Meeting for Flotilla 10-07
DESCRIPTION:Unit Meeting for Flotilla 10-07
URL:https://web2.d11s.org/event/unit-meeting-for-flotilla-10-07-2/
CATEGORIES:Unit Meeting
ATTACH;FMTTYPE=image/jpeg:https://web2.d11s.org/wp-content/uploads/2024/05/1007-logo.jpg
END:VEVENT
BEGIN:VEVENT
DTSTART;TZID=America/Los_Angeles:20240626T180000
DTEND;TZID=America/Los_Angeles:20240626T200000
DTSTAMP:20260425T083501
CREATED:20231019T180854Z
LAST-MODIFIED:20231019T180854Z
UID:10001130-1719424800-1719432000@web2.d11s.org
SUMMARY:Flotilla 96 Meeting
DESCRIPTION:Flotilla 114-09-06 Las Vegas Monthly Meeting
URL:https://web2.d11s.org/event/flotilla-96-meeting/2024-06-26/
LOCATION:In Person
CATEGORIES:Member Training,Unit Meeting
END:VEVENT
BEGIN:VEVENT
DTSTART;TZID=America/Los_Angeles:20240706T080000
DTEND;TZID=America/Los_Angeles:20240706T100000
DTSTAMP:20260425T083501
CREATED:20240226T212317Z
LAST-MODIFIED:20240226T212317Z
UID:10001456-1720252800-1720260000@web2.d11s.org
SUMMARY:Flotilla 06-08 Meeting
DESCRIPTION:Flotilla 06-08 Monthly Meeting\nDana West Yacht Club\n24601 Dana Dr\, Dana Point\, CA 92629
URL:https://web2.d11s.org/event/flotilla-06-08-meeting/2024-07-06/
CATEGORIES:Unit Meeting
END:VEVENT
BEGIN:VEVENT
DTSTART;TZID=America/Los_Angeles:20240708T183000
DTEND;TZID=America/Los_Angeles:20240708T200000
DTSTAMP:20260425T083501
CREATED:20240212T222904Z
LAST-MODIFIED:20240212T222904Z
UID:10001342-1720463400-1720468800@web2.d11s.org
SUMMARY:Division 114-07 Board Meeting
DESCRIPTION:Division 114-07 Board and Staff Officer Meeting. Held Monthly 2nd Monday of the month. Via Zoom.
URL:https://web2.d11s.org/event/division-114-07-board-meeting-2/2024-07-08/
CATEGORIES:Unit Meeting
ATTACH;FMTTYPE=image/jpeg:https://web2.d11s.org/wp-content/uploads/2024/02/Division11407-logo-good-2024-1.jpg
END:VEVENT
BEGIN:VEVENT
DTSTART;TZID=America/Los_Angeles:20240708T183000
DTEND;TZID=America/Los_Angeles:20240708T200000
DTSTAMP:20260425T083501
CREATED:20240212T223300Z
LAST-MODIFIED:20240212T223300Z
UID:10001373-1720463400-1720468800@web2.d11s.org
SUMMARY:Division 114-07 Board Meeting
DESCRIPTION:Division 114-07 Board and Staff Officer Meeting. Held Monthly 2nd Monday of the month. Via Zoom.
URL:https://web2.d11s.org/event/division-114-07-board-meeting-3/2024-07-08/
CATEGORIES:Unit Meeting
ATTACH;FMTTYPE=image/jpeg:https://web2.d11s.org/wp-content/uploads/2024/02/Division11407-logo-good-2024-2.jpg
END:VEVENT
BEGIN:VEVENT
DTSTART;TZID=America/Los_Angeles:20240715T190000
DTEND;TZID=America/Los_Angeles:20240715T203000
DTSTAMP:20260425T083501
CREATED:20240104T024713Z
LAST-MODIFIED:20240104T024713Z
UID:10001214-1721070000-1721075400@web2.d11s.org
SUMMARY:Division 1 Division meeting
DESCRIPTION:Division 1 monthly meeting at Sector San Diego
URL:https://web2.d11s.org/event/division-1-division-meeting/2024-07-15/
CATEGORIES:Unit Meeting
END:VEVENT
BEGIN:VEVENT
DTSTART;TZID=America/Los_Angeles:20240731T180000
DTEND;TZID=America/Los_Angeles:20240731T200000
DTSTAMP:20260425T083501
CREATED:20231019T180854Z
LAST-MODIFIED:20231019T180854Z
UID:10001131-1722448800-1722456000@web2.d11s.org
SUMMARY:Flotilla 96 Meeting
DESCRIPTION:Flotilla 114-09-06 Las Vegas Monthly Meeting
URL:https://web2.d11s.org/event/flotilla-96-meeting/2024-07-31/
LOCATION:In Person
CATEGORIES:Member Training,Unit Meeting
END:VEVENT
BEGIN:VEVENT
DTSTART;TZID=America/Los_Angeles:20240803T080000
DTEND;TZID=America/Los_Angeles:20240803T100000
DTSTAMP:20260425T083501
CREATED:20240226T212317Z
LAST-MODIFIED:20240226T212317Z
UID:10001457-1722672000-1722679200@web2.d11s.org
SUMMARY:Flotilla 06-08 Meeting
DESCRIPTION:Flotilla 06-08 Monthly Meeting\nDana West Yacht Club\n24601 Dana Dr\, Dana Point\, CA 92629
URL:https://web2.d11s.org/event/flotilla-06-08-meeting/2024-08-03/
CATEGORIES:Unit Meeting
END:VEVENT
BEGIN:VEVENT
DTSTART;TZID=America/Los_Angeles:20240812T183000
DTEND;TZID=America/Los_Angeles:20240812T200000
DTSTAMP:20260425T083501
CREATED:20240212T223300Z
LAST-MODIFIED:20240212T223300Z
UID:10001374-1723487400-1723492800@web2.d11s.org
SUMMARY:Division 114-07 Board Meeting
DESCRIPTION:Division 114-07 Board and Staff Officer Meeting. Held Monthly 2nd Monday of the month. Via Zoom.
URL:https://web2.d11s.org/event/division-114-07-board-meeting-3/2024-08-12/
CATEGORIES:Unit Meeting
ATTACH;FMTTYPE=image/jpeg:https://web2.d11s.org/wp-content/uploads/2024/02/Division11407-logo-good-2024-2.jpg
END:VEVENT
BEGIN:VEVENT
DTSTART;TZID=America/Los_Angeles:20240819T190000
DTEND;TZID=America/Los_Angeles:20240819T203000
DTSTAMP:20260425T083501
CREATED:20240104T024713Z
LAST-MODIFIED:20240104T024713Z
UID:10001215-1724094000-1724099400@web2.d11s.org
SUMMARY:Division 1 Division meeting
DESCRIPTION:Division 1 monthly meeting at Sector San Diego
URL:https://web2.d11s.org/event/division-1-division-meeting/2024-08-19/
CATEGORIES:Unit Meeting
END:VEVENT
BEGIN:VEVENT
DTSTART;TZID=America/Los_Angeles:20240828T180000
DTEND;TZID=America/Los_Angeles:20240828T200000
DTSTAMP:20260425T083501
CREATED:20231019T180854Z
LAST-MODIFIED:20231019T180854Z
UID:10001132-1724868000-1724875200@web2.d11s.org
SUMMARY:Flotilla 96 Meeting
DESCRIPTION:Flotilla 114-09-06 Las Vegas Monthly Meeting
URL:https://web2.d11s.org/event/flotilla-96-meeting/2024-08-28/
LOCATION:In Person
CATEGORIES:Member Training,Unit Meeting
END:VEVENT
BEGIN:VEVENT
DTSTART;TZID=America/Los_Angeles:20240907T080000
DTEND;TZID=America/Los_Angeles:20240907T100000
DTSTAMP:20260425T083501
CREATED:20240226T212317Z
LAST-MODIFIED:20240226T212317Z
UID:10001458-1725696000-1725703200@web2.d11s.org
SUMMARY:Flotilla 06-08 Meeting
DESCRIPTION:Flotilla 06-08 Monthly Meeting\nDana West Yacht Club\n24601 Dana Dr\, Dana Point\, CA 92629
URL:https://web2.d11s.org/event/flotilla-06-08-meeting/2024-09-07/
CATEGORIES:Unit Meeting
END:VEVENT
BEGIN:VEVENT
DTSTART;TZID=America/Los_Angeles:20240909T183000
DTEND;TZID=America/Los_Angeles:20240909T200000
DTSTAMP:20260425T083501
CREATED:20240212T222904Z
LAST-MODIFIED:20240212T222904Z
UID:10001343-1725906600-1725912000@web2.d11s.org
SUMMARY:Division 114-07 Board Meeting
DESCRIPTION:Division 114-07 Board and Staff Officer Meeting. Held Monthly 2nd Monday of the month. Via Zoom.
URL:https://web2.d11s.org/event/division-114-07-board-meeting-2/2024-09-09/
CATEGORIES:Unit Meeting
ATTACH;FMTTYPE=image/jpeg:https://web2.d11s.org/wp-content/uploads/2024/02/Division11407-logo-good-2024-1.jpg
END:VEVENT
BEGIN:VEVENT
DTSTART;TZID=America/Los_Angeles:20240909T183000
DTEND;TZID=America/Los_Angeles:20240909T200000
DTSTAMP:20260425T083501
CREATED:20240212T223300Z
LAST-MODIFIED:20240212T223300Z
UID:10001375-1725906600-1725912000@web2.d11s.org
SUMMARY:Division 114-07 Board Meeting
DESCRIPTION:Division 114-07 Board and Staff Officer Meeting. Held Monthly 2nd Monday of the month. Via Zoom.
URL:https://web2.d11s.org/event/division-114-07-board-meeting-3/2024-09-09/
CATEGORIES:Unit Meeting
ATTACH;FMTTYPE=image/jpeg:https://web2.d11s.org/wp-content/uploads/2024/02/Division11407-logo-good-2024-2.jpg
END:VEVENT
BEGIN:VEVENT
DTSTART;TZID=America/Los_Angeles:20240916T190000
DTEND;TZID=America/Los_Angeles:20240916T203000
DTSTAMP:20260425T083501
CREATED:20240104T024713Z
LAST-MODIFIED:20240104T024713Z
UID:10001216-1726513200-1726518600@web2.d11s.org
SUMMARY:Division 1 Division meeting
DESCRIPTION:Division 1 monthly meeting at Sector San Diego
URL:https://web2.d11s.org/event/division-1-division-meeting/2024-09-16/
CATEGORIES:Unit Meeting
END:VEVENT
BEGIN:VEVENT
DTSTART;TZID=America/Los_Angeles:20240925T180000
DTEND;TZID=America/Los_Angeles:20240925T200000
DTSTAMP:20260425T083501
CREATED:20231019T180854Z
LAST-MODIFIED:20231019T180854Z
UID:10001133-1727287200-1727294400@web2.d11s.org
SUMMARY:Flotilla 96 Meeting
DESCRIPTION:Flotilla 114-09-06 Las Vegas Monthly Meeting
URL:https://web2.d11s.org/event/flotilla-96-meeting/2024-09-25/
LOCATION:In Person
CATEGORIES:Member Training,Unit Meeting
END:VEVENT
BEGIN:VEVENT
DTSTART;TZID=America/Los_Angeles:20241005T080000
DTEND;TZID=America/Los_Angeles:20241005T100000
DTSTAMP:20260425T083501
CREATED:20240226T212317Z
LAST-MODIFIED:20240226T212317Z
UID:10001459-1728115200-1728122400@web2.d11s.org
SUMMARY:Flotilla 06-08 Meeting
DESCRIPTION:Flotilla 06-08 Monthly Meeting\nDana West Yacht Club\n24601 Dana Dr\, Dana Point\, CA 92629
URL:https://web2.d11s.org/event/flotilla-06-08-meeting/2024-10-05/
CATEGORIES:Unit Meeting
END:VEVENT
BEGIN:VEVENT
DTSTART;TZID=America/Los_Angeles:20241014T183000
DTEND;TZID=America/Los_Angeles:20241014T200000
DTSTAMP:20260425T083501
CREATED:20240212T223300Z
LAST-MODIFIED:20240212T223300Z
UID:10001376-1728930600-1728936000@web2.d11s.org
SUMMARY:Division 114-07 Board Meeting
DESCRIPTION:Division 114-07 Board and Staff Officer Meeting. Held Monthly 2nd Monday of the month. Via Zoom.
URL:https://web2.d11s.org/event/division-114-07-board-meeting-3/2024-10-14/
CATEGORIES:Unit Meeting
ATTACH;FMTTYPE=image/jpeg:https://web2.d11s.org/wp-content/uploads/2024/02/Division11407-logo-good-2024-2.jpg
END:VEVENT
BEGIN:VEVENT
DTSTART;TZID=America/Los_Angeles:20241021T190000
DTEND;TZID=America/Los_Angeles:20241021T203000
DTSTAMP:20260425T083501
CREATED:20240104T024713Z
LAST-MODIFIED:20240104T024713Z
UID:10001217-1729537200-1729542600@web2.d11s.org
SUMMARY:Division 1 Division meeting
DESCRIPTION:Division 1 monthly meeting at Sector San Diego
URL:https://web2.d11s.org/event/division-1-division-meeting/2024-10-21/
CATEGORIES:Unit Meeting
END:VEVENT
BEGIN:VEVENT
DTSTART;TZID=America/Los_Angeles:20241030T180000
DTEND;TZID=America/Los_Angeles:20241030T200000
DTSTAMP:20260425T083501
CREATED:20231019T180854Z
LAST-MODIFIED:20231019T180854Z
UID:10001134-1730311200-1730318400@web2.d11s.org
SUMMARY:Flotilla 96 Meeting
DESCRIPTION:Flotilla 114-09-06 Las Vegas Monthly Meeting
URL:https://web2.d11s.org/event/flotilla-96-meeting/2024-10-30/
LOCATION:In Person
CATEGORIES:Member Training,Unit Meeting
END:VEVENT
BEGIN:VEVENT
DTSTART;TZID=America/Los_Angeles:20241102T080000
DTEND;TZID=America/Los_Angeles:20241102T100000
DTSTAMP:20260425T083501
CREATED:20240226T212317Z
LAST-MODIFIED:20240226T212317Z
UID:10001460-1730534400-1730541600@web2.d11s.org
SUMMARY:Flotilla 06-08 Meeting
DESCRIPTION:Flotilla 06-08 Monthly Meeting\nDana West Yacht Club\n24601 Dana Dr\, Dana Point\, CA 92629
URL:https://web2.d11s.org/event/flotilla-06-08-meeting/2024-11-02/
CATEGORIES:Unit Meeting
END:VEVENT
BEGIN:VEVENT
DTSTART;TZID=America/Los_Angeles:20241111T183000
DTEND;TZID=America/Los_Angeles:20241111T200000
DTSTAMP:20260425T083501
CREATED:20240212T222904Z
LAST-MODIFIED:20240212T222904Z
UID:10001344-1731349800-1731355200@web2.d11s.org
SUMMARY:Division 114-07 Board Meeting
DESCRIPTION:Division 114-07 Board and Staff Officer Meeting. Held Monthly 2nd Monday of the month. Via Zoom.
URL:https://web2.d11s.org/event/division-114-07-board-meeting-2/2024-11-11/
CATEGORIES:Unit Meeting
ATTACH;FMTTYPE=image/jpeg:https://web2.d11s.org/wp-content/uploads/2024/02/Division11407-logo-good-2024-1.jpg
END:VEVENT
BEGIN:VEVENT
DTSTART;TZID=America/Los_Angeles:20241111T183000
DTEND;TZID=America/Los_Angeles:20241111T200000
DTSTAMP:20260425T083501
CREATED:20240212T223300Z
LAST-MODIFIED:20240212T223300Z
UID:10001377-1731349800-1731355200@web2.d11s.org
SUMMARY:Division 114-07 Board Meeting
DESCRIPTION:Division 114-07 Board and Staff Officer Meeting. Held Monthly 2nd Monday of the month. Via Zoom.
URL:https://web2.d11s.org/event/division-114-07-board-meeting-3/2024-11-11/
CATEGORIES:Unit Meeting
ATTACH;FMTTYPE=image/jpeg:https://web2.d11s.org/wp-content/uploads/2024/02/Division11407-logo-good-2024-2.jpg
END:VEVENT
BEGIN:VEVENT
DTSTART;TZID=America/Los_Angeles:20241118T190000
DTEND;TZID=America/Los_Angeles:20241118T203000
DTSTAMP:20260425T083501
CREATED:20240104T024713Z
LAST-MODIFIED:20240104T024713Z
UID:10001218-1731956400-1731961800@web2.d11s.org
SUMMARY:Division 1 Division meeting
DESCRIPTION:Division 1 monthly meeting at Sector San Diego
URL:https://web2.d11s.org/event/division-1-division-meeting/2024-11-18/
CATEGORIES:Unit Meeting
END:VEVENT
BEGIN:VEVENT
DTSTART;TZID=America/Los_Angeles:20241120T080000
DTEND;TZID=America/Los_Angeles:20241120T170000
DTSTAMP:20260425T083501
CREATED:20241120T155734Z
LAST-MODIFIED:20241120T155734Z
UID:10001650-1732089600-1732122000@web2.d11s.org
SUMMARY:Flotilla 114-09-06 (Central Las Vegas) November Flotilla Business Meeting
DESCRIPTION:United States Coast Guard Auxiliary\nCentral Las Vegas Flotilla 9-6 \n****November Monthly Business Meeting ***\nWednesday\, November 20\, 2024 @ 6:00 pm \n******* VIRTUAL MEETING ONLY ****** \nVIRTUAL / ZOOM MEETING LINK\nhttps://us06web.zoom.us/j/81529276129?pwd=VO1l3AnFLoi04oEtsih2TIjcTxwZpH.1 \nMeeting ID: 815 2927 6129\nPasscode: 8724 \nPHONE CALL-IN: 1-669-444 9171\nMeeting ID: 81529276129 & Passcode: 8724
URL:https://web2.d11s.org/event/flotilla-114-09-06-central-las-vegas-november-flotilla-business-meeting/2024-11-20/1/
LOCATION:Virtual Event
CATEGORIES:Unit Meeting
END:VEVENT
BEGIN:VEVENT
DTSTART;TZID=America/Los_Angeles:20241120T180000
DTEND;TZID=America/Los_Angeles:20241120T200000
DTSTAMP:20260425T083501
CREATED:20241120T155734Z
LAST-MODIFIED:20241120T155734Z
UID:10001651-1732125600-1732132800@web2.d11s.org
SUMMARY:Flotilla 114-09-06 (Central Las Vegas) November Flotilla Business Meeting
DESCRIPTION:United States Coast Guard Auxiliary\nCentral Las Vegas Flotilla 9-6 \n****November Monthly Business Meeting ***\nWednesday\, November 20\, 2024 @ 6:00 pm \n******* VIRTUAL MEETING ONLY ****** \nVIRTUAL / ZOOM MEETING LINK\nhttps://us06web.zoom.us/j/81529276129?pwd=VO1l3AnFLoi04oEtsih2TIjcTxwZpH.1 \nMeeting ID: 815 2927 6129\nPasscode: 8724 \nPHONE CALL-IN: 1-669-444 9171\nMeeting ID: 81529276129 & Passcode: 8724
URL:https://web2.d11s.org/event/flotilla-114-09-06-central-las-vegas-november-flotilla-business-meeting/2024-11-20/2/
LOCATION:Virtual Event
CATEGORIES:Unit Meeting
END:VEVENT
BEGIN:VEVENT
DTSTART;TZID=America/Los_Angeles:20241125T183000
DTEND;TZID=America/Los_Angeles:20241125T193000
DTSTAMP:20260425T083501
CREATED:20241029T133626Z
LAST-MODIFIED:20241029T133626Z
UID:10001587-1732559400-1732563000@web2.d11s.org
SUMMARY:Flotilla 10-07 Unit Meeting
DESCRIPTION:Flotilla 10-07 Unit Meeting
URL:https://web2.d11s.org/event/flotilla-10-07-unit-meeting-4/
CATEGORIES:Unit Meeting
ATTACH;FMTTYPE=image/jpeg:https://web2.d11s.org/wp-content/uploads/2024/10/1007-logo.jpg
END:VEVENT
BEGIN:VEVENT
DTSTART;TZID=America/Los_Angeles:20241127T180000
DTEND;TZID=America/Los_Angeles:20241127T200000
DTSTAMP:20260425T083501
CREATED:20231019T180854Z
LAST-MODIFIED:20231019T180854Z
UID:10001135-1732730400-1732737600@web2.d11s.org
SUMMARY:Flotilla 96 Meeting
DESCRIPTION:Flotilla 114-09-06 Las Vegas Monthly Meeting
URL:https://web2.d11s.org/event/flotilla-96-meeting/2024-11-27/
LOCATION:In Person
CATEGORIES:Member Training,Unit Meeting
END:VEVENT
END:VCALENDAR