BEGIN:VCALENDAR
VERSION:2.0
PRODID:-//US Coast Guard Auxiliary-D11S - ECPv6.15.20//NONSGML v1.0//EN
CALSCALE:GREGORIAN
METHOD:PUBLISH
X-WR-CALNAME:US Coast Guard Auxiliary-D11S
X-ORIGINAL-URL:https://web2.d11s.org
X-WR-CALDESC:Events for US Coast Guard Auxiliary-D11S
REFRESH-INTERVAL;VALUE=DURATION:PT1H
X-Robots-Tag:noindex
X-PUBLISHED-TTL:PT1H
BEGIN:VTIMEZONE
TZID:America/Los_Angeles
BEGIN:DAYLIGHT
TZOFFSETFROM:-0800
TZOFFSETTO:-0700
TZNAME:PDT
DTSTART:20240310T100000
END:DAYLIGHT
BEGIN:STANDARD
TZOFFSETFROM:-0700
TZOFFSETTO:-0800
TZNAME:PST
DTSTART:20241103T090000
END:STANDARD
BEGIN:DAYLIGHT
TZOFFSETFROM:-0800
TZOFFSETTO:-0700
TZNAME:PDT
DTSTART:20250309T100000
END:DAYLIGHT
BEGIN:STANDARD
TZOFFSETFROM:-0700
TZOFFSETTO:-0800
TZNAME:PST
DTSTART:20251102T090000
END:STANDARD
BEGIN:DAYLIGHT
TZOFFSETFROM:-0800
TZOFFSETTO:-0700
TZNAME:PDT
DTSTART:20260308T100000
END:DAYLIGHT
BEGIN:STANDARD
TZOFFSETFROM:-0700
TZOFFSETTO:-0800
TZNAME:PST
DTSTART:20261101T090000
END:STANDARD
END:VTIMEZONE
BEGIN:VEVENT
DTSTART;TZID=America/Los_Angeles:20250410T180000
DTEND;TZID=America/Los_Angeles:20250410T200000
DTSTAMP:20260425T064834
CREATED:20240118T214118Z
LAST-MODIFIED:20240118T214118Z
UID:10001285-1744308000-1744315200@web2.d11s.org
SUMMARY:Monthly Meeting
DESCRIPTION:Flotilla 09-05
URL:https://web2.d11s.org/event/monthly-meeting-2/2025-04-10/
END:VEVENT
BEGIN:VEVENT
DTSTART;TZID=America/Los_Angeles:20250409T193000
DTEND;TZID=America/Los_Angeles:20250409T200000
DTSTAMP:20260425T064834
CREATED:20230706T014325Z
LAST-MODIFIED:20230706T014325Z
UID:10000851-1744227000-1744228800@web2.d11s.org
SUMMARY:Sector San Diego VHF Net
DESCRIPTION:Weekly SDG Sector VHF net on YSD repeater  Wendesday’s at 1930 PST/PDT – unless preempted by federal holiday.
URL:https://web2.d11s.org/event/sector-san-diego-vhf-net/2025-04-09/
END:VEVENT
BEGIN:VEVENT
DTSTART;TZID=America/Los_Angeles:20250409T180000
DTEND;TZID=America/Los_Angeles:20250409T203000
DTSTAMP:20260425T064834
CREATED:20250325T235304Z
LAST-MODIFIED:20250327T204257Z
UID:10001659-1744221600-1744230600@web2.d11s.org
SUMMARY:RM/TCT Annual Refresher
DESCRIPTION:This is the required annual RM/TCT refresher needed  in order to maintain currency. \nEmail lesliepelosi@yahoo.com to register. \nClass Full
URL:https://web2.d11s.org/event/rm-tct-annual-refresher-2/2025-04-09/
LOCATION:Virtual Event
CATEGORIES:Member Training
ORGANIZER;CN="District 11":MAILTO:crosario.uscgaux@gmail.com
END:VEVENT
BEGIN:VEVENT
DTSTART;TZID=America/Los_Angeles:20250408T193000
DTEND;TZID=America/Los_Angeles:20250408T203000
DTSTAMP:20260425T064834
CREATED:20230606T231511Z
LAST-MODIFIED:20230607T183825Z
UID:10000498-1744140600-1744144200@web2.d11s.org
SUMMARY:District 11 South VHF AUXNET
DESCRIPTION:The District 11 Sothern Region weekly VHF AUXNET starts at 1930hrs. each Tuesday on the Yankee Sierra Repeater. This net provides an opportunity for members to get experience talking on the radio and ensure their equipment is functioning properly.\nIt also provides the district with a list of known operating radio stations and operator for emergency and contingency communications.
URL:https://web2.d11s.org/event/district-11-south-vhf-auxnet/2025-04-08/
END:VEVENT
BEGIN:VEVENT
DTSTART;TZID=America/Los_Angeles:20250408T173000
DTEND;TZID=America/Los_Angeles:20250408T193000
DTSTAMP:20260425T064834
CREATED:20230606T224755Z
LAST-MODIFIED:20230606T224755Z
UID:10000236-1744133400-1744140600@web2.d11s.org
SUMMARY:West Coast Regional HF Radio Net
DESCRIPTION:The weekly HF Radio Net begins at 1830 hrs. Tuesdays on B5D. A concurrent virtual session starts around 1730 on  and provides an opportunity to meet net members\, get experience\, or get assistance with radio problems.\nMembers display their name and callsign. Guests display their name and guest.
URL:https://web2.d11s.org/event/west-coast-regional-hf-radio-net/2025-04-08/
ORGANIZER;CN="District 11":MAILTO:crosario.uscgaux@gmail.com
END:VEVENT
BEGIN:VEVENT
DTSTART;TZID=America/Los_Angeles:20250403T180000
DTEND;TZID=America/Los_Angeles:20250403T203000
DTSTAMP:20260425T064834
CREATED:20250325T235057Z
LAST-MODIFIED:20250325T235057Z
UID:10001658-1743703200-1743712200@web2.d11s.org
SUMMARY:RM/TCT Annual Refresher
DESCRIPTION:This is the required annual RM/TCT refresher needed  in order to maintain currency. \nEmail lesliepelosi@yahoo.com to register. \nClass Full \n  \n 
URL:https://web2.d11s.org/event/rm-tct-annual-refresher/2025-04-03/
LOCATION:Virtual Event
CATEGORIES:Member Training
ORGANIZER;CN="District 11":MAILTO:crosario.uscgaux@gmail.com
END:VEVENT
BEGIN:VEVENT
DTSTART;TZID=America/Los_Angeles:20250402T193000
DTEND;TZID=America/Los_Angeles:20250402T200000
DTSTAMP:20260425T064834
CREATED:20230706T014325Z
LAST-MODIFIED:20230706T014325Z
UID:10000850-1743622200-1743624000@web2.d11s.org
SUMMARY:Sector San Diego VHF Net
DESCRIPTION:Weekly SDG Sector VHF net on YSD repeater  Wendesday’s at 1930 PST/PDT – unless preempted by federal holiday.
URL:https://web2.d11s.org/event/sector-san-diego-vhf-net/2025-04-02/
END:VEVENT
BEGIN:VEVENT
DTSTART;TZID=America/Los_Angeles:20250402T180000
DTEND;TZID=America/Los_Angeles:20250402T203000
DTSTAMP:20260425T064834
CREATED:20250325T235057Z
LAST-MODIFIED:20250325T235057Z
UID:10001657-1743616800-1743625800@web2.d11s.org
SUMMARY:RM/TCT Annual Refresher
DESCRIPTION:This is the required annual RM/TCT refresher needed  in order to maintain currency. \nEmail lesliepelosi@yahoo.com to register. \nClass Full \n  \n 
URL:https://web2.d11s.org/event/rm-tct-annual-refresher/2025-04-02/
LOCATION:Virtual Event
CATEGORIES:Member Training
ORGANIZER;CN="District 11":MAILTO:crosario.uscgaux@gmail.com
END:VEVENT
BEGIN:VEVENT
DTSTART;TZID=America/Los_Angeles:20250401T193000
DTEND;TZID=America/Los_Angeles:20250401T203000
DTSTAMP:20260425T064834
CREATED:20230606T231511Z
LAST-MODIFIED:20230607T183825Z
UID:10000497-1743535800-1743539400@web2.d11s.org
SUMMARY:District 11 South VHF AUXNET
DESCRIPTION:The District 11 Sothern Region weekly VHF AUXNET starts at 1930hrs. each Tuesday on the Yankee Sierra Repeater. This net provides an opportunity for members to get experience talking on the radio and ensure their equipment is functioning properly.\nIt also provides the district with a list of known operating radio stations and operator for emergency and contingency communications.
URL:https://web2.d11s.org/event/district-11-south-vhf-auxnet/2025-04-01/
END:VEVENT
BEGIN:VEVENT
DTSTART;TZID=America/Los_Angeles:20250401T173000
DTEND;TZID=America/Los_Angeles:20250401T193000
DTSTAMP:20260425T064834
CREATED:20230606T224755Z
LAST-MODIFIED:20230606T224755Z
UID:10000235-1743528600-1743535800@web2.d11s.org
SUMMARY:West Coast Regional HF Radio Net
DESCRIPTION:The weekly HF Radio Net begins at 1830 hrs. Tuesdays on B5D. A concurrent virtual session starts around 1730 on  and provides an opportunity to meet net members\, get experience\, or get assistance with radio problems.\nMembers display their name and callsign. Guests display their name and guest.
URL:https://web2.d11s.org/event/west-coast-regional-hf-radio-net/2025-04-01/
ORGANIZER;CN="District 11":MAILTO:crosario.uscgaux@gmail.com
END:VEVENT
BEGIN:VEVENT
DTSTART;TZID=America/Los_Angeles:20250327T180000
DTEND;TZID=America/Los_Angeles:20250327T200000
DTSTAMP:20260425T064834
CREATED:20241106T164830Z
LAST-MODIFIED:20241106T164830Z
UID:10001591-1743098400-1743105600@web2.d11s.org
SUMMARY:Flotilla 01-04 Meeting
DESCRIPTION:We meet the 4th Thursday at 1800 hours.  Silvergate Yacht Club.  There will be no meeting in November and December.
URL:https://web2.d11s.org/event/flotilla-01-04-meeting/2025-03-27/
END:VEVENT
BEGIN:VEVENT
DTSTART;TZID=America/Los_Angeles:20250327T180000
DTEND;TZID=America/Los_Angeles:20250327T200000
DTSTAMP:20260425T064834
CREATED:20230929T185712Z
LAST-MODIFIED:20230929T185712Z
UID:10001078-1743098400-1743105600@web2.d11s.org
SUMMARY:Flotilla 1-10 meeting
DESCRIPTION:We meet every 4th Thursday at 1800. There will be no meeting in November and December. Contact FC for location.
URL:https://web2.d11s.org/event/flotilla-1-10-meeting/2025-03-27/
END:VEVENT
BEGIN:VEVENT
DTSTART;TZID=America/Los_Angeles:20250326T193000
DTEND;TZID=America/Los_Angeles:20250326T200000
DTSTAMP:20260425T064834
CREATED:20230706T014325Z
LAST-MODIFIED:20230706T014325Z
UID:10000849-1743017400-1743019200@web2.d11s.org
SUMMARY:Sector San Diego VHF Net
DESCRIPTION:Weekly SDG Sector VHF net on YSD repeater  Wendesday’s at 1930 PST/PDT – unless preempted by federal holiday.
URL:https://web2.d11s.org/event/sector-san-diego-vhf-net/2025-03-26/
END:VEVENT
BEGIN:VEVENT
DTSTART;TZID=America/Los_Angeles:20250326T180000
DTEND;TZID=America/Los_Angeles:20250326T200000
DTSTAMP:20260425T064834
CREATED:20231019T180854Z
LAST-MODIFIED:20231019T180854Z
UID:10001139-1743012000-1743019200@web2.d11s.org
SUMMARY:Flotilla 96 Meeting
DESCRIPTION:Flotilla 114-09-06 Las Vegas Monthly Meeting
URL:https://web2.d11s.org/event/flotilla-96-meeting/2025-03-26/
LOCATION:In Person
CATEGORIES:Member Training,Unit Meeting
END:VEVENT
BEGIN:VEVENT
DTSTART;TZID=America/Los_Angeles:20250325T193000
DTEND;TZID=America/Los_Angeles:20250325T203000
DTSTAMP:20260425T064834
CREATED:20230606T231511Z
LAST-MODIFIED:20230607T183825Z
UID:10000496-1742931000-1742934600@web2.d11s.org
SUMMARY:District 11 South VHF AUXNET
DESCRIPTION:The District 11 Sothern Region weekly VHF AUXNET starts at 1930hrs. each Tuesday on the Yankee Sierra Repeater. This net provides an opportunity for members to get experience talking on the radio and ensure their equipment is functioning properly.\nIt also provides the district with a list of known operating radio stations and operator for emergency and contingency communications.
URL:https://web2.d11s.org/event/district-11-south-vhf-auxnet/2025-03-25/
END:VEVENT
BEGIN:VEVENT
DTSTART;TZID=America/Los_Angeles:20250325T190000
DTEND;TZID=America/Los_Angeles:20250325T203000
DTSTAMP:20260425T064834
CREATED:20250325T234514Z
LAST-MODIFIED:20250325T234514Z
UID:10001656-1742929200-1742934600@web2.d11s.org
SUMMARY:Flotilla 11-11 Monthly Meeting
DESCRIPTION:Inland Empire \nFlotilla 11-11 \nMonthly Member Meeting
URL:https://web2.d11s.org/event/flotilla-11-11-monthly-meeting/
LOCATION:In Person
END:VEVENT
BEGIN:VEVENT
DTSTART;TZID=America/Los_Angeles:20250325T173000
DTEND;TZID=America/Los_Angeles:20250325T193000
DTSTAMP:20260425T064834
CREATED:20230606T224755Z
LAST-MODIFIED:20230606T224755Z
UID:10000234-1742923800-1742931000@web2.d11s.org
SUMMARY:West Coast Regional HF Radio Net
DESCRIPTION:The weekly HF Radio Net begins at 1830 hrs. Tuesdays on B5D. A concurrent virtual session starts around 1730 on  and provides an opportunity to meet net members\, get experience\, or get assistance with radio problems.\nMembers display their name and callsign. Guests display their name and guest.
URL:https://web2.d11s.org/event/west-coast-regional-hf-radio-net/2025-03-25/
ORGANIZER;CN="District 11":MAILTO:crosario.uscgaux@gmail.com
END:VEVENT
BEGIN:VEVENT
DTSTART;TZID=America/Los_Angeles:20250324T190000
DTEND;TZID=America/Los_Angeles:20250324T210000
DTSTAMP:20260425T064834
CREATED:20240306T183821Z
LAST-MODIFIED:20240306T183821Z
UID:10001481-1742842800-1742850000@web2.d11s.org
SUMMARY:Division 6 Meeting
DESCRIPTION:Division 6 Monthly Meeting – Orange City Hall
URL:https://web2.d11s.org/event/division-6-meeting/2025-03-24/
END:VEVENT
BEGIN:VEVENT
DTSTART;TZID=America/Los_Angeles:20250324T180000
DTEND;TZID=America/Los_Angeles:20250324T190000
DTSTAMP:20260425T064834
CREATED:20240221T193856Z
LAST-MODIFIED:20240221T193856Z
UID:10001444-1742839200-1742842800@web2.d11s.org
SUMMARY:Flotilla 01-01 monthly meeting
DESCRIPTION:Monthly flotilla meeting at Sector San Diego
URL:https://web2.d11s.org/event/flotilla-01-01-monthly-meeting/2025-03-24/
END:VEVENT
BEGIN:VEVENT
DTSTART;TZID=America/Los_Angeles:20250319T193000
DTEND;TZID=America/Los_Angeles:20250319T200000
DTSTAMP:20260425T064834
CREATED:20230706T014325Z
LAST-MODIFIED:20230706T014325Z
UID:10000848-1742412600-1742414400@web2.d11s.org
SUMMARY:Sector San Diego VHF Net
DESCRIPTION:Weekly SDG Sector VHF net on YSD repeater  Wendesday’s at 1930 PST/PDT – unless preempted by federal holiday.
URL:https://web2.d11s.org/event/sector-san-diego-vhf-net/2025-03-19/
END:VEVENT
BEGIN:VEVENT
DTSTART;TZID=America/Los_Angeles:20250318T193000
DTEND;TZID=America/Los_Angeles:20250318T203000
DTSTAMP:20260425T064834
CREATED:20230606T231511Z
LAST-MODIFIED:20230607T183825Z
UID:10000495-1742326200-1742329800@web2.d11s.org
SUMMARY:District 11 South VHF AUXNET
DESCRIPTION:The District 11 Sothern Region weekly VHF AUXNET starts at 1930hrs. each Tuesday on the Yankee Sierra Repeater. This net provides an opportunity for members to get experience talking on the radio and ensure their equipment is functioning properly.\nIt also provides the district with a list of known operating radio stations and operator for emergency and contingency communications.
URL:https://web2.d11s.org/event/district-11-south-vhf-auxnet/2025-03-18/
END:VEVENT
BEGIN:VEVENT
DTSTART;TZID=America/Los_Angeles:20250318T173000
DTEND;TZID=America/Los_Angeles:20250318T193000
DTSTAMP:20260425T064834
CREATED:20230606T224755Z
LAST-MODIFIED:20230606T224755Z
UID:10000233-1742319000-1742326200@web2.d11s.org
SUMMARY:West Coast Regional HF Radio Net
DESCRIPTION:The weekly HF Radio Net begins at 1830 hrs. Tuesdays on B5D. A concurrent virtual session starts around 1730 on  and provides an opportunity to meet net members\, get experience\, or get assistance with radio problems.\nMembers display their name and callsign. Guests display their name and guest.
URL:https://web2.d11s.org/event/west-coast-regional-hf-radio-net/2025-03-18/
ORGANIZER;CN="District 11":MAILTO:crosario.uscgaux@gmail.com
END:VEVENT
BEGIN:VEVENT
DTSTART;TZID=America/Los_Angeles:20250317T190000
DTEND;TZID=America/Los_Angeles:20250317T203000
DTSTAMP:20260425T064834
CREATED:20240104T024713Z
LAST-MODIFIED:20240104T024713Z
UID:10001222-1742238000-1742243400@web2.d11s.org
SUMMARY:Division 1 Division meeting
DESCRIPTION:Division 1 monthly meeting at Sector San Diego
URL:https://web2.d11s.org/event/division-1-division-meeting/2025-03-17/
CATEGORIES:Unit Meeting
END:VEVENT
BEGIN:VEVENT
DTSTART;TZID=America/Los_Angeles:20250316T100000
DTEND;TZID=America/Los_Angeles:20250316T140000
DTSTAMP:20260425T064834
CREATED:20241214T073720Z
LAST-MODIFIED:20241214T073720Z
UID:10001655-1742119200-1742133600@web2.d11s.org
SUMMARY:DIV 7 CHANGE OF WATCH
DESCRIPTION:Division 114-07 Channel Islands\nCHANGE OF WATCH\nAwards And Fellowship Brunch\nSunday March 16\, 2025\nFellowship 10:00 a.m.    Brunch 11:00 a.m.\nRSVP starting January 2025 \nPacific Corinthian Yacht Club\nOxnard\, CA
URL:https://web2.d11s.org/event/div-7-change-of-watch/
CATEGORIES:Special Event
ATTACH;FMTTYPE=image/png:https://web2.d11s.org/wp-content/uploads/2024/12/Division11407-Logo-rope-2024.png
END:VEVENT
BEGIN:VEVENT
DTSTART;TZID=America/Los_Angeles:20250313T180000
DTEND;TZID=America/Los_Angeles:20250313T200000
DTSTAMP:20260425T064834
CREATED:20240118T214118Z
LAST-MODIFIED:20240118T214118Z
UID:10001284-1741888800-1741896000@web2.d11s.org
SUMMARY:Monthly Meeting
DESCRIPTION:Flotilla 09-05
URL:https://web2.d11s.org/event/monthly-meeting-2/2025-03-13/
END:VEVENT
BEGIN:VEVENT
DTSTART;TZID=America/Los_Angeles:20250312T193000
DTEND;TZID=America/Los_Angeles:20250312T200000
DTSTAMP:20260425T064834
CREATED:20230706T014325Z
LAST-MODIFIED:20230706T014325Z
UID:10000847-1741807800-1741809600@web2.d11s.org
SUMMARY:Sector San Diego VHF Net
DESCRIPTION:Weekly SDG Sector VHF net on YSD repeater  Wendesday’s at 1930 PST/PDT – unless preempted by federal holiday.
URL:https://web2.d11s.org/event/sector-san-diego-vhf-net/2025-03-12/
END:VEVENT
BEGIN:VEVENT
DTSTART;TZID=America/Los_Angeles:20250311T193000
DTEND;TZID=America/Los_Angeles:20250311T203000
DTSTAMP:20260425T064834
CREATED:20230606T231511Z
LAST-MODIFIED:20230607T183825Z
UID:10000494-1741721400-1741725000@web2.d11s.org
SUMMARY:District 11 South VHF AUXNET
DESCRIPTION:The District 11 Sothern Region weekly VHF AUXNET starts at 1930hrs. each Tuesday on the Yankee Sierra Repeater. This net provides an opportunity for members to get experience talking on the radio and ensure their equipment is functioning properly.\nIt also provides the district with a list of known operating radio stations and operator for emergency and contingency communications.
URL:https://web2.d11s.org/event/district-11-south-vhf-auxnet/2025-03-11/
END:VEVENT
BEGIN:VEVENT
DTSTART;TZID=America/Los_Angeles:20250311T173000
DTEND;TZID=America/Los_Angeles:20250311T193000
DTSTAMP:20260425T064834
CREATED:20230606T224755Z
LAST-MODIFIED:20230606T224755Z
UID:10000232-1741714200-1741721400@web2.d11s.org
SUMMARY:West Coast Regional HF Radio Net
DESCRIPTION:The weekly HF Radio Net begins at 1830 hrs. Tuesdays on B5D. A concurrent virtual session starts around 1730 on  and provides an opportunity to meet net members\, get experience\, or get assistance with radio problems.\nMembers display their name and callsign. Guests display their name and guest.
URL:https://web2.d11s.org/event/west-coast-regional-hf-radio-net/2025-03-11/
ORGANIZER;CN="District 11":MAILTO:crosario.uscgaux@gmail.com
END:VEVENT
BEGIN:VEVENT
DTSTART;TZID=America/Los_Angeles:20250310T183000
DTEND;TZID=America/Los_Angeles:20250310T200000
DTSTAMP:20260425T064834
CREATED:20240212T223300Z
LAST-MODIFIED:20240212T223300Z
UID:10001381-1741631400-1741636800@web2.d11s.org
SUMMARY:Division 114-07 Board Meeting
DESCRIPTION:Division 114-07 Board and Staff Officer Meeting. Held Monthly 2nd Monday of the month. Via Zoom.
URL:https://web2.d11s.org/event/division-114-07-board-meeting-3/2025-03-10/
CATEGORIES:Unit Meeting
ATTACH;FMTTYPE=image/jpeg:https://web2.d11s.org/wp-content/uploads/2024/02/Division11407-logo-good-2024-2.jpg
END:VEVENT
BEGIN:VEVENT
DTSTART;TZID=America/Los_Angeles:20250310T183000
DTEND;TZID=America/Los_Angeles:20250310T200000
DTSTAMP:20260425T064834
CREATED:20240212T222904Z
LAST-MODIFIED:20240212T222904Z
UID:10001346-1741631400-1741636800@web2.d11s.org
SUMMARY:Division 114-07 Board Meeting
DESCRIPTION:Division 114-07 Board and Staff Officer Meeting. Held Monthly 2nd Monday of the month. Via Zoom.
URL:https://web2.d11s.org/event/division-114-07-board-meeting-2/2025-03-10/
CATEGORIES:Unit Meeting
ATTACH;FMTTYPE=image/jpeg:https://web2.d11s.org/wp-content/uploads/2024/02/Division11407-logo-good-2024-1.jpg
END:VEVENT
END:VCALENDAR