BEGIN:VCALENDAR
VERSION:2.0
PRODID:-//US Coast Guard Auxiliary-D11S - ECPv6.15.20//NONSGML v1.0//EN
CALSCALE:GREGORIAN
METHOD:PUBLISH
X-WR-CALNAME:US Coast Guard Auxiliary-D11S
X-ORIGINAL-URL:https://web2.d11s.org
X-WR-CALDESC:Events for US Coast Guard Auxiliary-D11S
REFRESH-INTERVAL;VALUE=DURATION:PT1H
X-Robots-Tag:noindex
X-PUBLISHED-TTL:PT1H
BEGIN:VTIMEZONE
TZID:America/Los_Angeles
BEGIN:DAYLIGHT
TZOFFSETFROM:-0800
TZOFFSETTO:-0700
TZNAME:PDT
DTSTART:20230312T100000
END:DAYLIGHT
BEGIN:STANDARD
TZOFFSETFROM:-0700
TZOFFSETTO:-0800
TZNAME:PST
DTSTART:20231105T090000
END:STANDARD
BEGIN:DAYLIGHT
TZOFFSETFROM:-0800
TZOFFSETTO:-0700
TZNAME:PDT
DTSTART:20240310T100000
END:DAYLIGHT
BEGIN:STANDARD
TZOFFSETFROM:-0700
TZOFFSETTO:-0800
TZNAME:PST
DTSTART:20241103T090000
END:STANDARD
BEGIN:DAYLIGHT
TZOFFSETFROM:-0800
TZOFFSETTO:-0700
TZNAME:PDT
DTSTART:20250309T100000
END:DAYLIGHT
BEGIN:STANDARD
TZOFFSETFROM:-0700
TZOFFSETTO:-0800
TZNAME:PST
DTSTART:20251102T090000
END:STANDARD
END:VTIMEZONE
BEGIN:VEVENT
DTSTART;TZID=America/Los_Angeles:20241125T190000
DTEND;TZID=America/Los_Angeles:20241125T210000
DTSTAMP:20260425T204920
CREATED:20240306T183821Z
LAST-MODIFIED:20240306T183821Z
UID:10001478-1732561200-1732568400@web2.d11s.org
SUMMARY:Division 6 Meeting
DESCRIPTION:Division 6 Monthly Meeting – Orange City Hall
URL:https://web2.d11s.org/event/division-6-meeting/2024-11-25/
END:VEVENT
BEGIN:VEVENT
DTSTART;TZID=America/Los_Angeles:20241125T183000
DTEND;TZID=America/Los_Angeles:20241125T193000
DTSTAMP:20260425T204920
CREATED:20241029T133626Z
LAST-MODIFIED:20241029T133626Z
UID:10001587-1732559400-1732563000@web2.d11s.org
SUMMARY:Flotilla 10-07 Unit Meeting
DESCRIPTION:Flotilla 10-07 Unit Meeting
URL:https://web2.d11s.org/event/flotilla-10-07-unit-meeting-4/
CATEGORIES:Unit Meeting
ATTACH;FMTTYPE=image/jpeg:https://web2.d11s.org/wp-content/uploads/2024/10/1007-logo.jpg
END:VEVENT
BEGIN:VEVENT
DTSTART;TZID=America/Los_Angeles:20241125T180000
DTEND;TZID=America/Los_Angeles:20241125T190000
DTSTAMP:20260425T204920
CREATED:20240221T193856Z
LAST-MODIFIED:20240221T193856Z
UID:10001440-1732557600-1732561200@web2.d11s.org
SUMMARY:Flotilla 01-01 monthly meeting
DESCRIPTION:Monthly flotilla meeting at Sector San Diego
URL:https://web2.d11s.org/event/flotilla-01-01-monthly-meeting/2024-11-25/
END:VEVENT
BEGIN:VEVENT
DTSTART;TZID=America/Los_Angeles:20241123T080000
DTEND;TZID=America/Los_Angeles:20241123T120000
DTSTAMP:20260425T204920
CREATED:20241023T055327Z
LAST-MODIFIED:20241023T055327Z
UID:10001586-1732348800-1732363200@web2.d11s.org
SUMMARY:RM TCT Refresher- Saturday 23 Nov
DESCRIPTION:Join us for a virtual 4-hour RM TCT refresher.\n0800-1200 PST.\nMust have working camera and microphone. To register\, email LesliePelosi@yahoo.com.  Log in info will be sent out about 3 days before class.
URL:https://web2.d11s.org/event/rm-tct-refresher-saturday-23-nov/
END:VEVENT
BEGIN:VEVENT
DTSTART;VALUE=DATE:20241123
DTEND;VALUE=DATE:20241124
DTSTAMP:20260425T204920
CREATED:20241116T173800Z
LAST-MODIFIED:20241116T173800Z
UID:10001648-1732320000-1732406399@web2.d11s.org
SUMMARY:Div 114-07: FELA - Flotilla Elected Leaders Academy
DESCRIPTION:Mission: To provide elected flotilla leaders\, and members aspiring to be elected or appointed flotilla leaders\, with a clear understanding of the knowledge\, skills\, practices and performance needed to be a successful flotilla leader. \nTODAY’S TOPICS \nAdministration (Membership Application\, Finance Reporting/Annual Budget\, AuxData II Reports)\nCommunications (verbal/non-verbal\, email/written)\nFlotilla Organization\, Staff Officer Appointments\, Meetings\, Member Survey\, Flotilla GAR)\nLeadership: (Goal setting/Vision/ Leadership Qualities)\nMembership: (Member Training\, Mentoring\, Awards\, Conflict Resolution\, HR\, Uniforms )\nObligations of the Flotilla Commander/ Vice Commander\nPolicy: (Flotilla’s Standing Rules\, Aux Manual\, DIRAUX)\nResources: (Auxdata II\, Flotilla Procedure Guide\, AUXMAN\, CGAUX.Org)\nStructure: (National / District / Division / Flotilla)
URL:https://web2.d11s.org/event/div-114-07-fela-flotilla-elected-leaders-academy/
CATEGORIES:Member Training
ATTACH;FMTTYPE=image/png:https://web2.d11s.org/wp-content/uploads/2024/11/Division11407-logo-150px.png
END:VEVENT
BEGIN:VEVENT
DTSTART;TZID=America/Los_Angeles:20241120T193000
DTEND;TZID=America/Los_Angeles:20241120T200000
DTSTAMP:20260425T204920
CREATED:20230706T014325Z
LAST-MODIFIED:20230706T014325Z
UID:10000831-1732131000-1732132800@web2.d11s.org
SUMMARY:Sector San Diego VHF Net
DESCRIPTION:Weekly SDG Sector VHF net on YSD repeater  Wendesday’s at 1930 PST/PDT – unless preempted by federal holiday.
URL:https://web2.d11s.org/event/sector-san-diego-vhf-net/2024-11-20/
END:VEVENT
BEGIN:VEVENT
DTSTART;TZID=America/Los_Angeles:20241120T180000
DTEND;TZID=America/Los_Angeles:20241120T200000
DTSTAMP:20260425T204920
CREATED:20241120T155734Z
LAST-MODIFIED:20241120T155734Z
UID:10001651-1732125600-1732132800@web2.d11s.org
SUMMARY:Flotilla 114-09-06 (Central Las Vegas) November Flotilla Business Meeting
DESCRIPTION:United States Coast Guard Auxiliary\nCentral Las Vegas Flotilla 9-6 \n****November Monthly Business Meeting ***\nWednesday\, November 20\, 2024 @ 6:00 pm \n******* VIRTUAL MEETING ONLY ****** \nVIRTUAL / ZOOM MEETING LINK\nhttps://us06web.zoom.us/j/81529276129?pwd=VO1l3AnFLoi04oEtsih2TIjcTxwZpH.1 \nMeeting ID: 815 2927 6129\nPasscode: 8724 \nPHONE CALL-IN: 1-669-444 9171\nMeeting ID: 81529276129 & Passcode: 8724
URL:https://web2.d11s.org/event/flotilla-114-09-06-central-las-vegas-november-flotilla-business-meeting/2024-11-20/2/
LOCATION:Virtual Event
CATEGORIES:Unit Meeting
END:VEVENT
BEGIN:VEVENT
DTSTART;TZID=America/Los_Angeles:20241120T080000
DTEND;TZID=America/Los_Angeles:20241120T170000
DTSTAMP:20260425T204920
CREATED:20241120T155734Z
LAST-MODIFIED:20241120T155734Z
UID:10001650-1732089600-1732122000@web2.d11s.org
SUMMARY:Flotilla 114-09-06 (Central Las Vegas) November Flotilla Business Meeting
DESCRIPTION:United States Coast Guard Auxiliary\nCentral Las Vegas Flotilla 9-6 \n****November Monthly Business Meeting ***\nWednesday\, November 20\, 2024 @ 6:00 pm \n******* VIRTUAL MEETING ONLY ****** \nVIRTUAL / ZOOM MEETING LINK\nhttps://us06web.zoom.us/j/81529276129?pwd=VO1l3AnFLoi04oEtsih2TIjcTxwZpH.1 \nMeeting ID: 815 2927 6129\nPasscode: 8724 \nPHONE CALL-IN: 1-669-444 9171\nMeeting ID: 81529276129 & Passcode: 8724
URL:https://web2.d11s.org/event/flotilla-114-09-06-central-las-vegas-november-flotilla-business-meeting/2024-11-20/1/
LOCATION:Virtual Event
CATEGORIES:Unit Meeting
END:VEVENT
BEGIN:VEVENT
DTSTART;TZID=America/Los_Angeles:20241119T193000
DTEND;TZID=America/Los_Angeles:20241119T203000
DTSTAMP:20260425T204920
CREATED:20230606T231511Z
LAST-MODIFIED:20230607T183825Z
UID:10000478-1732044600-1732048200@web2.d11s.org
SUMMARY:District 11 South VHF AUXNET
DESCRIPTION:The District 11 Sothern Region weekly VHF AUXNET starts at 1930hrs. each Tuesday on the Yankee Sierra Repeater. This net provides an opportunity for members to get experience talking on the radio and ensure their equipment is functioning properly.\nIt also provides the district with a list of known operating radio stations and operator for emergency and contingency communications.
URL:https://web2.d11s.org/event/district-11-south-vhf-auxnet/2024-11-19/
END:VEVENT
BEGIN:VEVENT
DTSTART;TZID=America/Los_Angeles:20241119T173000
DTEND;TZID=America/Los_Angeles:20241119T193000
DTSTAMP:20260425T204920
CREATED:20230606T224755Z
LAST-MODIFIED:20230606T224755Z
UID:10000216-1732037400-1732044600@web2.d11s.org
SUMMARY:West Coast Regional HF Radio Net
DESCRIPTION:The weekly HF Radio Net begins at 1830 hrs. Tuesdays on B5D. A concurrent virtual session starts around 1730 on  and provides an opportunity to meet net members\, get experience\, or get assistance with radio problems.\nMembers display their name and callsign. Guests display their name and guest.
URL:https://web2.d11s.org/event/west-coast-regional-hf-radio-net/2024-11-19/
ORGANIZER;CN="District 11":MAILTO:crosario.uscgaux@gmail.com
END:VEVENT
BEGIN:VEVENT
DTSTART;TZID=America/Los_Angeles:20241118T190000
DTEND;TZID=America/Los_Angeles:20241118T203000
DTSTAMP:20260425T204920
CREATED:20240104T024713Z
LAST-MODIFIED:20240104T024713Z
UID:10001218-1731956400-1731961800@web2.d11s.org
SUMMARY:Division 1 Division meeting
DESCRIPTION:Division 1 monthly meeting at Sector San Diego
URL:https://web2.d11s.org/event/division-1-division-meeting/2024-11-18/
CATEGORIES:Unit Meeting
END:VEVENT
BEGIN:VEVENT
DTSTART;TZID=America/Los_Angeles:20241114T180000
DTEND;TZID=America/Los_Angeles:20241114T200000
DTSTAMP:20260425T204920
CREATED:20240118T214118Z
LAST-MODIFIED:20240118T214118Z
UID:10001280-1731607200-1731614400@web2.d11s.org
SUMMARY:Monthly Meeting
DESCRIPTION:Flotilla 09-05
URL:https://web2.d11s.org/event/monthly-meeting-2/2024-11-14/
END:VEVENT
BEGIN:VEVENT
DTSTART;TZID=America/Los_Angeles:20241113T193000
DTEND;TZID=America/Los_Angeles:20241113T200000
DTSTAMP:20260425T204920
CREATED:20230706T014325Z
LAST-MODIFIED:20230706T014325Z
UID:10000830-1731526200-1731528000@web2.d11s.org
SUMMARY:Sector San Diego VHF Net
DESCRIPTION:Weekly SDG Sector VHF net on YSD repeater  Wendesday’s at 1930 PST/PDT – unless preempted by federal holiday.
URL:https://web2.d11s.org/event/sector-san-diego-vhf-net/2024-11-13/
END:VEVENT
BEGIN:VEVENT
DTSTART;TZID=America/Los_Angeles:20241112T193000
DTEND;TZID=America/Los_Angeles:20241112T203000
DTSTAMP:20260425T204920
CREATED:20230606T231511Z
LAST-MODIFIED:20230607T183825Z
UID:10000477-1731439800-1731443400@web2.d11s.org
SUMMARY:District 11 South VHF AUXNET
DESCRIPTION:The District 11 Sothern Region weekly VHF AUXNET starts at 1930hrs. each Tuesday on the Yankee Sierra Repeater. This net provides an opportunity for members to get experience talking on the radio and ensure their equipment is functioning properly.\nIt also provides the district with a list of known operating radio stations and operator for emergency and contingency communications.
URL:https://web2.d11s.org/event/district-11-south-vhf-auxnet/2024-11-12/
END:VEVENT
BEGIN:VEVENT
DTSTART;TZID=America/Los_Angeles:20241112T173000
DTEND;TZID=America/Los_Angeles:20241112T193000
DTSTAMP:20260425T204920
CREATED:20230606T224755Z
LAST-MODIFIED:20230606T224755Z
UID:10000215-1731432600-1731439800@web2.d11s.org
SUMMARY:West Coast Regional HF Radio Net
DESCRIPTION:The weekly HF Radio Net begins at 1830 hrs. Tuesdays on B5D. A concurrent virtual session starts around 1730 on  and provides an opportunity to meet net members\, get experience\, or get assistance with radio problems.\nMembers display their name and callsign. Guests display their name and guest.
URL:https://web2.d11s.org/event/west-coast-regional-hf-radio-net/2024-11-12/
ORGANIZER;CN="District 11":MAILTO:crosario.uscgaux@gmail.com
END:VEVENT
BEGIN:VEVENT
DTSTART;TZID=America/Los_Angeles:20241111T183000
DTEND;TZID=America/Los_Angeles:20241111T200000
DTSTAMP:20260425T204920
CREATED:20240212T223300Z
LAST-MODIFIED:20240212T223300Z
UID:10001377-1731349800-1731355200@web2.d11s.org
SUMMARY:Division 114-07 Board Meeting
DESCRIPTION:Division 114-07 Board and Staff Officer Meeting. Held Monthly 2nd Monday of the month. Via Zoom.
URL:https://web2.d11s.org/event/division-114-07-board-meeting-3/2024-11-11/
CATEGORIES:Unit Meeting
ATTACH;FMTTYPE=image/jpeg:https://web2.d11s.org/wp-content/uploads/2024/02/Division11407-logo-good-2024-2.jpg
END:VEVENT
BEGIN:VEVENT
DTSTART;TZID=America/Los_Angeles:20241111T183000
DTEND;TZID=America/Los_Angeles:20241111T200000
DTSTAMP:20260425T204920
CREATED:20240212T222904Z
LAST-MODIFIED:20240212T222904Z
UID:10001344-1731349800-1731355200@web2.d11s.org
SUMMARY:Division 114-07 Board Meeting
DESCRIPTION:Division 114-07 Board and Staff Officer Meeting. Held Monthly 2nd Monday of the month. Via Zoom.
URL:https://web2.d11s.org/event/division-114-07-board-meeting-2/2024-11-11/
CATEGORIES:Unit Meeting
ATTACH;FMTTYPE=image/jpeg:https://web2.d11s.org/wp-content/uploads/2024/02/Division11407-logo-good-2024-1.jpg
END:VEVENT
BEGIN:VEVENT
DTSTART;TZID=America/Los_Angeles:20241106T193000
DTEND;TZID=America/Los_Angeles:20241106T200000
DTSTAMP:20260425T204920
CREATED:20230706T014325Z
LAST-MODIFIED:20230706T014325Z
UID:10000829-1730921400-1730923200@web2.d11s.org
SUMMARY:Sector San Diego VHF Net
DESCRIPTION:Weekly SDG Sector VHF net on YSD repeater  Wendesday’s at 1930 PST/PDT – unless preempted by federal holiday.
URL:https://web2.d11s.org/event/sector-san-diego-vhf-net/2024-11-06/
END:VEVENT
BEGIN:VEVENT
DTSTART;TZID=America/Los_Angeles:20241105T193000
DTEND;TZID=America/Los_Angeles:20241105T203000
DTSTAMP:20260425T204920
CREATED:20230606T231511Z
LAST-MODIFIED:20230607T183825Z
UID:10000476-1730835000-1730838600@web2.d11s.org
SUMMARY:District 11 South VHF AUXNET
DESCRIPTION:The District 11 Sothern Region weekly VHF AUXNET starts at 1930hrs. each Tuesday on the Yankee Sierra Repeater. This net provides an opportunity for members to get experience talking on the radio and ensure their equipment is functioning properly.\nIt also provides the district with a list of known operating radio stations and operator for emergency and contingency communications.
URL:https://web2.d11s.org/event/district-11-south-vhf-auxnet/2024-11-05/
END:VEVENT
BEGIN:VEVENT
DTSTART;TZID=America/Los_Angeles:20241105T173000
DTEND;TZID=America/Los_Angeles:20241105T193000
DTSTAMP:20260425T204920
CREATED:20230606T224755Z
LAST-MODIFIED:20230606T224755Z
UID:10000214-1730827800-1730835000@web2.d11s.org
SUMMARY:West Coast Regional HF Radio Net
DESCRIPTION:The weekly HF Radio Net begins at 1830 hrs. Tuesdays on B5D. A concurrent virtual session starts around 1730 on  and provides an opportunity to meet net members\, get experience\, or get assistance with radio problems.\nMembers display their name and callsign. Guests display their name and guest.
URL:https://web2.d11s.org/event/west-coast-regional-hf-radio-net/2024-11-05/
ORGANIZER;CN="District 11":MAILTO:crosario.uscgaux@gmail.com
END:VEVENT
BEGIN:VEVENT
DTSTART;TZID=America/Los_Angeles:20241102T080000
DTEND;TZID=America/Los_Angeles:20241102T100000
DTSTAMP:20260425T204920
CREATED:20240226T212317Z
LAST-MODIFIED:20240226T212317Z
UID:10001460-1730534400-1730541600@web2.d11s.org
SUMMARY:Flotilla 06-08 Meeting
DESCRIPTION:Flotilla 06-08 Monthly Meeting\nDana West Yacht Club\n24601 Dana Dr\, Dana Point\, CA 92629
URL:https://web2.d11s.org/event/flotilla-06-08-meeting/2024-11-02/
CATEGORIES:Unit Meeting
END:VEVENT
BEGIN:VEVENT
DTSTART;TZID=America/Los_Angeles:20241030T193000
DTEND;TZID=America/Los_Angeles:20241030T200000
DTSTAMP:20260425T204920
CREATED:20230706T014325Z
LAST-MODIFIED:20230706T014325Z
UID:10000828-1730316600-1730318400@web2.d11s.org
SUMMARY:Sector San Diego VHF Net
DESCRIPTION:Weekly SDG Sector VHF net on YSD repeater  Wendesday’s at 1930 PST/PDT – unless preempted by federal holiday.
URL:https://web2.d11s.org/event/sector-san-diego-vhf-net/2024-10-30/
END:VEVENT
BEGIN:VEVENT
DTSTART;TZID=America/Los_Angeles:20241030T180000
DTEND;TZID=America/Los_Angeles:20241030T200000
DTSTAMP:20260425T204920
CREATED:20231019T180854Z
LAST-MODIFIED:20231019T180854Z
UID:10001134-1730311200-1730318400@web2.d11s.org
SUMMARY:Flotilla 96 Meeting
DESCRIPTION:Flotilla 114-09-06 Las Vegas Monthly Meeting
URL:https://web2.d11s.org/event/flotilla-96-meeting/2024-10-30/
LOCATION:In Person
CATEGORIES:Member Training,Unit Meeting
END:VEVENT
BEGIN:VEVENT
DTSTART;TZID=America/Los_Angeles:20241029T193000
DTEND;TZID=America/Los_Angeles:20241029T203000
DTSTAMP:20260425T204920
CREATED:20230606T231511Z
LAST-MODIFIED:20230607T183825Z
UID:10000475-1730230200-1730233800@web2.d11s.org
SUMMARY:District 11 South VHF AUXNET
DESCRIPTION:The District 11 Sothern Region weekly VHF AUXNET starts at 1930hrs. each Tuesday on the Yankee Sierra Repeater. This net provides an opportunity for members to get experience talking on the radio and ensure their equipment is functioning properly.\nIt also provides the district with a list of known operating radio stations and operator for emergency and contingency communications.
URL:https://web2.d11s.org/event/district-11-south-vhf-auxnet/2024-10-29/
END:VEVENT
BEGIN:VEVENT
DTSTART;TZID=America/Los_Angeles:20241029T173000
DTEND;TZID=America/Los_Angeles:20241029T193000
DTSTAMP:20260425T204920
CREATED:20230606T224755Z
LAST-MODIFIED:20230606T224755Z
UID:10000213-1730223000-1730230200@web2.d11s.org
SUMMARY:West Coast Regional HF Radio Net
DESCRIPTION:The weekly HF Radio Net begins at 1830 hrs. Tuesdays on B5D. A concurrent virtual session starts around 1730 on  and provides an opportunity to meet net members\, get experience\, or get assistance with radio problems.\nMembers display their name and callsign. Guests display their name and guest.
URL:https://web2.d11s.org/event/west-coast-regional-hf-radio-net/2024-10-29/
ORGANIZER;CN="District 11":MAILTO:crosario.uscgaux@gmail.com
END:VEVENT
BEGIN:VEVENT
DTSTART;TZID=America/Los_Angeles:20241028T190000
DTEND;TZID=America/Los_Angeles:20241028T210000
DTSTAMP:20260425T204920
CREATED:20240306T183821Z
LAST-MODIFIED:20240306T183821Z
UID:10001477-1730142000-1730149200@web2.d11s.org
SUMMARY:Division 6 Meeting
DESCRIPTION:Division 6 Monthly Meeting – Orange City Hall
URL:https://web2.d11s.org/event/division-6-meeting/2024-10-28/
END:VEVENT
BEGIN:VEVENT
DTSTART;TZID=America/Los_Angeles:20241028T180000
DTEND;TZID=America/Los_Angeles:20241028T190000
DTSTAMP:20260425T204920
CREATED:20240221T193856Z
LAST-MODIFIED:20240221T193856Z
UID:10001439-1730138400-1730142000@web2.d11s.org
SUMMARY:Flotilla 01-01 monthly meeting
DESCRIPTION:Monthly flotilla meeting at Sector San Diego
URL:https://web2.d11s.org/event/flotilla-01-01-monthly-meeting/2024-10-28/
END:VEVENT
BEGIN:VEVENT
DTSTART;TZID=America/Los_Angeles:20241024T180000
DTEND;TZID=America/Los_Angeles:20241024T200000
DTSTAMP:20260425T204920
CREATED:20230929T185712Z
LAST-MODIFIED:20230929T185712Z
UID:10001073-1729792800-1729800000@web2.d11s.org
SUMMARY:Flotilla 1-10 meeting
DESCRIPTION:We meet every 4th Thursday at 1800. There will be no meeting in November and December. Contact FC for location.
URL:https://web2.d11s.org/event/flotilla-1-10-meeting/2024-10-24/
END:VEVENT
BEGIN:VEVENT
DTSTART;TZID=America/Los_Angeles:20241023T193000
DTEND;TZID=America/Los_Angeles:20241023T200000
DTSTAMP:20260425T204920
CREATED:20230706T014325Z
LAST-MODIFIED:20230706T014325Z
UID:10000827-1729711800-1729713600@web2.d11s.org
SUMMARY:Sector San Diego VHF Net
DESCRIPTION:Weekly SDG Sector VHF net on YSD repeater  Wendesday’s at 1930 PST/PDT – unless preempted by federal holiday.
URL:https://web2.d11s.org/event/sector-san-diego-vhf-net/2024-10-23/
END:VEVENT
BEGIN:VEVENT
DTSTART;TZID=America/Los_Angeles:20241023T190000
DTEND;TZID=America/Los_Angeles:20241023T210000
DTSTAMP:20260425T204920
CREATED:20231221T203500Z
LAST-MODIFIED:20231221T203500Z
UID:10001206-1729710000-1729717200@web2.d11s.org
SUMMARY:Flotilla 06-02 Monthly Meeting
DESCRIPTION:Flotilla 06-02 Monthly Meeting will be held at the Huntington Harbour Yacht Club in Huntington Beach\, CA starting at 7:00 pm. \nUOTD:  Trops \nPOC:  John Aden\, FC   dr4fish@aol.com
URL:https://web2.d11s.org/event/flotilla-06-02-monthly-meeting/2024-10-23/
LOCATION:Huntington Harbour Yacht Club\, 3821 E. Warner Avenue\, Huntington Beach\, CA\, 92649\, United States
END:VEVENT
END:VCALENDAR