BEGIN:VCALENDAR
VERSION:2.0
PRODID:-//US Coast Guard Auxiliary-D11S - ECPv6.15.20//NONSGML v1.0//EN
CALSCALE:GREGORIAN
METHOD:PUBLISH
X-ORIGINAL-URL:https://web2.d11s.org
X-WR-CALDESC:Events for US Coast Guard Auxiliary-D11S
REFRESH-INTERVAL;VALUE=DURATION:PT1H
X-Robots-Tag:noindex
X-PUBLISHED-TTL:PT1H
BEGIN:VTIMEZONE
TZID:America/Los_Angeles
BEGIN:DAYLIGHT
TZOFFSETFROM:-0800
TZOFFSETTO:-0700
TZNAME:PDT
DTSTART:20220313T100000
END:DAYLIGHT
BEGIN:STANDARD
TZOFFSETFROM:-0700
TZOFFSETTO:-0800
TZNAME:PST
DTSTART:20221106T090000
END:STANDARD
BEGIN:DAYLIGHT
TZOFFSETFROM:-0800
TZOFFSETTO:-0700
TZNAME:PDT
DTSTART:20230312T100000
END:DAYLIGHT
BEGIN:STANDARD
TZOFFSETFROM:-0700
TZOFFSETTO:-0800
TZNAME:PST
DTSTART:20231105T090000
END:STANDARD
BEGIN:DAYLIGHT
TZOFFSETFROM:-0800
TZOFFSETTO:-0700
TZNAME:PDT
DTSTART:20240310T100000
END:DAYLIGHT
BEGIN:STANDARD
TZOFFSETFROM:-0700
TZOFFSETTO:-0800
TZNAME:PST
DTSTART:20241103T090000
END:STANDARD
END:VTIMEZONE
BEGIN:VEVENT
DTSTART;TZID=America/Los_Angeles:20230802T193000
DTEND;TZID=America/Los_Angeles:20230802T200000
DTSTAMP:20260425T054220
CREATED:20230706T014325Z
LAST-MODIFIED:20230706T014325Z
UID:10000763-1691004600-1691006400@web2.d11s.org
SUMMARY:Sector San Diego VHF Net
DESCRIPTION:Weekly SDG Sector VHF net on YSD repeater  Wendesday’s at 1930 PST/PDT – unless preempted by federal holiday.
URL:https://web2.d11s.org/event/sector-san-diego-vhf-net/2023-08-02/
END:VEVENT
BEGIN:VEVENT
DTSTART;TZID=America/Los_Angeles:20230803T000000
DTEND;TZID=America/Los_Angeles:20230803T000000
DTSTAMP:20260425T054220
CREATED:20230613T204507Z
LAST-MODIFIED:20230613T204507Z
UID:10000690-1691020800-1691020800@web2.d11s.org
SUMMARY:OPCOM
DESCRIPTION:
URL:https://web2.d11s.org/event/opcom-9/
END:VEVENT
BEGIN:VEVENT
DTSTART;VALUE=DATE:20230804
DTEND;VALUE=DATE:20230805
DTSTAMP:20260425T054220
CREATED:20230613T204507Z
LAST-MODIFIED:20230613T204507Z
UID:10000691-1691107200-1691193599@web2.d11s.org
SUMMARY:US Coast Guard Day
DESCRIPTION:Coast Guard Day is held every August 04 to commemorate the founding of the United States Coast Guard as the Revenue Marine on August 4\, 1790\, by then-Secretary of the Treasury Alexander Hamilton. On that date\, U.S. Congress\, guided by Hamilton\, authorized the building of a fleet of the first ten Revenue Service cutters\, whose responsibility would be enforcement of the first tariff laws enacted by the U.S. Congress under the U.S. Constitution.\nSource:  Wikipedia
URL:https://web2.d11s.org/event/us-coast-guard-day/
END:VEVENT
BEGIN:VEVENT
DTSTART;TZID=America/Los_Angeles:20230808T173000
DTEND;TZID=America/Los_Angeles:20230808T193000
DTSTAMP:20260425T054220
CREATED:20230606T224755Z
LAST-MODIFIED:20230606T224755Z
UID:10000149-1691515800-1691523000@web2.d11s.org
SUMMARY:West Coast Regional HF Radio Net
DESCRIPTION:The weekly HF Radio Net begins at 1830 hrs. Tuesdays on B5D. A concurrent virtual session starts around 1730 on  and provides an opportunity to meet net members\, get experience\, or get assistance with radio problems.\nMembers display their name and callsign. Guests display their name and guest.
URL:https://web2.d11s.org/event/west-coast-regional-hf-radio-net/2023-08-08/
ORGANIZER;CN="District 11":MAILTO:crosario.uscgaux@gmail.com
END:VEVENT
BEGIN:VEVENT
DTSTART;TZID=America/Los_Angeles:20230808T193000
DTEND;TZID=America/Los_Angeles:20230808T203000
DTSTAMP:20260425T054220
CREATED:20230606T231511Z
LAST-MODIFIED:20230607T183825Z
UID:10000411-1691523000-1691526600@web2.d11s.org
SUMMARY:District 11 South VHF AUXNET
DESCRIPTION:The District 11 Sothern Region weekly VHF AUXNET starts at 1930hrs. each Tuesday on the Yankee Sierra Repeater. This net provides an opportunity for members to get experience talking on the radio and ensure their equipment is functioning properly.\nIt also provides the district with a list of known operating radio stations and operator for emergency and contingency communications.
URL:https://web2.d11s.org/event/district-11-south-vhf-auxnet/2023-08-08/
END:VEVENT
BEGIN:VEVENT
DTSTART;TZID=America/Los_Angeles:20230809T170000
DTEND;TZID=America/Los_Angeles:20230809T170000
DTSTAMP:20260425T054220
CREATED:20230509T104209Z
LAST-MODIFIED:20230509T104209Z
UID:10000115-1691600400-1691600400@web2.d11s.org
SUMMARY:NACON (thru 8/20)
DESCRIPTION:
URL:https://web2.d11s.org/event/nacon-thru-8-20/
END:VEVENT
BEGIN:VEVENT
DTSTART;TZID=America/Los_Angeles:20230809T193000
DTEND;TZID=America/Los_Angeles:20230809T200000
DTSTAMP:20260425T054220
CREATED:20230706T014325Z
LAST-MODIFIED:20230706T014325Z
UID:10000764-1691609400-1691611200@web2.d11s.org
SUMMARY:Sector San Diego VHF Net
DESCRIPTION:Weekly SDG Sector VHF net on YSD repeater  Wendesday’s at 1930 PST/PDT – unless preempted by federal holiday.
URL:https://web2.d11s.org/event/sector-san-diego-vhf-net/2023-08-09/
END:VEVENT
BEGIN:VEVENT
DTSTART;VALUE=DATE:20230810
DTEND;VALUE=DATE:20230821
DTSTAMP:20260425T054220
CREATED:20230613T204508Z
LAST-MODIFIED:20230815T154406Z
UID:10000692-1691625600-1692489600@web2.d11s.org
SUMMARY:NACON (thru 8/20)
DESCRIPTION:Orlando\, Fl
URL:https://web2.d11s.org/event/nacon-thru-8-20-2/
CATEGORIES:Unit Meeting
END:VEVENT
BEGIN:VEVENT
DTSTART;TZID=America/Los_Angeles:20230813T170000
DTEND;TZID=America/Los_Angeles:20230813T170000
DTSTAMP:20260425T054220
CREATED:20230509T104209Z
LAST-MODIFIED:20230509T104209Z
UID:10000116-1691946000-1691946000@web2.d11s.org
SUMMARY:August Meeting - DIV 07
DESCRIPTION:
URL:https://web2.d11s.org/event/august-meeting-div-07/
END:VEVENT
BEGIN:VEVENT
DTSTART;TZID=America/Los_Angeles:20230814T000000
DTEND;TZID=America/Los_Angeles:20230814T000000
DTSTAMP:20260425T054220
CREATED:20230613T204508Z
LAST-MODIFIED:20230613T204508Z
UID:10000693-1691971200-1691971200@web2.d11s.org
SUMMARY:August Meeting - DIV 07
DESCRIPTION:
URL:https://web2.d11s.org/event/august-meeting-div-07-2/
END:VEVENT
BEGIN:VEVENT
DTSTART;TZID=America/Los_Angeles:20230814T170000
DTEND;TZID=America/Los_Angeles:20230814T170000
DTSTAMP:20260425T054220
CREATED:20230509T104407Z
LAST-MODIFIED:20230509T104407Z
UID:10000117-1692032400-1692032400@web2.d11s.org
SUMMARY:August Meeting - DIV 05
DESCRIPTION:
URL:https://web2.d11s.org/event/august-meeting-div-05/
END:VEVENT
BEGIN:VEVENT
DTSTART;TZID=America/Los_Angeles:20230815T000000
DTEND;TZID=America/Los_Angeles:20230815T000000
DTSTAMP:20260425T054220
CREATED:20230613T204508Z
LAST-MODIFIED:20230613T204508Z
UID:10000694-1692057600-1692057600@web2.d11s.org
SUMMARY:August Meeting - DIV 05
DESCRIPTION:
URL:https://web2.d11s.org/event/august-meeting-div-05-2/
END:VEVENT
BEGIN:VEVENT
DTSTART;TZID=America/Los_Angeles:20230815T170000
DTEND;TZID=America/Los_Angeles:20230815T170000
DTSTAMP:20260425T054220
CREATED:20230509T104408Z
LAST-MODIFIED:20230509T104408Z
UID:10000118-1692118800-1692118800@web2.d11s.org
SUMMARY:August Meeting - DIV 11
DESCRIPTION:
URL:https://web2.d11s.org/event/august-meeting-div-11/
END:VEVENT
BEGIN:VEVENT
DTSTART;TZID=America/Los_Angeles:20230815T173000
DTEND;TZID=America/Los_Angeles:20230815T193000
DTSTAMP:20260425T054220
CREATED:20230606T224755Z
LAST-MODIFIED:20230606T224755Z
UID:10000150-1692120600-1692127800@web2.d11s.org
SUMMARY:West Coast Regional HF Radio Net
DESCRIPTION:The weekly HF Radio Net begins at 1830 hrs. Tuesdays on B5D. A concurrent virtual session starts around 1730 on  and provides an opportunity to meet net members\, get experience\, or get assistance with radio problems.\nMembers display their name and callsign. Guests display their name and guest.
URL:https://web2.d11s.org/event/west-coast-regional-hf-radio-net/2023-08-15/
ORGANIZER;CN="District 11":MAILTO:crosario.uscgaux@gmail.com
END:VEVENT
BEGIN:VEVENT
DTSTART;TZID=America/Los_Angeles:20230815T193000
DTEND;TZID=America/Los_Angeles:20230815T203000
DTSTAMP:20260425T054220
CREATED:20230606T231511Z
LAST-MODIFIED:20230607T183825Z
UID:10000412-1692127800-1692131400@web2.d11s.org
SUMMARY:District 11 South VHF AUXNET
DESCRIPTION:The District 11 Sothern Region weekly VHF AUXNET starts at 1930hrs. each Tuesday on the Yankee Sierra Repeater. This net provides an opportunity for members to get experience talking on the radio and ensure their equipment is functioning properly.\nIt also provides the district with a list of known operating radio stations and operator for emergency and contingency communications.
URL:https://web2.d11s.org/event/district-11-south-vhf-auxnet/2023-08-15/
END:VEVENT
BEGIN:VEVENT
DTSTART;TZID=America/Los_Angeles:20230816T000000
DTEND;TZID=America/Los_Angeles:20230816T000000
DTSTAMP:20260425T054220
CREATED:20230613T204509Z
LAST-MODIFIED:20230613T204509Z
UID:10000695-1692144000-1692144000@web2.d11s.org
SUMMARY:August Meeting - DIV 11
DESCRIPTION:
URL:https://web2.d11s.org/event/august-meeting-div-11-2/
END:VEVENT
BEGIN:VEVENT
DTSTART;TZID=America/Los_Angeles:20230816T170000
DTEND;TZID=America/Los_Angeles:20230816T170000
DTSTAMP:20260425T054220
CREATED:20230509T104409Z
LAST-MODIFIED:20230509T150619Z
UID:10000119-1692205200-1692205200@web2.d11s.org
SUMMARY:August Meeting - DIV 04
DESCRIPTION:
URL:https://web2.d11s.org/event/august-meeting-div-04/
END:VEVENT
BEGIN:VEVENT
DTSTART;TZID=America/Los_Angeles:20230816T170000
DTEND;TZID=America/Los_Angeles:20230816T170000
DTSTAMP:20260425T054220
CREATED:20230509T104409Z
LAST-MODIFIED:20230509T104409Z
UID:10000120-1692205200-1692205200@web2.d11s.org
SUMMARY:Pac Area Meeting
DESCRIPTION:
URL:https://web2.d11s.org/event/pac-area-meeting-8/
END:VEVENT
BEGIN:VEVENT
DTSTART;TZID=America/Los_Angeles:20230816T193000
DTEND;TZID=America/Los_Angeles:20230816T200000
DTSTAMP:20260425T054220
CREATED:20230706T014325Z
LAST-MODIFIED:20230706T014325Z
UID:10000765-1692214200-1692216000@web2.d11s.org
SUMMARY:Sector San Diego VHF Net
DESCRIPTION:Weekly SDG Sector VHF net on YSD repeater  Wendesday’s at 1930 PST/PDT – unless preempted by federal holiday.
URL:https://web2.d11s.org/event/sector-san-diego-vhf-net/2023-08-16/
END:VEVENT
BEGIN:VEVENT
DTSTART;TZID=America/Los_Angeles:20230817T000000
DTEND;TZID=America/Los_Angeles:20230817T000000
DTSTAMP:20260425T054220
CREATED:20230613T204510Z
LAST-MODIFIED:20230613T204510Z
UID:10000697-1692230400-1692230400@web2.d11s.org
SUMMARY:Pac Area Meeting
DESCRIPTION:
URL:https://web2.d11s.org/event/pac-area-meeting-11/
END:VEVENT
BEGIN:VEVENT
DTSTART;TZID=America/Los_Angeles:20230817T000000
DTEND;TZID=America/Los_Angeles:20230817T000000
DTSTAMP:20260425T054220
CREATED:20230613T204509Z
LAST-MODIFIED:20230613T204509Z
UID:10000696-1692230400-1692230400@web2.d11s.org
SUMMARY:August Meeting - DIV 04
DESCRIPTION:
URL:https://web2.d11s.org/event/august-meeting-div-04-2/
END:VEVENT
BEGIN:VEVENT
DTSTART;TZID=America/Los_Angeles:20230817T170000
DTEND;TZID=America/Los_Angeles:20230817T170000
DTSTAMP:20260425T054220
CREATED:20230509T104410Z
LAST-MODIFIED:20230509T145809Z
UID:10000121-1692291600-1692291600@web2.d11s.org
SUMMARY:August Meeting - DIV 10
DESCRIPTION:
URL:https://web2.d11s.org/event/august-meeting-div-10/
END:VEVENT
BEGIN:VEVENT
DTSTART;TZID=America/Los_Angeles:20230818T000000
DTEND;TZID=America/Los_Angeles:20230818T000000
DTSTAMP:20260425T054220
CREATED:20230613T204510Z
LAST-MODIFIED:20230613T204510Z
UID:10000698-1692316800-1692316800@web2.d11s.org
SUMMARY:August Meeting - DIV 10
DESCRIPTION:
URL:https://web2.d11s.org/event/august-meeting-div-10-2/
END:VEVENT
BEGIN:VEVENT
DTSTART;TZID=America/Los_Angeles:20230818T150000
DTEND;TZID=America/Los_Angeles:20230818T190000
DTSTAMP:20260425T054220
CREATED:20230729T144939Z
LAST-MODIFIED:20230729T144939Z
UID:10001024-1692370800-1692385200@web2.d11s.org
SUMMARY:Wings Over Camarillo Airshow
DESCRIPTION:Wings over Camarillo Air Show in Camarillo\, CA will take place Friday\, Aug 18 through Sunday\, Aug 20\, 2023.\nDivision 7 will have a PA Booth in this weekend event. \nAug 18 FRIDAY IS LOAD_IN ONLY.
URL:https://web2.d11s.org/event/wings-over-camarillo-airshow/
END:VEVENT
BEGIN:VEVENT
DTSTART;TZID=America/Los_Angeles:20230819T000000
DTEND;TZID=America/Los_Angeles:20230819T000000
DTSTAMP:20260425T054220
CREATED:20230613T204510Z
LAST-MODIFIED:20230613T204510Z
UID:10000699-1692403200-1692403200@web2.d11s.org
SUMMARY:August Meeting - DIV 09
DESCRIPTION:
URL:https://web2.d11s.org/event/august-meeting-div-09/
END:VEVENT
BEGIN:VEVENT
DTSTART;VALUE=DATE:20230819
DTEND;VALUE=DATE:20230821
DTSTAMP:20260425T054220
CREATED:20230613T204510Z
LAST-MODIFIED:20230613T204510Z
UID:10000700-1692403200-1692575999@web2.d11s.org
SUMMARY:PA Event - Wings over Camarillo Air Show
DESCRIPTION:Wings over Camarillo Air Show in Camarillo\, CA will take place Saturday\, Aug 19 and Sunday\, Aug 20\, 2023.\nDivision 7 will have a PA Booth in this weekend event and will be offering opportunities to work when the dates near.\n \nPOC:  Pat Newburn\, ADSO-PA / SO-PA   auxnewburn@gmail.com
URL:https://web2.d11s.org/event/pa-event-wings-over-camarillo-air-show/
END:VEVENT
BEGIN:VEVENT
DTSTART;TZID=America/Los_Angeles:20230821T000000
DTEND;TZID=America/Los_Angeles:20230821T000000
DTSTAMP:20260425T054220
CREATED:20230613T204511Z
LAST-MODIFIED:20230613T204511Z
UID:10000701-1692576000-1692576000@web2.d11s.org
SUMMARY:August Meeting - DIV 01
DESCRIPTION:
URL:https://web2.d11s.org/event/august-meeting-div-01/
END:VEVENT
BEGIN:VEVENT
DTSTART;TZID=America/Los_Angeles:20230821T000000
DTEND;TZID=America/Los_Angeles:20230821T000000
DTSTAMP:20260425T054220
CREATED:20230613T204511Z
LAST-MODIFIED:20230613T204511Z
UID:10000702-1692576000-1692576000@web2.d11s.org
SUMMARY:DCO Mtg w/ADM Sugimoto
DESCRIPTION:
URL:https://web2.d11s.org/event/dco-mtg-w-adm-sugimoto-3/
END:VEVENT
BEGIN:VEVENT
DTSTART;TZID=America/Los_Angeles:20230822T173000
DTEND;TZID=America/Los_Angeles:20230822T193000
DTSTAMP:20260425T054220
CREATED:20230606T224755Z
LAST-MODIFIED:20230606T224755Z
UID:10000151-1692725400-1692732600@web2.d11s.org
SUMMARY:West Coast Regional HF Radio Net
DESCRIPTION:The weekly HF Radio Net begins at 1830 hrs. Tuesdays on B5D. A concurrent virtual session starts around 1730 on  and provides an opportunity to meet net members\, get experience\, or get assistance with radio problems.\nMembers display their name and callsign. Guests display their name and guest.
URL:https://web2.d11s.org/event/west-coast-regional-hf-radio-net/2023-08-22/
ORGANIZER;CN="District 11":MAILTO:crosario.uscgaux@gmail.com
END:VEVENT
BEGIN:VEVENT
DTSTART;TZID=America/Los_Angeles:20230822T180000
DTEND;TZID=America/Los_Angeles:20230823T203000
DTSTAMP:20260425T054220
CREATED:20230801T011343Z
LAST-MODIFIED:20230801T011343Z
UID:10001025-1692727200-1692822600@web2.d11s.org
SUMMARY:RM TCT Refresher 22 and 23 August
DESCRIPTION:2 night class. 1800-20:30 each night. Must attend both nights of this course.  \nZoom. must have working camera and microphone.  \nRegister by emailing LesliePelosi@yahoo.com.  Log in info will be sent a few days before class.
URL:https://web2.d11s.org/event/rm-tct-refresher-22-and-23-august/
END:VEVENT
END:VCALENDAR