BEGIN:VCALENDAR
VERSION:2.0
PRODID:-//US Coast Guard Auxiliary-D11S - ECPv6.15.20//NONSGML v1.0//EN
CALSCALE:GREGORIAN
METHOD:PUBLISH
X-WR-CALNAME:US Coast Guard Auxiliary-D11S
X-ORIGINAL-URL:https://web2.d11s.org
X-WR-CALDESC:Events for US Coast Guard Auxiliary-D11S
REFRESH-INTERVAL;VALUE=DURATION:PT1H
X-Robots-Tag:noindex
X-PUBLISHED-TTL:PT1H
BEGIN:VTIMEZONE
TZID:America/Los_Angeles
BEGIN:DAYLIGHT
TZOFFSETFROM:-0800
TZOFFSETTO:-0700
TZNAME:PDT
DTSTART:20220313T100000
END:DAYLIGHT
BEGIN:STANDARD
TZOFFSETFROM:-0700
TZOFFSETTO:-0800
TZNAME:PST
DTSTART:20221106T090000
END:STANDARD
BEGIN:DAYLIGHT
TZOFFSETFROM:-0800
TZOFFSETTO:-0700
TZNAME:PDT
DTSTART:20230312T100000
END:DAYLIGHT
BEGIN:STANDARD
TZOFFSETFROM:-0700
TZOFFSETTO:-0800
TZNAME:PST
DTSTART:20231105T090000
END:STANDARD
BEGIN:DAYLIGHT
TZOFFSETFROM:-0800
TZOFFSETTO:-0700
TZNAME:PDT
DTSTART:20240310T100000
END:DAYLIGHT
BEGIN:STANDARD
TZOFFSETFROM:-0700
TZOFFSETTO:-0800
TZNAME:PST
DTSTART:20241103T090000
END:STANDARD
END:VTIMEZONE
BEGIN:VEVENT
DTSTART;TZID=America/Los_Angeles:20230122T160000
DTEND;TZID=America/Los_Angeles:20230122T160000
DTSTAMP:20260423T154832
CREATED:20230509T101231Z
LAST-MODIFIED:20230509T101231Z
UID:10000012-1674403200-1674403200@web2.d11s.org
SUMMARY:January Meeting - DIV 06
DESCRIPTION:
URL:https://web2.d11s.org/event/january-meeting-div-06/
END:VEVENT
BEGIN:VEVENT
DTSTART;TZID=America/Los_Angeles:20230124T160000
DTEND;TZID=America/Los_Angeles:20230124T160000
DTSTAMP:20260423T154832
CREATED:20230509T101233Z
LAST-MODIFIED:20230509T101233Z
UID:10000015-1674576000-1674576000@web2.d11s.org
SUMMARY:Town Hall - DIV 07
DESCRIPTION:
URL:https://web2.d11s.org/event/town-hall-div-07/
END:VEVENT
BEGIN:VEVENT
DTSTART;TZID=America/Los_Angeles:20230127T160000
DTEND;TZID=America/Los_Angeles:20230127T160000
DTSTAMP:20260423T154832
CREATED:20230509T101246Z
LAST-MODIFIED:20230509T101246Z
UID:10000017-1674835200-1674835200@web2.d11s.org
SUMMARY:Town Hall - DIV 10
DESCRIPTION:
URL:https://web2.d11s.org/event/town-hall-div-10/
END:VEVENT
BEGIN:VEVENT
DTSTART;TZID=America/Los_Angeles:20230127T160000
DTEND;TZID=America/Los_Angeles:20230127T160000
DTSTAMP:20260423T154832
CREATED:20230509T101233Z
LAST-MODIFIED:20230509T101233Z
UID:10000016-1674835200-1674835200@web2.d11s.org
SUMMARY:COW - DIV 10
DESCRIPTION:
URL:https://web2.d11s.org/event/cow-div-10/
END:VEVENT
BEGIN:VEVENT
DTSTART;TZID=America/Los_Angeles:20230201T160000
DTEND;TZID=America/Los_Angeles:20230201T160000
DTSTAMP:20260423T154832
CREATED:20230509T101247Z
LAST-MODIFIED:20230509T101247Z
UID:10000018-1675267200-1675267200@web2.d11s.org
SUMMARY:OPCOM
DESCRIPTION:
URL:https://web2.d11s.org/event/opcom/
END:VEVENT
BEGIN:VEVENT
DTSTART;TZID=America/Los_Angeles:20230210T160000
DTEND;TZID=America/Los_Angeles:20230210T160000
DTSTAMP:20260423T154832
CREATED:20230509T101248Z
LAST-MODIFIED:20230509T101248Z
UID:10000020-1676044800-1676044800@web2.d11s.org
SUMMARY:Town Hall - DIV 09
DESCRIPTION:
URL:https://web2.d11s.org/event/town-hall-div-09/
END:VEVENT
BEGIN:VEVENT
DTSTART;TZID=America/Los_Angeles:20230210T160000
DTEND;TZID=America/Los_Angeles:20230210T160000
DTSTAMP:20260423T154832
CREATED:20230509T101247Z
LAST-MODIFIED:20230509T101247Z
UID:10000019-1676044800-1676044800@web2.d11s.org
SUMMARY:COW - DIV 09
DESCRIPTION:
URL:https://web2.d11s.org/event/cow-div-09/
END:VEVENT
BEGIN:VEVENT
DTSTART;TZID=America/Los_Angeles:20230212T160000
DTEND;TZID=America/Los_Angeles:20230212T160000
DTSTAMP:20260423T154832
CREATED:20230509T101248Z
LAST-MODIFIED:20230509T101248Z
UID:10000021-1676217600-1676217600@web2.d11s.org
SUMMARY:February Meeting - DIV 07
DESCRIPTION:
URL:https://web2.d11s.org/event/february-meeting-div-07/
END:VEVENT
BEGIN:VEVENT
DTSTART;TZID=America/Los_Angeles:20230214T160000
DTEND;TZID=America/Los_Angeles:20230214T160000
DTSTAMP:20260423T154832
CREATED:20230509T101301Z
LAST-MODIFIED:20230509T101301Z
UID:10000022-1676390400-1676390400@web2.d11s.org
SUMMARY:February Meeting - DIV 11
DESCRIPTION:
URL:https://web2.d11s.org/event/february-meeting-div-11/
END:VEVENT
BEGIN:VEVENT
DTSTART;TZID=America/Los_Angeles:20230215T160000
DTEND;TZID=America/Los_Angeles:20230215T160000
DTSTAMP:20260423T154832
CREATED:20230509T101303Z
LAST-MODIFIED:20230509T101303Z
UID:10000025-1676476800-1676476800@web2.d11s.org
SUMMARY:Town Hall - DIV 04
DESCRIPTION:
URL:https://web2.d11s.org/event/town-hall-div-04/
END:VEVENT
BEGIN:VEVENT
DTSTART;TZID=America/Los_Angeles:20230215T160000
DTEND;TZID=America/Los_Angeles:20230215T160000
DTSTAMP:20260423T154832
CREATED:20230509T101302Z
LAST-MODIFIED:20230509T101302Z
UID:10000023-1676476800-1676476800@web2.d11s.org
SUMMARY:February Meeting - DIV 04
DESCRIPTION:
URL:https://web2.d11s.org/event/february-meeting-div-04/
END:VEVENT
BEGIN:VEVENT
DTSTART;TZID=America/Los_Angeles:20230215T160000
DTEND;TZID=America/Los_Angeles:20230215T160000
DTSTAMP:20260423T154832
CREATED:20230509T101302Z
LAST-MODIFIED:20230509T101302Z
UID:10000024-1676476800-1676476800@web2.d11s.org
SUMMARY:Pac Area Meeting
DESCRIPTION:
URL:https://web2.d11s.org/event/pac-area-meeting-2/
END:VEVENT
BEGIN:VEVENT
DTSTART;TZID=America/Los_Angeles:20230216T160000
DTEND;TZID=America/Los_Angeles:20230216T160000
DTSTAMP:20260423T154832
CREATED:20230509T101304Z
LAST-MODIFIED:20230509T101304Z
UID:10000026-1676563200-1676563200@web2.d11s.org
SUMMARY:February Meeting - DIV 10
DESCRIPTION:
URL:https://web2.d11s.org/event/february-meeting-div-10/
END:VEVENT
BEGIN:VEVENT
DTSTART;TZID=America/Los_Angeles:20230217T160000
DTEND;TZID=America/Los_Angeles:20230217T160000
DTSTAMP:20260423T154832
CREATED:20230509T101317Z
LAST-MODIFIED:20230509T101317Z
UID:10000027-1676649600-1676649600@web2.d11s.org
SUMMARY:February Meeting - DIV 09
DESCRIPTION:
URL:https://web2.d11s.org/event/february-meeting-div-09/
END:VEVENT
BEGIN:VEVENT
DTSTART;TZID=America/Los_Angeles:20230219T160000
DTEND;TZID=America/Los_Angeles:20230219T160000
DTSTAMP:20260423T154832
CREATED:20230509T101319Z
LAST-MODIFIED:20230509T101319Z
UID:10000028-1676822400-1676822400@web2.d11s.org
SUMMARY:DCO Mtg w/ADM Sugimoto
DESCRIPTION:
URL:https://web2.d11s.org/event/dco-mtg-w-adm-sugimoto/
END:VEVENT
BEGIN:VEVENT
DTSTART;TZID=America/Los_Angeles:20230219T160000
DTEND;TZID=America/Los_Angeles:20230219T160000
DTSTAMP:20260423T154832
CREATED:20230509T101319Z
LAST-MODIFIED:20230509T101319Z
UID:10000029-1676822400-1676822400@web2.d11s.org
SUMMARY:February Meeting - DIV 01
DESCRIPTION:
URL:https://web2.d11s.org/event/february-meeting-div-01/
END:VEVENT
BEGIN:VEVENT
DTSTART;TZID=America/Los_Angeles:20230220T160000
DTEND;TZID=America/Los_Angeles:20230220T160000
DTSTAMP:20260423T154832
CREATED:20230509T101320Z
LAST-MODIFIED:20230509T101320Z
UID:10000030-1676908800-1676908800@web2.d11s.org
SUMMARY:February Meeting - DIV 05
DESCRIPTION:
URL:https://web2.d11s.org/event/february-meeting-div-05/
END:VEVENT
BEGIN:VEVENT
DTSTART;TZID=America/Los_Angeles:20230220T160000
DTEND;TZID=America/Los_Angeles:20230220T160000
DTSTAMP:20260423T154832
CREATED:20230509T101320Z
LAST-MODIFIED:20230509T101320Z
UID:10000031-1676908800-1676908800@web2.d11s.org
SUMMARY:Town Hall - DIV 05
DESCRIPTION:
URL:https://web2.d11s.org/event/town-hall-div-05/
END:VEVENT
BEGIN:VEVENT
DTSTART;TZID=America/Los_Angeles:20230224T160000
DTEND;TZID=America/Los_Angeles:20230224T160000
DTSTAMP:20260423T154832
CREATED:20230509T101331Z
LAST-MODIFIED:20230509T101331Z
UID:10000032-1677254400-1677254400@web2.d11s.org
SUMMARY:COW - DIV 11
DESCRIPTION:
URL:https://web2.d11s.org/event/cow-div-11/
END:VEVENT
BEGIN:VEVENT
DTSTART;TZID=America/Los_Angeles:20230226T160000
DTEND;TZID=America/Los_Angeles:20230226T160000
DTSTAMP:20260423T154832
CREATED:20230509T101333Z
LAST-MODIFIED:20230509T101333Z
UID:10000035-1677427200-1677427200@web2.d11s.org
SUMMARY:Town Hall - DIV 12
DESCRIPTION:
URL:https://web2.d11s.org/event/town-hall-div-12/
END:VEVENT
BEGIN:VEVENT
DTSTART;TZID=America/Los_Angeles:20230226T160000
DTEND;TZID=America/Los_Angeles:20230226T160000
DTSTAMP:20260423T154832
CREATED:20230509T101332Z
LAST-MODIFIED:20230509T101332Z
UID:10000033-1677427200-1677427200@web2.d11s.org
SUMMARY:February Meeting - DIV 06
DESCRIPTION:
URL:https://web2.d11s.org/event/february-meeting-div-06/
END:VEVENT
BEGIN:VEVENT
DTSTART;TZID=America/Los_Angeles:20230226T160000
DTEND;TZID=America/Los_Angeles:20230226T160000
DTSTAMP:20260423T154832
CREATED:20230509T101332Z
LAST-MODIFIED:20230509T101332Z
UID:10000034-1677427200-1677427200@web2.d11s.org
SUMMARY:February Meeting - DIV 12
DESCRIPTION:
URL:https://web2.d11s.org/event/february-meeting-div-12/
END:VEVENT
BEGIN:VEVENT
DTSTART;TZID=America/Los_Angeles:20230301T160000
DTEND;TZID=America/Los_Angeles:20230301T160000
DTSTAMP:20260423T154832
CREATED:20230509T101333Z
LAST-MODIFIED:20230509T101333Z
UID:10000036-1677686400-1677686400@web2.d11s.org
SUMMARY:OPCOM
DESCRIPTION:
URL:https://web2.d11s.org/event/opcom-2/
END:VEVENT
BEGIN:VEVENT
DTSTART;TZID=America/Los_Angeles:20230303T160000
DTEND;TZID=America/Los_Angeles:20230303T160000
DTSTAMP:20260423T154832
CREATED:20230509T101347Z
LAST-MODIFIED:20230509T101347Z
UID:10000037-1677859200-1677859200@web2.d11s.org
SUMMARY:COW - DIV 04
DESCRIPTION:
URL:https://web2.d11s.org/event/cow-div-04/
END:VEVENT
BEGIN:VEVENT
DTSTART;TZID=America/Los_Angeles:20230304T160000
DTEND;TZID=America/Los_Angeles:20230304T160000
DTSTAMP:20260423T154832
CREATED:20230509T101347Z
LAST-MODIFIED:20230509T101347Z
UID:10000038-1677945600-1677945600@web2.d11s.org
SUMMARY:COW - DIV 01
DESCRIPTION:
URL:https://web2.d11s.org/event/cow-div-01/
END:VEVENT
BEGIN:VEVENT
DTSTART;TZID=America/Los_Angeles:20230304T160000
DTEND;TZID=America/Los_Angeles:20230304T160000
DTSTAMP:20260423T154832
CREATED:20230509T101347Z
LAST-MODIFIED:20230509T101347Z
UID:10000039-1677945600-1677945600@web2.d11s.org
SUMMARY:COW - DIV 07
DESCRIPTION:
URL:https://web2.d11s.org/event/cow-div-07/
END:VEVENT
BEGIN:VEVENT
DTSTART;TZID=America/Los_Angeles:20230312T170000
DTEND;TZID=America/Los_Angeles:20230312T170000
DTSTAMP:20260423T154832
CREATED:20230509T101348Z
LAST-MODIFIED:20230509T101348Z
UID:10000040-1678640400-1678640400@web2.d11s.org
SUMMARY:March Meeting - DIV 07
DESCRIPTION:
URL:https://web2.d11s.org/event/march-meeting-div-07/
END:VEVENT
BEGIN:VEVENT
DTSTART;TZID=America/Los_Angeles:20230314T170000
DTEND;TZID=America/Los_Angeles:20230314T170000
DTSTAMP:20260423T154832
CREATED:20230509T101547Z
LAST-MODIFIED:20230509T101547Z
UID:10000042-1678813200-1678813200@web2.d11s.org
SUMMARY:Town Hall - DIV 11
DESCRIPTION:
URL:https://web2.d11s.org/event/town-hall-div-11/
END:VEVENT
BEGIN:VEVENT
DTSTART;TZID=America/Los_Angeles:20230314T170000
DTEND;TZID=America/Los_Angeles:20230314T170000
DTSTAMP:20260423T154832
CREATED:20230509T101348Z
LAST-MODIFIED:20230509T101348Z
UID:10000041-1678813200-1678813200@web2.d11s.org
SUMMARY:March Meeting - DIV 11
DESCRIPTION:
URL:https://web2.d11s.org/event/march-meeting-div-11/
END:VEVENT
BEGIN:VEVENT
DTSTART;TZID=America/Los_Angeles:20230315T170000
DTEND;TZID=America/Los_Angeles:20230315T170000
DTSTAMP:20260423T154832
CREATED:20230509T101550Z
LAST-MODIFIED:20230509T101550Z
UID:10000043-1678899600-1678899600@web2.d11s.org
SUMMARY:March Meeting - DIV 04
DESCRIPTION:
URL:https://web2.d11s.org/event/march-meeting-div-04/
END:VEVENT
END:VCALENDAR