BEGIN:VCALENDAR
VERSION:2.0
PRODID:-//US Coast Guard Auxiliary-D11S - ECPv6.15.20//NONSGML v1.0//EN
CALSCALE:GREGORIAN
METHOD:PUBLISH
X-WR-CALNAME:US Coast Guard Auxiliary-D11S
X-ORIGINAL-URL:https://web2.d11s.org
X-WR-CALDESC:Events for US Coast Guard Auxiliary-D11S
REFRESH-INTERVAL;VALUE=DURATION:PT1H
X-Robots-Tag:noindex
X-PUBLISHED-TTL:PT1H
BEGIN:VTIMEZONE
TZID:America/Los_Angeles
BEGIN:DAYLIGHT
TZOFFSETFROM:-0800
TZOFFSETTO:-0700
TZNAME:PDT
DTSTART:20220313T100000
END:DAYLIGHT
BEGIN:STANDARD
TZOFFSETFROM:-0700
TZOFFSETTO:-0800
TZNAME:PST
DTSTART:20221106T090000
END:STANDARD
BEGIN:DAYLIGHT
TZOFFSETFROM:-0800
TZOFFSETTO:-0700
TZNAME:PDT
DTSTART:20230312T100000
END:DAYLIGHT
BEGIN:STANDARD
TZOFFSETFROM:-0700
TZOFFSETTO:-0800
TZNAME:PST
DTSTART:20231105T090000
END:STANDARD
BEGIN:DAYLIGHT
TZOFFSETFROM:-0800
TZOFFSETTO:-0700
TZNAME:PDT
DTSTART:20240310T100000
END:DAYLIGHT
BEGIN:STANDARD
TZOFFSETFROM:-0700
TZOFFSETTO:-0800
TZNAME:PST
DTSTART:20241103T090000
END:STANDARD
END:VTIMEZONE
BEGIN:VEVENT
DTSTART;TZID=America/Los_Angeles:20230920T000000
DTEND;TZID=America/Los_Angeles:20230920T000000
DTSTAMP:20260425T044624
CREATED:20230613T204608Z
LAST-MODIFIED:20230613T204608Z
UID:10000712-1695168000-1695168000@web2.d11s.org
SUMMARY:September Meeting - DIV 11
DESCRIPTION:
URL:https://web2.d11s.org/event/september-meeting-div-11/
END:VEVENT
BEGIN:VEVENT
DTSTART;TZID=America/Los_Angeles:20230920T193000
DTEND;TZID=America/Los_Angeles:20230920T200000
DTSTAMP:20260425T044624
CREATED:20230706T014325Z
LAST-MODIFIED:20230706T014325Z
UID:10000770-1695238200-1695240000@web2.d11s.org
SUMMARY:Sector San Diego VHF Net
DESCRIPTION:Weekly SDG Sector VHF net on YSD repeater  Wendesday’s at 1930 PST/PDT – unless preempted by federal holiday.
URL:https://web2.d11s.org/event/sector-san-diego-vhf-net/2023-09-20/
END:VEVENT
BEGIN:VEVENT
DTSTART;TZID=America/Los_Angeles:20230921T000000
DTEND;TZID=America/Los_Angeles:20230921T000000
DTSTAMP:20260425T044624
CREATED:20230613T204609Z
LAST-MODIFIED:20230613T204609Z
UID:10000714-1695254400-1695254400@web2.d11s.org
SUMMARY:September Meeting - DIV 04
DESCRIPTION:
URL:https://web2.d11s.org/event/september-meeting-div-04/
END:VEVENT
BEGIN:VEVENT
DTSTART;TZID=America/Los_Angeles:20230921T000000
DTEND;TZID=America/Los_Angeles:20230921T000000
DTSTAMP:20260425T044624
CREATED:20230613T204609Z
LAST-MODIFIED:20230613T204609Z
UID:10000713-1695254400-1695254400@web2.d11s.org
SUMMARY:Pac Area Meeting
DESCRIPTION:
URL:https://web2.d11s.org/event/pac-area-meeting-12/
END:VEVENT
BEGIN:VEVENT
DTSTART;TZID=America/Los_Angeles:20230922T080000
DTEND;TZID=America/Los_Angeles:20230922T160000
DTSTAMP:20260425T044624
CREATED:20230902T152230Z
LAST-MODIFIED:20230902T153331Z
UID:10001047-1695369600-1695398400@web2.d11s.org
SUMMARY:PA Event - Miramar Air Show\, San Diego
DESCRIPTION:The Annual Miramar Air Show returns to the San Diego area running from September 22-24\, 2023. The event will take place at the Marine Corps Air Station Miramar from 8:00 am to 4:00 pm each day. \nDivision 1 in District 11s will be participating with their PA Booth on all three days. \nPOC: Robert Yslas\, DCAPT    robert.yslas@cgauxnet.us
URL:https://web2.d11s.org/event/pa-event-miramar-air-show-san-diego/2023-09-22/
END:VEVENT
BEGIN:VEVENT
DTSTART;TZID=America/Los_Angeles:20230923T080000
DTEND;TZID=America/Los_Angeles:20230923T120000
DTSTAMP:20260425T044624
CREATED:20230831T224044Z
LAST-MODIFIED:20230831T225923Z
UID:10001042-1695456000-1695470400@web2.d11s.org
SUMMARY:PA / MS Event - CA Coastal Clean Up @ Bolsa Chica State Beach
DESCRIPTION:On Saturday\, September 23\, 2023\, Flotilla 62 will play host to participate in the annual California Coastal Clean Up at Bolsa Chica State Beach starting at 8:00 am. The PA/MS Booth will be set up next to Life Guard Tower #24. This will be a Radio Comms event as well. \nFollowing the beach clean up\, a 4th Cornerstone fellowship time will be held at the same location at noon. \nPOC: James Haas\, ADSO-MS iguanabob@msn.com
URL:https://web2.d11s.org/event/pa-ms-event-ca-coastal-clean-up-bolsa-chica-state-beach/
END:VEVENT
BEGIN:VEVENT
DTSTART;TZID=America/Los_Angeles:20230923T080000
DTEND;TZID=America/Los_Angeles:20230923T160000
DTSTAMP:20260425T044624
CREATED:20230902T152230Z
LAST-MODIFIED:20230902T153331Z
UID:10001048-1695456000-1695484800@web2.d11s.org
SUMMARY:PA Event - Miramar Air Show\, San Diego
DESCRIPTION:The Annual Miramar Air Show returns to the San Diego area running from September 22-24\, 2023. The event will take place at the Marine Corps Air Station Miramar from 8:00 am to 4:00 pm each day. \nDivision 1 in District 11s will be participating with their PA Booth on all three days. \nPOC: Robert Yslas\, DCAPT    robert.yslas@cgauxnet.us
URL:https://web2.d11s.org/event/pa-event-miramar-air-show-san-diego/2023-09-23/
END:VEVENT
BEGIN:VEVENT
DTSTART;TZID=America/Los_Angeles:20230924T080000
DTEND;TZID=America/Los_Angeles:20230924T160000
DTSTAMP:20260425T044624
CREATED:20230902T152230Z
LAST-MODIFIED:20230902T153331Z
UID:10001049-1695542400-1695571200@web2.d11s.org
SUMMARY:PA Event - Miramar Air Show\, San Diego
DESCRIPTION:The Annual Miramar Air Show returns to the San Diego area running from September 22-24\, 2023. The event will take place at the Marine Corps Air Station Miramar from 8:00 am to 4:00 pm each day. \nDivision 1 in District 11s will be participating with their PA Booth on all three days. \nPOC: Robert Yslas\, DCAPT    robert.yslas@cgauxnet.us
URL:https://web2.d11s.org/event/pa-event-miramar-air-show-san-diego/2023-09-24/
END:VEVENT
BEGIN:VEVENT
DTSTART;TZID=America/Los_Angeles:20230925T000000
DTEND;TZID=America/Los_Angeles:20230925T000000
DTSTAMP:20260425T044624
CREATED:20230613T204610Z
LAST-MODIFIED:20230613T204610Z
UID:10000716-1695600000-1695600000@web2.d11s.org
SUMMARY:September Meeting - DIV 12
DESCRIPTION:
URL:https://web2.d11s.org/event/september-meeting-div-12/
END:VEVENT
BEGIN:VEVENT
DTSTART;TZID=America/Los_Angeles:20230925T000000
DTEND;TZID=America/Los_Angeles:20230925T000000
DTSTAMP:20260425T044624
CREATED:20230613T204609Z
LAST-MODIFIED:20230613T204609Z
UID:10000715-1695600000-1695600000@web2.d11s.org
SUMMARY:September Meeting - DIV 06
DESCRIPTION:
URL:https://web2.d11s.org/event/september-meeting-div-06/
END:VEVENT
BEGIN:VEVENT
DTSTART;TZID=America/Los_Angeles:20230926T173000
DTEND;TZID=America/Los_Angeles:20230926T193000
DTSTAMP:20260425T044624
CREATED:20230606T224755Z
LAST-MODIFIED:20230606T224755Z
UID:10000156-1695749400-1695756600@web2.d11s.org
SUMMARY:West Coast Regional HF Radio Net
DESCRIPTION:The weekly HF Radio Net begins at 1830 hrs. Tuesdays on B5D. A concurrent virtual session starts around 1730 on  and provides an opportunity to meet net members\, get experience\, or get assistance with radio problems.\nMembers display their name and callsign. Guests display their name and guest.
URL:https://web2.d11s.org/event/west-coast-regional-hf-radio-net/2023-09-26/
ORGANIZER;CN="District 11":MAILTO:crosario.uscgaux@gmail.com
END:VEVENT
BEGIN:VEVENT
DTSTART;TZID=America/Los_Angeles:20230926T193000
DTEND;TZID=America/Los_Angeles:20230926T203000
DTSTAMP:20260425T044624
CREATED:20230606T231511Z
LAST-MODIFIED:20230607T183825Z
UID:10000418-1695756600-1695760200@web2.d11s.org
SUMMARY:District 11 South VHF AUXNET
DESCRIPTION:The District 11 Sothern Region weekly VHF AUXNET starts at 1930hrs. each Tuesday on the Yankee Sierra Repeater. This net provides an opportunity for members to get experience talking on the radio and ensure their equipment is functioning properly.\nIt also provides the district with a list of known operating radio stations and operator for emergency and contingency communications.
URL:https://web2.d11s.org/event/district-11-south-vhf-auxnet/2023-09-26/
END:VEVENT
BEGIN:VEVENT
DTSTART;TZID=America/Los_Angeles:20230927T193000
DTEND;TZID=America/Los_Angeles:20230927T200000
DTSTAMP:20260425T044624
CREATED:20230706T014325Z
LAST-MODIFIED:20230706T014325Z
UID:10000771-1695843000-1695844800@web2.d11s.org
SUMMARY:Sector San Diego VHF Net
DESCRIPTION:Weekly SDG Sector VHF net on YSD repeater  Wendesday’s at 1930 PST/PDT – unless preempted by federal holiday.
URL:https://web2.d11s.org/event/sector-san-diego-vhf-net/2023-09-27/
END:VEVENT
BEGIN:VEVENT
DTSTART;TZID=America/Los_Angeles:20230929T100000
DTEND;TZID=America/Los_Angeles:20230929T180000
DTSTAMP:20260425T044624
CREATED:20230831T213950Z
LAST-MODIFIED:20230831T225618Z
UID:10001041-1695981600-1696010400@web2.d11s.org
SUMMARY:PA Event - Pacific Air Show\, Huntington Beach\, CA
DESCRIPTION:The annual Pacific Air Show returns to Huntington Beach for three days starting Friday\, Sept 29 through Sunday\, Oct 1\, 2023. Hours for the booth are 10:00am – 6:00pm each day. \nFlotilla 06-02 will be participating with a Public Affairs Booth set up north of the Huntington Beach Pier all three days where Boating Safety and Auxiliary Recruitment will be featured. \nLocation of the PA Booth is in the common area north of the pier at the intersection of Pacific Coast Highway and Main Street\, Huntington Beach. \nPOC:  Jerry Myers\, FSO-PA (06-02):   Jmyers.cgaux@gmail.com
URL:https://web2.d11s.org/event/pa-event-pacific-air-show-huntington-beach-ca/2023-09-29/
LOCATION:Huntington Beach Pier\, 103 Pacific Coast Highway\, Huntington Beach\, CA\, 92648\, United States
CATEGORIES:Special Event
END:VEVENT
BEGIN:VEVENT
DTSTART;VALUE=DATE:20230930
DTEND;VALUE=DATE:20231001
DTSTAMP:20260425T044624
CREATED:20230918T003258Z
LAST-MODIFIED:20230918T003258Z
UID:10001054-1696032000-1696118399@web2.d11s.org
SUMMARY:Port Hueneme Banana Festival
DESCRIPTION:Port Tours: earn about the inner-workings of the port! Tours by land and sea scheduled hourly. \nKIDS ZONE!\nGo Bananas!\nKids can enjoy bounce houses\, bungee\, games\, reptile exhibits and do banana crafts.\nBanana Festival Port of Hueneme Live Bands \nLIVE BANDS!\nWorld Music Stage\nRock out to the sounds that will get you grooving on the dance floor.\nBanana Festival Port of Hueneme Food \nTASTY EATS!\nBring on the flavor!\nMouthwatering sandwiches\, sushi wraps\, banana splits and shakes\, funnel cakes and more. \nBanana Festival Shopping\nSHOPPING FUN!\nAll Ports Marketplace\nBoutique clothing\, hand crafted jewelry\, garden art\, hats\, sunglasses\, and much more.
URL:https://web2.d11s.org/event/port-hueneme-banana-festival/
ATTACH;FMTTYPE=image/jpeg:https://web2.d11s.org/wp-content/uploads/2023/09/Z-150919-Banana_Festival-0573-e1470091220782.jpg
END:VEVENT
BEGIN:VEVENT
DTSTART;VALUE=DATE:20230930
DTEND;VALUE=DATE:20231002
DTSTAMP:20260425T044624
CREATED:20230823T143419Z
LAST-MODIFIED:20230823T143419Z
UID:10001036-1696032000-1696204799@web2.d11s.org
SUMMARY:Underwood Farms Public Safety Days (Moorpark\, CA)
DESCRIPTION:Two Day RBS Outreach 0830-1630\nTribute to Ventura County Public Safety agencies.\nall outdoors. Weather expected to be sunny\, warm.\nHundreds of adults and children in attendance. Public paid admission. \nImportance of PA Event:\nHigh visibility and interaction with Ventura County Sheriff Department\, Fire Department\, Bomb Squad\, EMT\, SAR\, and more. You will provide information on Recreational Boating Safety information\, Auxiliary recruiting\, VSC requests\, and Boating Safety class sign-up\, etc. This event is an annual PA mission for our Division with huge benefit to the Auxiliary and to Active Duty Coast Guard! Incidentally\, Division 114-07 has received large cash donation in past years! MORE INFO HERE: https://www.underwoodfamilyfarms.com/friends-of-the-farm/ \nAbout the Event:\nSalute to Public Safety Organizations\nDATES: Saturday September 30 and Sunday October 1 – 0830 – 1630 (2 shifts daily)\nMISSION: Recreational Boating Safety\, Auxiliary recruiting\, class sign-up\, Vessel Safety Check requests\, etc.\nLOCATION: Underwood Family Farms – Public Safety Days – 3370 Sunset Valley Road Moorpark\, CA 93021\nA few AUX pictures from 2022 event: https://flic.kr/s/aHBqjAu79Z \nAuxiliary Volunteers Needed (16 slots):\nProvide boating safety information to public (including youth). Explain Boating Safety\, Life Jackets\, Environmental Protection\, Recruit new Auxiliary candidates\, Sign-up VSC & Boating Safety Classes\, etc..\nODU Uniform\nMust have all AuxCT (core training) up to date.\nATD will be submitted by Event Leader\nFREE LUNCH Provided \nNeed four members per shift per day!\nSat 9/30\nShift 1: 0830 – 1230\nShift 2: 12:30 – 1630  \nSun 10/1\nShift 1: 0830- 1230\nShift 2: 1230 – 1630
URL:https://web2.d11s.org/event/underwood-farms-public-safety-days-moorpark-ca/
LOCATION:In Person
CATEGORIES:Special Event
ATTACH;FMTTYPE=image/jpeg:https://web2.d11s.org/wp-content/uploads/2023/08/52719778814_59f0922d9a_o.jpg
END:VEVENT
BEGIN:VEVENT
DTSTART;TZID=America/Los_Angeles:20230930T100000
DTEND;TZID=America/Los_Angeles:20230930T180000
DTSTAMP:20260425T044624
CREATED:20230831T213950Z
LAST-MODIFIED:20230831T225618Z
UID:10001043-1696068000-1696096800@web2.d11s.org
SUMMARY:PA Event - Pacific Air Show\, Huntington Beach\, CA
DESCRIPTION:The annual Pacific Air Show returns to Huntington Beach for three days starting Friday\, Sept 29 through Sunday\, Oct 1\, 2023. Hours for the booth are 10:00am – 6:00pm each day. \nFlotilla 06-02 will be participating with a Public Affairs Booth set up north of the Huntington Beach Pier all three days where Boating Safety and Auxiliary Recruitment will be featured. \nLocation of the PA Booth is in the common area north of the pier at the intersection of Pacific Coast Highway and Main Street\, Huntington Beach. \nPOC:  Jerry Myers\, FSO-PA (06-02):   Jmyers.cgaux@gmail.com
URL:https://web2.d11s.org/event/pa-event-pacific-air-show-huntington-beach-ca/2023-09-30/
LOCATION:Huntington Beach Pier\, 103 Pacific Coast Highway\, Huntington Beach\, CA\, 92648\, United States
CATEGORIES:Special Event
END:VEVENT
BEGIN:VEVENT
DTSTART;VALUE=DATE:20231001
DTEND;VALUE=DATE:20231002
DTSTAMP:20260425T044624
CREATED:20230815T152701Z
LAST-MODIFIED:20230815T152701Z
UID:10001031-1696118400-1696204799@web2.d11s.org
SUMMARY:D11S Reports - Q3
DESCRIPTION:Please submit your quarterly reports.  Thank you.
URL:https://web2.d11s.org/event/d11s-reports-q3/
LOCATION:Virtual Event
CATEGORIES:Reports
ORGANIZER;CN="District 11":MAILTO:crosario.uscgaux@gmail.com
END:VEVENT
BEGIN:VEVENT
DTSTART;TZID=America/Los_Angeles:20231001T100000
DTEND;TZID=America/Los_Angeles:20231001T180000
DTSTAMP:20260425T044624
CREATED:20230831T213950Z
LAST-MODIFIED:20230831T225618Z
UID:10001044-1696154400-1696183200@web2.d11s.org
SUMMARY:PA Event - Pacific Air Show\, Huntington Beach\, CA
DESCRIPTION:The annual Pacific Air Show returns to Huntington Beach for three days starting Friday\, Sept 29 through Sunday\, Oct 1\, 2023. Hours for the booth are 10:00am – 6:00pm each day. \nFlotilla 06-02 will be participating with a Public Affairs Booth set up north of the Huntington Beach Pier all three days where Boating Safety and Auxiliary Recruitment will be featured. \nLocation of the PA Booth is in the common area north of the pier at the intersection of Pacific Coast Highway and Main Street\, Huntington Beach. \nPOC:  Jerry Myers\, FSO-PA (06-02):   Jmyers.cgaux@gmail.com
URL:https://web2.d11s.org/event/pa-event-pacific-air-show-huntington-beach-ca/2023-10-01/
LOCATION:Huntington Beach Pier\, 103 Pacific Coast Highway\, Huntington Beach\, CA\, 92648\, United States
CATEGORIES:Special Event
END:VEVENT
BEGIN:VEVENT
DTSTART;TZID=America/Los_Angeles:20231003T173000
DTEND;TZID=America/Los_Angeles:20231003T193000
DTSTAMP:20260425T044624
CREATED:20230606T224755Z
LAST-MODIFIED:20230606T224755Z
UID:10000157-1696354200-1696361400@web2.d11s.org
SUMMARY:West Coast Regional HF Radio Net
DESCRIPTION:The weekly HF Radio Net begins at 1830 hrs. Tuesdays on B5D. A concurrent virtual session starts around 1730 on  and provides an opportunity to meet net members\, get experience\, or get assistance with radio problems.\nMembers display their name and callsign. Guests display their name and guest.
URL:https://web2.d11s.org/event/west-coast-regional-hf-radio-net/2023-10-03/
ORGANIZER;CN="District 11":MAILTO:crosario.uscgaux@gmail.com
END:VEVENT
BEGIN:VEVENT
DTSTART;TZID=America/Los_Angeles:20231003T193000
DTEND;TZID=America/Los_Angeles:20231003T203000
DTSTAMP:20260425T044624
CREATED:20230606T231511Z
LAST-MODIFIED:20230607T183825Z
UID:10000419-1696361400-1696365000@web2.d11s.org
SUMMARY:District 11 South VHF AUXNET
DESCRIPTION:The District 11 Sothern Region weekly VHF AUXNET starts at 1930hrs. each Tuesday on the Yankee Sierra Repeater. This net provides an opportunity for members to get experience talking on the radio and ensure their equipment is functioning properly.\nIt also provides the district with a list of known operating radio stations and operator for emergency and contingency communications.
URL:https://web2.d11s.org/event/district-11-south-vhf-auxnet/2023-10-03/
END:VEVENT
BEGIN:VEVENT
DTSTART;TZID=America/Los_Angeles:20231004T193000
DTEND;TZID=America/Los_Angeles:20231004T200000
DTSTAMP:20260425T044624
CREATED:20230706T014325Z
LAST-MODIFIED:20230706T014325Z
UID:10000772-1696447800-1696449600@web2.d11s.org
SUMMARY:Sector San Diego VHF Net
DESCRIPTION:Weekly SDG Sector VHF net on YSD repeater  Wendesday’s at 1930 PST/PDT – unless preempted by federal holiday.
URL:https://web2.d11s.org/event/sector-san-diego-vhf-net/2023-10-04/
END:VEVENT
BEGIN:VEVENT
DTSTART;TZID=America/Los_Angeles:20231005T000000
DTEND;TZID=America/Los_Angeles:20231005T000000
DTSTAMP:20260425T044624
CREATED:20230613T204647Z
LAST-MODIFIED:20230613T204647Z
UID:10000717-1696464000-1696464000@web2.d11s.org
SUMMARY:OPCOM
DESCRIPTION:
URL:https://web2.d11s.org/event/opcom-11/
END:VEVENT
BEGIN:VEVENT
DTSTART;TZID=America/Los_Angeles:20231007T080000
DTEND;TZID=America/Los_Angeles:20231007T123000
DTSTAMP:20260425T044624
CREATED:20230801T011630Z
LAST-MODIFIED:20230801T011630Z
UID:10001026-1696665600-1696681800@web2.d11s.org
SUMMARY:RM TCT Refresher 4.5 hr Session
DESCRIPTION:RM TCT refresher.  Will be delivered via Zoom. Must have working camera and microphone.  \nTo sign up: email LesliePelosi@yahoo.com. Log in info will be sent a few days before class.
URL:https://web2.d11s.org/event/rm-tct-refresher-4-5-hr-session/
END:VEVENT
BEGIN:VEVENT
DTSTART;TZID=America/Los_Angeles:20231007T090000
DTEND;TZID=America/Los_Angeles:20231007T140000
DTSTAMP:20260425T044624
CREATED:20230824T215516Z
LAST-MODIFIED:20230831T231852Z
UID:10001038-1696669200-1696687200@web2.d11s.org
SUMMARY:PA Event - Booth at Stars & Stripes Car Show\, Rancho Cucamonga\, CA
DESCRIPTION:Division 11 will be setting up a PA Booth at the “Stars & Stripes” Car Show in Rancho Cucamonga\, CA on Saturday\, October 7\, 2023 from 9:00 am – 2:00 pm. The booth will also feature Coastie the boat robot at the location. \nLocation:\nThe Vine Church of Rancho Cucamonga\n12489 Foothill Blvd\nRancho Cucamonga\, CA 91730 \nPOC: Peter Rosen\, SO-HR PRosen.cgaux@gmail.com
URL:https://web2.d11s.org/event/pa-event-booth-at-stars-stripes-car-show-rancho-cucamonga-ca/
LOCATION:Vine Church of Rancho Cucamonga\, 12489 Foothill Blvd\, Rancho Cucamonga\, CA\, 91730\, United States
END:VEVENT
BEGIN:VEVENT
DTSTART;TZID=America/Los_Angeles:20231008T000000
DTEND;TZID=America/Los_Angeles:20231008T000000
DTSTAMP:20260425T044624
CREATED:20230613T204647Z
LAST-MODIFIED:20230613T204647Z
UID:10000718-1696723200-1696723200@web2.d11s.org
SUMMARY:DCO Report - Q3
DESCRIPTION:
URL:https://web2.d11s.org/event/dco-report-q3/
END:VEVENT
BEGIN:VEVENT
DTSTART;TZID=America/Los_Angeles:20231009T000000
DTEND;TZID=America/Los_Angeles:20231009T000000
DTSTAMP:20260425T044624
CREATED:20230613T204648Z
LAST-MODIFIED:20230613T204648Z
UID:10000719-1696809600-1696809600@web2.d11s.org
SUMMARY:October Meeting - DIV 07
DESCRIPTION:
URL:https://web2.d11s.org/event/october-meeting-div-07/
END:VEVENT
BEGIN:VEVENT
DTSTART;TZID=America/Los_Angeles:20231010T173000
DTEND;TZID=America/Los_Angeles:20231010T193000
DTSTAMP:20260425T044624
CREATED:20230606T224755Z
LAST-MODIFIED:20230606T224755Z
UID:10000158-1696959000-1696966200@web2.d11s.org
SUMMARY:West Coast Regional HF Radio Net
DESCRIPTION:The weekly HF Radio Net begins at 1830 hrs. Tuesdays on B5D. A concurrent virtual session starts around 1730 on  and provides an opportunity to meet net members\, get experience\, or get assistance with radio problems.\nMembers display their name and callsign. Guests display their name and guest.
URL:https://web2.d11s.org/event/west-coast-regional-hf-radio-net/2023-10-10/
ORGANIZER;CN="District 11":MAILTO:crosario.uscgaux@gmail.com
END:VEVENT
BEGIN:VEVENT
DTSTART;TZID=America/Los_Angeles:20231010T193000
DTEND;TZID=America/Los_Angeles:20231010T203000
DTSTAMP:20260425T044624
CREATED:20230606T231511Z
LAST-MODIFIED:20230607T183825Z
UID:10000420-1696966200-1696969800@web2.d11s.org
SUMMARY:District 11 South VHF AUXNET
DESCRIPTION:The District 11 Sothern Region weekly VHF AUXNET starts at 1930hrs. each Tuesday on the Yankee Sierra Repeater. This net provides an opportunity for members to get experience talking on the radio and ensure their equipment is functioning properly.\nIt also provides the district with a list of known operating radio stations and operator for emergency and contingency communications.
URL:https://web2.d11s.org/event/district-11-south-vhf-auxnet/2023-10-10/
END:VEVENT
BEGIN:VEVENT
DTSTART;TZID=America/Los_Angeles:20231011T193000
DTEND;TZID=America/Los_Angeles:20231011T200000
DTSTAMP:20260425T044624
CREATED:20230706T014325Z
LAST-MODIFIED:20230706T014325Z
UID:10000773-1697052600-1697054400@web2.d11s.org
SUMMARY:Sector San Diego VHF Net
DESCRIPTION:Weekly SDG Sector VHF net on YSD repeater  Wendesday’s at 1930 PST/PDT – unless preempted by federal holiday.
URL:https://web2.d11s.org/event/sector-san-diego-vhf-net/2023-10-11/
END:VEVENT
END:VCALENDAR