BEGIN:VCALENDAR
VERSION:2.0
PRODID:-//US Coast Guard Auxiliary-D11S - ECPv6.15.20//NONSGML v1.0//EN
CALSCALE:GREGORIAN
METHOD:PUBLISH
X-WR-CALNAME:US Coast Guard Auxiliary-D11S
X-ORIGINAL-URL:https://web2.d11s.org
X-WR-CALDESC:Events for US Coast Guard Auxiliary-D11S
REFRESH-INTERVAL;VALUE=DURATION:PT1H
X-Robots-Tag:noindex
X-PUBLISHED-TTL:PT1H
BEGIN:VTIMEZONE
TZID:America/Los_Angeles
BEGIN:DAYLIGHT
TZOFFSETFROM:-0800
TZOFFSETTO:-0700
TZNAME:PDT
DTSTART:20220313T100000
END:DAYLIGHT
BEGIN:STANDARD
TZOFFSETFROM:-0700
TZOFFSETTO:-0800
TZNAME:PST
DTSTART:20221106T090000
END:STANDARD
BEGIN:DAYLIGHT
TZOFFSETFROM:-0800
TZOFFSETTO:-0700
TZNAME:PDT
DTSTART:20230312T100000
END:DAYLIGHT
BEGIN:STANDARD
TZOFFSETFROM:-0700
TZOFFSETTO:-0800
TZNAME:PST
DTSTART:20231105T090000
END:STANDARD
BEGIN:DAYLIGHT
TZOFFSETFROM:-0800
TZOFFSETTO:-0700
TZNAME:PDT
DTSTART:20240310T100000
END:DAYLIGHT
BEGIN:STANDARD
TZOFFSETFROM:-0700
TZOFFSETTO:-0800
TZNAME:PST
DTSTART:20241103T090000
END:STANDARD
END:VTIMEZONE
BEGIN:VEVENT
DTSTART;TZID=America/Los_Angeles:20231018T193000
DTEND;TZID=America/Los_Angeles:20231018T200000
DTSTAMP:20260425T044643
CREATED:20230706T014325Z
LAST-MODIFIED:20230706T014325Z
UID:10000774-1697657400-1697659200@web2.d11s.org
SUMMARY:Sector San Diego VHF Net
DESCRIPTION:Weekly SDG Sector VHF net on YSD repeater  Wendesday’s at 1930 PST/PDT – unless preempted by federal holiday.
URL:https://web2.d11s.org/event/sector-san-diego-vhf-net/2023-10-18/
END:VEVENT
BEGIN:VEVENT
DTSTART;TZID=America/Los_Angeles:20231019T000000
DTEND;TZID=America/Los_Angeles:20231019T000000
DTSTAMP:20260425T044643
CREATED:20230613T204650Z
LAST-MODIFIED:20230613T204650Z
UID:10000724-1697673600-1697673600@web2.d11s.org
SUMMARY:October Meeting - DIV 04
DESCRIPTION:
URL:https://web2.d11s.org/event/october-meeting-div-04/
END:VEVENT
BEGIN:VEVENT
DTSTART;TZID=America/Los_Angeles:20231019T000000
DTEND;TZID=America/Los_Angeles:20231019T000000
DTSTAMP:20260425T044643
CREATED:20230613T204650Z
LAST-MODIFIED:20230613T204650Z
UID:10000723-1697673600-1697673600@web2.d11s.org
SUMMARY:Pac Area Meeting
DESCRIPTION:
URL:https://web2.d11s.org/event/pac-area-meeting-13/
END:VEVENT
BEGIN:VEVENT
DTSTART;TZID=America/Los_Angeles:20231020T000000
DTEND;TZID=America/Los_Angeles:20231020T000000
DTSTAMP:20260425T044643
CREATED:20230613T204650Z
LAST-MODIFIED:20230613T204650Z
UID:10000725-1697760000-1697760000@web2.d11s.org
SUMMARY:October Meeting - DIV 10
DESCRIPTION:
URL:https://web2.d11s.org/event/october-meeting-div-10/
END:VEVENT
BEGIN:VEVENT
DTSTART;TZID=America/Los_Angeles:20231021T000000
DTEND;TZID=America/Los_Angeles:20231021T000000
DTSTAMP:20260425T044643
CREATED:20230613T204651Z
LAST-MODIFIED:20230613T204651Z
UID:10000726-1697846400-1697846400@web2.d11s.org
SUMMARY:October Meeting - DIV 09
DESCRIPTION:
URL:https://web2.d11s.org/event/october-meeting-div-09/
END:VEVENT
BEGIN:VEVENT
DTSTART;VALUE=DATE:20231021
DTEND;VALUE=DATE:20231022
DTSTAMP:20260425T044643
CREATED:20230918T002617Z
LAST-MODIFIED:20230918T002617Z
UID:10001053-1697846400-1697932799@web2.d11s.org
SUMMARY:Santa Barbara Harbor Festival
DESCRIPTION:https://www.harborfestival.org/\nCome enjoy the abundance of the Santa Barbara Channel\, rich in sustainably harvested\, high-quality seafood. Meet fishermen face-to-face. Select fresh-caught lobster and sea urchin “uni” and have them prepared on the spot. Visit specialty food booths for fish tacos\, oysters\, mussels\, barbequed albacore\, fresh crab\, clam chowder\, seafood paella and hamburgers. Presented by the City of Santa Barbara in partnership with the Commercial Fishermen of Santa Barbara and the Santa Barbara Harbor Merchants.
URL:https://web2.d11s.org/event/santa-barbara-harbor-festival/
ATTACH;FMTTYPE=image/jpeg:https://web2.d11s.org/wp-content/uploads/2023/09/cover-9.jpg
END:VEVENT
BEGIN:VEVENT
DTSTART;TZID=America/Los_Angeles:20231023T000000
DTEND;TZID=America/Los_Angeles:20231023T000000
DTSTAMP:20260425T044643
CREATED:20230613T204651Z
LAST-MODIFIED:20230613T204651Z
UID:10000727-1698019200-1698019200@web2.d11s.org
SUMMARY:October Meeting - DIV 12
DESCRIPTION:
URL:https://web2.d11s.org/event/october-meeting-div-12/
END:VEVENT
BEGIN:VEVENT
DTSTART;TZID=America/Los_Angeles:20231023T000000
DTEND;TZID=America/Los_Angeles:20231023T000000
DTSTAMP:20260425T044643
CREATED:20230613T204651Z
LAST-MODIFIED:20230613T204651Z
UID:10000728-1698019200-1698019200@web2.d11s.org
SUMMARY:October Meeting - DIV 06
DESCRIPTION:
URL:https://web2.d11s.org/event/october-meeting-div-06/
END:VEVENT
BEGIN:VEVENT
DTSTART;TZID=America/Los_Angeles:20231024T173000
DTEND;TZID=America/Los_Angeles:20231024T193000
DTSTAMP:20260425T044643
CREATED:20230606T224755Z
LAST-MODIFIED:20230606T224755Z
UID:10000160-1698168600-1698175800@web2.d11s.org
SUMMARY:West Coast Regional HF Radio Net
DESCRIPTION:The weekly HF Radio Net begins at 1830 hrs. Tuesdays on B5D. A concurrent virtual session starts around 1730 on  and provides an opportunity to meet net members\, get experience\, or get assistance with radio problems.\nMembers display their name and callsign. Guests display their name and guest.
URL:https://web2.d11s.org/event/west-coast-regional-hf-radio-net/2023-10-24/
ORGANIZER;CN="District 11":MAILTO:crosario.uscgaux@gmail.com
END:VEVENT
BEGIN:VEVENT
DTSTART;TZID=America/Los_Angeles:20231024T193000
DTEND;TZID=America/Los_Angeles:20231024T203000
DTSTAMP:20260425T044643
CREATED:20230606T231511Z
LAST-MODIFIED:20230607T183825Z
UID:10000422-1698175800-1698179400@web2.d11s.org
SUMMARY:District 11 South VHF AUXNET
DESCRIPTION:The District 11 Sothern Region weekly VHF AUXNET starts at 1930hrs. each Tuesday on the Yankee Sierra Repeater. This net provides an opportunity for members to get experience talking on the radio and ensure their equipment is functioning properly.\nIt also provides the district with a list of known operating radio stations and operator for emergency and contingency communications.
URL:https://web2.d11s.org/event/district-11-south-vhf-auxnet/2023-10-24/
END:VEVENT
BEGIN:VEVENT
DTSTART;TZID=America/Los_Angeles:20231025T180000
DTEND;TZID=America/Los_Angeles:20231025T200000
DTSTAMP:20260425T044643
CREATED:20231019T180854Z
LAST-MODIFIED:20231019T180854Z
UID:10001122-1698256800-1698264000@web2.d11s.org
SUMMARY:Flotilla 96 Meeting
DESCRIPTION:Flotilla 114-09-06 Las Vegas Monthly Meeting
URL:https://web2.d11s.org/event/flotilla-96-meeting/2023-10-25/
LOCATION:In Person
CATEGORIES:Member Training,Unit Meeting
END:VEVENT
BEGIN:VEVENT
DTSTART;TZID=America/Los_Angeles:20231025T193000
DTEND;TZID=America/Los_Angeles:20231025T200000
DTSTAMP:20260425T044643
CREATED:20230706T014325Z
LAST-MODIFIED:20230706T014325Z
UID:10000775-1698262200-1698264000@web2.d11s.org
SUMMARY:Sector San Diego VHF Net
DESCRIPTION:Weekly SDG Sector VHF net on YSD repeater  Wendesday’s at 1930 PST/PDT – unless preempted by federal holiday.
URL:https://web2.d11s.org/event/sector-san-diego-vhf-net/2023-10-25/
END:VEVENT
BEGIN:VEVENT
DTSTART;TZID=America/Los_Angeles:20231026T180000
DTEND;TZID=America/Los_Angeles:20231026T200000
DTSTAMP:20260425T044643
CREATED:20230929T185712Z
LAST-MODIFIED:20230929T185712Z
UID:10001061-1698343200-1698350400@web2.d11s.org
SUMMARY:Flotilla 1-10 meeting
DESCRIPTION:We meet every 4th Thursday at 1800. There will be no meeting in November and December. Contact FC for location.
URL:https://web2.d11s.org/event/flotilla-1-10-meeting/2023-10-26/
END:VEVENT
BEGIN:VEVENT
DTSTART;TZID=America/Los_Angeles:20231028T070000
DTEND;TZID=America/Los_Angeles:20231028T170000
DTSTAMP:20260425T044643
CREATED:20230915T192441Z
LAST-MODIFIED:20230915T192441Z
UID:10001052-1698476400-1698512400@web2.d11s.org
SUMMARY:Boat America Class
DESCRIPTION:One day class in San Luis Obispo County\nLocation:\nElks Lodge\n222 Elks Lane\nSan Luis Obispo\, CA 93401 \nInstructors:\nDonna Banks\, Charlie Cohn\, Mike Fiamingo\, Neil Malpiede\, and Dave Naumann \nPIC: Donna Banks\nMorro Bay Flotilla 7-61\n(805) 801-8884
URL:https://web2.d11s.org/event/boat-america-class/
LOCATION:In Person
CATEGORIES:Special Event
END:VEVENT
BEGIN:VEVENT
DTSTART;TZID=America/Los_Angeles:20231028T120000
DTEND;TZID=America/Los_Angeles:20231028T150000
DTSTAMP:20260425T044643
CREATED:20231025T191448Z
LAST-MODIFIED:20231025T191448Z
UID:10001183-1698494400-1698505200@web2.d11s.org
SUMMARY:Benders Pond BBQ
DESCRIPTION:Join the Town of Gila Bend celebrate the expansion of Benders Pond.  PA Booth only.
URL:https://web2.d11s.org/event/benders-pond-bbq/
CATEGORIES:Special Event
ATTACH;FMTTYPE=image/png:https://web2.d11s.org/wp-content/uploads/2023/10/image003.png
END:VEVENT
BEGIN:VEVENT
DTSTART;TZID=America/Los_Angeles:20231031T173000
DTEND;TZID=America/Los_Angeles:20231031T193000
DTSTAMP:20260425T044643
CREATED:20230606T224755Z
LAST-MODIFIED:20230606T224755Z
UID:10000161-1698773400-1698780600@web2.d11s.org
SUMMARY:West Coast Regional HF Radio Net
DESCRIPTION:The weekly HF Radio Net begins at 1830 hrs. Tuesdays on B5D. A concurrent virtual session starts around 1730 on  and provides an opportunity to meet net members\, get experience\, or get assistance with radio problems.\nMembers display their name and callsign. Guests display their name and guest.
URL:https://web2.d11s.org/event/west-coast-regional-hf-radio-net/2023-10-31/
ORGANIZER;CN="District 11":MAILTO:crosario.uscgaux@gmail.com
END:VEVENT
BEGIN:VEVENT
DTSTART;TZID=America/Los_Angeles:20231031T193000
DTEND;TZID=America/Los_Angeles:20231031T203000
DTSTAMP:20260425T044643
CREATED:20230606T231511Z
LAST-MODIFIED:20230607T183825Z
UID:10000423-1698780600-1698784200@web2.d11s.org
SUMMARY:District 11 South VHF AUXNET
DESCRIPTION:The District 11 Sothern Region weekly VHF AUXNET starts at 1930hrs. each Tuesday on the Yankee Sierra Repeater. This net provides an opportunity for members to get experience talking on the radio and ensure their equipment is functioning properly.\nIt also provides the district with a list of known operating radio stations and operator for emergency and contingency communications.
URL:https://web2.d11s.org/event/district-11-south-vhf-auxnet/2023-10-31/
END:VEVENT
BEGIN:VEVENT
DTSTART;TZID=America/Los_Angeles:20231101T193000
DTEND;TZID=America/Los_Angeles:20231101T200000
DTSTAMP:20260425T044643
CREATED:20230706T014325Z
LAST-MODIFIED:20230706T014325Z
UID:10000776-1698867000-1698868800@web2.d11s.org
SUMMARY:Sector San Diego VHF Net
DESCRIPTION:Weekly SDG Sector VHF net on YSD repeater  Wendesday’s at 1930 PST/PDT – unless preempted by federal holiday.
URL:https://web2.d11s.org/event/sector-san-diego-vhf-net/2023-11-01/
END:VEVENT
BEGIN:VEVENT
DTSTART;TZID=America/Los_Angeles:20231102T190000
DTEND;TZID=America/Los_Angeles:20231102T200000
DTSTAMP:20260425T044643
CREATED:20230613T204728Z
LAST-MODIFIED:20230613T204728Z
UID:10000729-1698951600-1698955200@web2.d11s.org
SUMMARY:OPCOM
DESCRIPTION:
URL:https://web2.d11s.org/event/opcom-12/
END:VEVENT
BEGIN:VEVENT
DTSTART;TZID=America/Los_Angeles:20231104T080000
DTEND;TZID=America/Los_Angeles:20231104T130000
DTSTAMP:20260425T044643
CREATED:20230919T150608Z
LAST-MODIFIED:20230919T150608Z
UID:10001055-1699084800-1699102800@web2.d11s.org
SUMMARY:COASTIE Training
DESCRIPTION:A Coastie Training Course is being offered to those wishing to be certified as a Coastie Operator. Classroom and Hands On training is provided to teach the mechanics of Coastie\, the use of the handheld remote controller and the communication capabilities. This course is also for those needing a refresher. \nThe training will take place on Saturday\, November 4\, 2023 in the Lighthouse Room at the Coast Guard Base Sector LA/LB from 0900 – 1300 hours. \nYou must sign up to attend.\nPOC: Rick Weiss\, ADSO- COASTIE (PA) rmwgg@yahoo.com or cell at 714 319-2729.
URL:https://web2.d11s.org/event/coastie-training/
LOCATION:Sector LA/LB\, 1001 Seaside Avenue\, San Pedro\, CA\, 90731\, United States
END:VEVENT
BEGIN:VEVENT
DTSTART;TZID=America/Los_Angeles:20231104T090000
DTEND;TZID=America/Los_Angeles:20231104T130000
DTSTAMP:20260425T044643
CREATED:20230908T031800Z
LAST-MODIFIED:20230908T033332Z
UID:10001050-1699088400-1699102800@web2.d11s.org
SUMMARY:PA - Coastie Training Course
DESCRIPTION:A Coastie Training Course is being offered to those wishing to be certified as a Coastie Operator. Classroom and Hands On training is provided to teach the mechanics of Coastie\, the use of the handheld remote controller and the communication capabilities. This course is also for those needing a refresher. \nThe training will take place on Saturday\, November 4\, 2023 in the Lighthouse Room at the Coast Guard Base Sector LA/LB from 0900 – 1300 hours. \nYou must sign up to attend. \nPOC:  Rick Weiss\, ADSO- COASTIE (PA)    rmwgg@yahoo.com or cell at 714 319-2729. \nU.S. Coast Guard Auxiliary District 11s Coastie Team
URL:https://web2.d11s.org/event/pa-coastie-training-course/
LOCATION:Sector LA/LB\, 1001 Seaside Avenue\, San Pedro\, CA\, 90731\, United States
END:VEVENT
BEGIN:VEVENT
DTSTART;TZID=America/Los_Angeles:20231107T173000
DTEND;TZID=America/Los_Angeles:20231107T193000
DTSTAMP:20260425T044643
CREATED:20230606T224755Z
LAST-MODIFIED:20230606T224755Z
UID:10000162-1699378200-1699385400@web2.d11s.org
SUMMARY:West Coast Regional HF Radio Net
DESCRIPTION:The weekly HF Radio Net begins at 1830 hrs. Tuesdays on B5D. A concurrent virtual session starts around 1730 on  and provides an opportunity to meet net members\, get experience\, or get assistance with radio problems.\nMembers display their name and callsign. Guests display their name and guest.
URL:https://web2.d11s.org/event/west-coast-regional-hf-radio-net/2023-11-07/
ORGANIZER;CN="District 11":MAILTO:crosario.uscgaux@gmail.com
END:VEVENT
BEGIN:VEVENT
DTSTART;TZID=America/Los_Angeles:20231107T180000
DTEND;TZID=America/Los_Angeles:20231108T210000
DTSTAMP:20260425T044643
CREATED:20230921T180306Z
LAST-MODIFIED:20230921T180306Z
UID:10001056-1699380000-1699477200@web2.d11s.org
SUMMARY:RM TCT Refresher
DESCRIPTION:2 night class via zoom. 6-9 pm PACIFIC. Must have working camera and microphone and be on both nights.   \nIf registration thru website isn’t an option\, please email RM TCT Coordinator\, LesliePelosi@yahoo.com. \nLog on info will be emailed approx 4 days prior to start of class.
URL:https://web2.d11s.org/event/rm-tct-refresher-3/
END:VEVENT
BEGIN:VEVENT
DTSTART;TZID=America/Los_Angeles:20231107T193000
DTEND;TZID=America/Los_Angeles:20231107T203000
DTSTAMP:20260425T044643
CREATED:20230606T231511Z
LAST-MODIFIED:20230607T183825Z
UID:10000424-1699385400-1699389000@web2.d11s.org
SUMMARY:District 11 South VHF AUXNET
DESCRIPTION:The District 11 Sothern Region weekly VHF AUXNET starts at 1930hrs. each Tuesday on the Yankee Sierra Repeater. This net provides an opportunity for members to get experience talking on the radio and ensure their equipment is functioning properly.\nIt also provides the district with a list of known operating radio stations and operator for emergency and contingency communications.
URL:https://web2.d11s.org/event/district-11-south-vhf-auxnet/2023-11-07/
END:VEVENT
BEGIN:VEVENT
DTSTART;TZID=America/Los_Angeles:20231108T193000
DTEND;TZID=America/Los_Angeles:20231108T200000
DTSTAMP:20260425T044643
CREATED:20230706T014325Z
LAST-MODIFIED:20230706T014325Z
UID:10000777-1699471800-1699473600@web2.d11s.org
SUMMARY:Sector San Diego VHF Net
DESCRIPTION:Weekly SDG Sector VHF net on YSD repeater  Wendesday’s at 1930 PST/PDT – unless preempted by federal holiday.
URL:https://web2.d11s.org/event/sector-san-diego-vhf-net/2023-11-08/
END:VEVENT
BEGIN:VEVENT
DTSTART;TZID=America/Los_Angeles:20231109T180000
DTEND;TZID=America/Los_Angeles:20231109T193000
DTSTAMP:20260425T044643
CREATED:20230924T164624Z
LAST-MODIFIED:20230924T164624Z
UID:10001058-1699552800-1699558200@web2.d11s.org
SUMMARY:Monthly Meeting
DESCRIPTION:Flotilla 09-05 meeting
URL:https://web2.d11s.org/event/monthly-meeting/2023-11-09/
CATEGORIES:Unit Meeting
END:VEVENT
BEGIN:VEVENT
DTSTART;VALUE=DATE:20231110
DTEND;VALUE=DATE:20231113
DTSTAMP:20260425T044643
CREATED:20230613T204729Z
LAST-MODIFIED:20230613T204729Z
UID:10000730-1699574400-1699833599@web2.d11s.org
SUMMARY:PA Event - Fleet Week\, San Diego
DESCRIPTION:Fleet Week – San Diego\nNov 10-12\, 2023.\nMore to come.\nFleet Week San Diego:  https://www.fleetweeksandiego.org/
URL:https://web2.d11s.org/event/pa-event-fleet-week-san-diego/
END:VEVENT
BEGIN:VEVENT
DTSTART;VALUE=DATE:20231111
DTEND;VALUE=DATE:20231112
DTSTAMP:20260425T044643
CREATED:20230613T204729Z
LAST-MODIFIED:20230613T204729Z
UID:10000731-1699660800-1699747199@web2.d11s.org
SUMMARY:Veterans Day
DESCRIPTION:
URL:https://web2.d11s.org/event/veterans-day/
END:VEVENT
BEGIN:VEVENT
DTSTART;TZID=America/Los_Angeles:20231111T080000
DTEND;TZID=America/Los_Angeles:20231111T120000
DTSTAMP:20260425T044643
CREATED:20231011T042710Z
LAST-MODIFIED:20231011T042710Z
UID:10001121-1699689600-1699704000@web2.d11s.org
SUMMARY:Veteran's Day Parade
DESCRIPTION:Annual Veteran’s Day Parade in Las Vegas NV
URL:https://web2.d11s.org/event/veterans-day-parade-2/
END:VEVENT
BEGIN:VEVENT
DTSTART;TZID=America/Los_Angeles:20231111T080000
DTEND;TZID=America/Los_Angeles:20231111T120000
DTSTAMP:20260425T044643
CREATED:20230924T165230Z
LAST-MODIFIED:20230924T165230Z
UID:10001060-1699689600-1699704000@web2.d11s.org
SUMMARY:Veteran's Day Parade
DESCRIPTION:Annual Veterans Day parade in Las Vegas
URL:https://web2.d11s.org/event/veterans-day-parade/
CATEGORIES:Special Event
END:VEVENT
END:VCALENDAR