BEGIN:VCALENDAR
VERSION:2.0
PRODID:-//US Coast Guard Auxiliary-D11S - ECPv6.15.20//NONSGML v1.0//EN
CALSCALE:GREGORIAN
METHOD:PUBLISH
X-WR-CALNAME:US Coast Guard Auxiliary-D11S
X-ORIGINAL-URL:https://web2.d11s.org
X-WR-CALDESC:Events for US Coast Guard Auxiliary-D11S
REFRESH-INTERVAL;VALUE=DURATION:PT1H
X-Robots-Tag:noindex
X-PUBLISHED-TTL:PT1H
BEGIN:VTIMEZONE
TZID:America/Los_Angeles
BEGIN:DAYLIGHT
TZOFFSETFROM:-0800
TZOFFSETTO:-0700
TZNAME:PDT
DTSTART:20260308T100000
END:DAYLIGHT
BEGIN:STANDARD
TZOFFSETFROM:-0700
TZOFFSETTO:-0800
TZNAME:PST
DTSTART:20261101T090000
END:STANDARD
BEGIN:DAYLIGHT
TZOFFSETFROM:-0800
TZOFFSETTO:-0700
TZNAME:PDT
DTSTART:20270314T100000
END:DAYLIGHT
BEGIN:STANDARD
TZOFFSETFROM:-0700
TZOFFSETTO:-0800
TZNAME:PST
DTSTART:20271107T090000
END:STANDARD
BEGIN:DAYLIGHT
TZOFFSETFROM:-0800
TZOFFSETTO:-0700
TZNAME:PDT
DTSTART:20280312T100000
END:DAYLIGHT
BEGIN:STANDARD
TZOFFSETFROM:-0700
TZOFFSETTO:-0800
TZNAME:PST
DTSTART:20281105T090000
END:STANDARD
END:VTIMEZONE
BEGIN:VEVENT
DTSTART;TZID=America/Los_Angeles:20270511T193000
DTEND;TZID=America/Los_Angeles:20270511T203000
DTSTAMP:20260425T063225
CREATED:20230606T231511Z
LAST-MODIFIED:20230607T183825Z
UID:10000607-1810063800-1810067400@web2.d11s.org
SUMMARY:District 11 South VHF AUXNET
DESCRIPTION:The District 11 Sothern Region weekly VHF AUXNET starts at 1930hrs. each Tuesday on the Yankee Sierra Repeater. This net provides an opportunity for members to get experience talking on the radio and ensure their equipment is functioning properly.\nIt also provides the district with a list of known operating radio stations and operator for emergency and contingency communications.
URL:https://web2.d11s.org/event/district-11-south-vhf-auxnet/2027-05-11/
END:VEVENT
BEGIN:VEVENT
DTSTART;TZID=America/Los_Angeles:20270512T193000
DTEND;TZID=America/Los_Angeles:20270512T200000
DTSTAMP:20260425T063225
CREATED:20230706T014325Z
LAST-MODIFIED:20230706T014325Z
UID:10000960-1810150200-1810152000@web2.d11s.org
SUMMARY:Sector San Diego VHF Net
DESCRIPTION:Weekly SDG Sector VHF net on YSD repeater  Wendesday’s at 1930 PST/PDT – unless preempted by federal holiday.
URL:https://web2.d11s.org/event/sector-san-diego-vhf-net/2027-05-12/
END:VEVENT
BEGIN:VEVENT
DTSTART;TZID=America/Los_Angeles:20270513T180000
DTEND;TZID=America/Los_Angeles:20270513T200000
DTSTAMP:20260425T063225
CREATED:20240118T214118Z
LAST-MODIFIED:20240118T214118Z
UID:10001310-1810231200-1810238400@web2.d11s.org
SUMMARY:Monthly Meeting
DESCRIPTION:Flotilla 09-05
URL:https://web2.d11s.org/event/monthly-meeting-2/2027-05-13/
END:VEVENT
BEGIN:VEVENT
DTSTART;TZID=America/Los_Angeles:20270517T190000
DTEND;TZID=America/Los_Angeles:20270517T203000
DTSTAMP:20260425T063225
CREATED:20240104T024713Z
LAST-MODIFIED:20240104T024713Z
UID:10001248-1810580400-1810585800@web2.d11s.org
SUMMARY:Division 1 Division meeting
DESCRIPTION:Division 1 monthly meeting at Sector San Diego
URL:https://web2.d11s.org/event/division-1-division-meeting/2027-05-17/
CATEGORIES:Unit Meeting
END:VEVENT
BEGIN:VEVENT
DTSTART;TZID=America/Los_Angeles:20270518T173000
DTEND;TZID=America/Los_Angeles:20270518T193000
DTSTAMP:20260425T063225
CREATED:20230606T224755Z
LAST-MODIFIED:20230606T224755Z
UID:10000346-1810661400-1810668600@web2.d11s.org
SUMMARY:West Coast Regional HF Radio Net
DESCRIPTION:The weekly HF Radio Net begins at 1830 hrs. Tuesdays on B5D. A concurrent virtual session starts around 1730 on  and provides an opportunity to meet net members\, get experience\, or get assistance with radio problems.\nMembers display their name and callsign. Guests display their name and guest.
URL:https://web2.d11s.org/event/west-coast-regional-hf-radio-net/2027-05-18/
ORGANIZER;CN="District 11":MAILTO:crosario.uscgaux@gmail.com
END:VEVENT
BEGIN:VEVENT
DTSTART;TZID=America/Los_Angeles:20270518T193000
DTEND;TZID=America/Los_Angeles:20270518T203000
DTSTAMP:20260425T063225
CREATED:20230606T231511Z
LAST-MODIFIED:20230607T183825Z
UID:10000608-1810668600-1810672200@web2.d11s.org
SUMMARY:District 11 South VHF AUXNET
DESCRIPTION:The District 11 Sothern Region weekly VHF AUXNET starts at 1930hrs. each Tuesday on the Yankee Sierra Repeater. This net provides an opportunity for members to get experience talking on the radio and ensure their equipment is functioning properly.\nIt also provides the district with a list of known operating radio stations and operator for emergency and contingency communications.
URL:https://web2.d11s.org/event/district-11-south-vhf-auxnet/2027-05-18/
END:VEVENT
BEGIN:VEVENT
DTSTART;TZID=America/Los_Angeles:20270519T193000
DTEND;TZID=America/Los_Angeles:20270519T200000
DTSTAMP:20260425T063225
CREATED:20230706T014325Z
LAST-MODIFIED:20230706T014325Z
UID:10000961-1810755000-1810756800@web2.d11s.org
SUMMARY:Sector San Diego VHF Net
DESCRIPTION:Weekly SDG Sector VHF net on YSD repeater  Wendesday’s at 1930 PST/PDT – unless preempted by federal holiday.
URL:https://web2.d11s.org/event/sector-san-diego-vhf-net/2027-05-19/
END:VEVENT
BEGIN:VEVENT
DTSTART;TZID=America/Los_Angeles:20270520T180000
DTEND;TZID=America/Los_Angeles:20270520T203000
DTSTAMP:20260425T063225
CREATED:20250512T153620Z
LAST-MODIFIED:20250512T153620Z
UID:10002054-1810836000-1810845000@web2.d11s.org
SUMMARY:Flotilla Meeting- Flotilla 9-2
DESCRIPTION:
URL:https://web2.d11s.org/event/flotilla-meeting-flotilla-9-2/2027-05-20/
LOCATION:In Person
END:VEVENT
BEGIN:VEVENT
DTSTART;TZID=America/Los_Angeles:20270524T190000
DTEND;TZID=America/Los_Angeles:20270524T210000
DTSTAMP:20260425T063225
CREATED:20240306T183821Z
LAST-MODIFIED:20240306T183821Z
UID:10001507-1811185200-1811192400@web2.d11s.org
SUMMARY:Division 6 Meeting
DESCRIPTION:Division 6 Monthly Meeting – Orange City Hall
URL:https://web2.d11s.org/event/division-6-meeting/2027-05-24/
END:VEVENT
BEGIN:VEVENT
DTSTART;TZID=America/Los_Angeles:20270525T173000
DTEND;TZID=America/Los_Angeles:20270525T193000
DTSTAMP:20260425T063225
CREATED:20230606T224755Z
LAST-MODIFIED:20230606T224755Z
UID:10000347-1811266200-1811273400@web2.d11s.org
SUMMARY:West Coast Regional HF Radio Net
DESCRIPTION:The weekly HF Radio Net begins at 1830 hrs. Tuesdays on B5D. A concurrent virtual session starts around 1730 on  and provides an opportunity to meet net members\, get experience\, or get assistance with radio problems.\nMembers display their name and callsign. Guests display their name and guest.
URL:https://web2.d11s.org/event/west-coast-regional-hf-radio-net/2027-05-25/
ORGANIZER;CN="District 11":MAILTO:crosario.uscgaux@gmail.com
END:VEVENT
BEGIN:VEVENT
DTSTART;TZID=America/Los_Angeles:20270525T193000
DTEND;TZID=America/Los_Angeles:20270525T203000
DTSTAMP:20260425T063225
CREATED:20230606T231511Z
LAST-MODIFIED:20230607T183825Z
UID:10000609-1811273400-1811277000@web2.d11s.org
SUMMARY:District 11 South VHF AUXNET
DESCRIPTION:The District 11 Sothern Region weekly VHF AUXNET starts at 1930hrs. each Tuesday on the Yankee Sierra Repeater. This net provides an opportunity for members to get experience talking on the radio and ensure their equipment is functioning properly.\nIt also provides the district with a list of known operating radio stations and operator for emergency and contingency communications.
URL:https://web2.d11s.org/event/district-11-south-vhf-auxnet/2027-05-25/
END:VEVENT
BEGIN:VEVENT
DTSTART;TZID=America/Los_Angeles:20270526T180000
DTEND;TZID=America/Los_Angeles:20270526T200000
DTSTAMP:20260425T063225
CREATED:20231019T180854Z
LAST-MODIFIED:20231019T180854Z
UID:10001165-1811354400-1811361600@web2.d11s.org
SUMMARY:Flotilla 96 Meeting
DESCRIPTION:Flotilla 114-09-06 Las Vegas Monthly Meeting
URL:https://web2.d11s.org/event/flotilla-96-meeting/2027-05-26/
LOCATION:In Person
CATEGORIES:Member Training,Unit Meeting
END:VEVENT
BEGIN:VEVENT
DTSTART;TZID=America/Los_Angeles:20270526T193000
DTEND;TZID=America/Los_Angeles:20270526T200000
DTSTAMP:20260425T063225
CREATED:20230706T014325Z
LAST-MODIFIED:20230706T014325Z
UID:10000962-1811359800-1811361600@web2.d11s.org
SUMMARY:Sector San Diego VHF Net
DESCRIPTION:Weekly SDG Sector VHF net on YSD repeater  Wendesday’s at 1930 PST/PDT – unless preempted by federal holiday.
URL:https://web2.d11s.org/event/sector-san-diego-vhf-net/2027-05-26/
END:VEVENT
BEGIN:VEVENT
DTSTART;TZID=America/Los_Angeles:20270527T180000
DTEND;TZID=America/Los_Angeles:20270527T200000
DTSTAMP:20260425T063225
CREATED:20230929T185712Z
LAST-MODIFIED:20230929T185712Z
UID:10001104-1811440800-1811448000@web2.d11s.org
SUMMARY:Flotilla 1-10 meeting
DESCRIPTION:We meet every 4th Thursday at 1800. There will be no meeting in November and December. Contact FC for location.
URL:https://web2.d11s.org/event/flotilla-1-10-meeting/2027-05-27/
END:VEVENT
BEGIN:VEVENT
DTSTART;TZID=America/Los_Angeles:20270527T180000
DTEND;TZID=America/Los_Angeles:20270527T200000
DTSTAMP:20260425T063225
CREATED:20241106T164830Z
LAST-MODIFIED:20241106T164830Z
UID:10001617-1811440800-1811448000@web2.d11s.org
SUMMARY:Flotilla 01-04 Meeting
DESCRIPTION:We meet the 4th Thursday at 1800 hours.  Silvergate Yacht Club.  There will be no meeting in November and December.
URL:https://web2.d11s.org/event/flotilla-01-04-meeting/2027-05-27/
END:VEVENT
BEGIN:VEVENT
DTSTART;TZID=America/Los_Angeles:20270601T173000
DTEND;TZID=America/Los_Angeles:20270601T193000
DTSTAMP:20260425T063225
CREATED:20230606T224755Z
LAST-MODIFIED:20230606T224755Z
UID:10000348-1811871000-1811878200@web2.d11s.org
SUMMARY:West Coast Regional HF Radio Net
DESCRIPTION:The weekly HF Radio Net begins at 1830 hrs. Tuesdays on B5D. A concurrent virtual session starts around 1730 on  and provides an opportunity to meet net members\, get experience\, or get assistance with radio problems.\nMembers display their name and callsign. Guests display their name and guest.
URL:https://web2.d11s.org/event/west-coast-regional-hf-radio-net/2027-06-01/
ORGANIZER;CN="District 11":MAILTO:crosario.uscgaux@gmail.com
END:VEVENT
BEGIN:VEVENT
DTSTART;TZID=America/Los_Angeles:20270601T193000
DTEND;TZID=America/Los_Angeles:20270601T203000
DTSTAMP:20260425T063225
CREATED:20230606T231511Z
LAST-MODIFIED:20230607T183825Z
UID:10000610-1811878200-1811881800@web2.d11s.org
SUMMARY:District 11 South VHF AUXNET
DESCRIPTION:The District 11 Sothern Region weekly VHF AUXNET starts at 1930hrs. each Tuesday on the Yankee Sierra Repeater. This net provides an opportunity for members to get experience talking on the radio and ensure their equipment is functioning properly.\nIt also provides the district with a list of known operating radio stations and operator for emergency and contingency communications.
URL:https://web2.d11s.org/event/district-11-south-vhf-auxnet/2027-06-01/
END:VEVENT
BEGIN:VEVENT
DTSTART;TZID=America/Los_Angeles:20270602T193000
DTEND;TZID=America/Los_Angeles:20270602T200000
DTSTAMP:20260425T063225
CREATED:20230706T014325Z
LAST-MODIFIED:20230706T014325Z
UID:10000963-1811964600-1811966400@web2.d11s.org
SUMMARY:Sector San Diego VHF Net
DESCRIPTION:Weekly SDG Sector VHF net on YSD repeater  Wendesday’s at 1930 PST/PDT – unless preempted by federal holiday.
URL:https://web2.d11s.org/event/sector-san-diego-vhf-net/2027-06-02/
END:VEVENT
BEGIN:VEVENT
DTSTART;TZID=America/Los_Angeles:20270608T173000
DTEND;TZID=America/Los_Angeles:20270608T193000
DTSTAMP:20260425T063225
CREATED:20230606T224755Z
LAST-MODIFIED:20230606T224755Z
UID:10000349-1812475800-1812483000@web2.d11s.org
SUMMARY:West Coast Regional HF Radio Net
DESCRIPTION:The weekly HF Radio Net begins at 1830 hrs. Tuesdays on B5D. A concurrent virtual session starts around 1730 on  and provides an opportunity to meet net members\, get experience\, or get assistance with radio problems.\nMembers display their name and callsign. Guests display their name and guest.
URL:https://web2.d11s.org/event/west-coast-regional-hf-radio-net/2027-06-08/
ORGANIZER;CN="District 11":MAILTO:crosario.uscgaux@gmail.com
END:VEVENT
BEGIN:VEVENT
DTSTART;TZID=America/Los_Angeles:20270608T193000
DTEND;TZID=America/Los_Angeles:20270608T203000
DTSTAMP:20260425T063225
CREATED:20230606T231511Z
LAST-MODIFIED:20230607T183825Z
UID:10000611-1812483000-1812486600@web2.d11s.org
SUMMARY:District 11 South VHF AUXNET
DESCRIPTION:The District 11 Sothern Region weekly VHF AUXNET starts at 1930hrs. each Tuesday on the Yankee Sierra Repeater. This net provides an opportunity for members to get experience talking on the radio and ensure their equipment is functioning properly.\nIt also provides the district with a list of known operating radio stations and operator for emergency and contingency communications.
URL:https://web2.d11s.org/event/district-11-south-vhf-auxnet/2027-06-08/
END:VEVENT
BEGIN:VEVENT
DTSTART;TZID=America/Los_Angeles:20270609T193000
DTEND;TZID=America/Los_Angeles:20270609T200000
DTSTAMP:20260425T063225
CREATED:20230706T014325Z
LAST-MODIFIED:20230706T014325Z
UID:10000964-1812569400-1812571200@web2.d11s.org
SUMMARY:Sector San Diego VHF Net
DESCRIPTION:Weekly SDG Sector VHF net on YSD repeater  Wendesday’s at 1930 PST/PDT – unless preempted by federal holiday.
URL:https://web2.d11s.org/event/sector-san-diego-vhf-net/2027-06-09/
END:VEVENT
BEGIN:VEVENT
DTSTART;TZID=America/Los_Angeles:20270610T180000
DTEND;TZID=America/Los_Angeles:20270610T200000
DTSTAMP:20260425T063225
CREATED:20240118T214118Z
LAST-MODIFIED:20240118T214118Z
UID:10001311-1812650400-1812657600@web2.d11s.org
SUMMARY:Monthly Meeting
DESCRIPTION:Flotilla 09-05
URL:https://web2.d11s.org/event/monthly-meeting-2/2027-06-10/
END:VEVENT
BEGIN:VEVENT
DTSTART;TZID=America/Los_Angeles:20270612T100000
DTEND;TZID=America/Los_Angeles:20270612T150000
DTSTAMP:20260425T063225
CREATED:20260409T195154Z
LAST-MODIFIED:20260409T212501Z
UID:10002115-1812794400-1812812400@web2.d11s.org
SUMMARY:Point Vicente Lighthouse Open House
DESCRIPTION:2nd Saturday of every month\, Monthly Open Houses at the Point Vicente Lighthouse\, 1000-1500\, rain or shine. POC USCG Capt (ret) “Kip” Louttit\, Mobile:  310 897 1714
URL:https://web2.d11s.org/event/point-vicente-lighthouse-open-house/2027-06-12/
CATEGORIES:Special Event
ATTACH;FMTTYPE=image/png:https://web2.d11s.org/wp-content/uploads/2026/04/nsbc-wear-it-logo-transparent-1.png
END:VEVENT
BEGIN:VEVENT
DTSTART;TZID=America/Los_Angeles:20270614T183000
DTEND;TZID=America/Los_Angeles:20270614T200000
DTSTAMP:20260425T063225
CREATED:20240212T223300Z
LAST-MODIFIED:20240212T223300Z
UID:10001408-1812997800-1813003200@web2.d11s.org
SUMMARY:Division 114-07 Board Meeting
DESCRIPTION:Division 114-07 Board and Staff Officer Meeting. Held Monthly 2nd Monday of the month. Via Zoom.
URL:https://web2.d11s.org/event/division-114-07-board-meeting-3/2027-06-14/
CATEGORIES:Unit Meeting
ATTACH;FMTTYPE=image/jpeg:https://web2.d11s.org/wp-content/uploads/2024/02/Division11407-logo-good-2024-2.jpg
END:VEVENT
BEGIN:VEVENT
DTSTART;TZID=America/Los_Angeles:20270615T173000
DTEND;TZID=America/Los_Angeles:20270615T193000
DTSTAMP:20260425T063225
CREATED:20230606T224755Z
LAST-MODIFIED:20230606T224755Z
UID:10000350-1813080600-1813087800@web2.d11s.org
SUMMARY:West Coast Regional HF Radio Net
DESCRIPTION:The weekly HF Radio Net begins at 1830 hrs. Tuesdays on B5D. A concurrent virtual session starts around 1730 on  and provides an opportunity to meet net members\, get experience\, or get assistance with radio problems.\nMembers display their name and callsign. Guests display their name and guest.
URL:https://web2.d11s.org/event/west-coast-regional-hf-radio-net/2027-06-15/
ORGANIZER;CN="District 11":MAILTO:crosario.uscgaux@gmail.com
END:VEVENT
BEGIN:VEVENT
DTSTART;TZID=America/Los_Angeles:20270615T193000
DTEND;TZID=America/Los_Angeles:20270615T203000
DTSTAMP:20260425T063225
CREATED:20230606T231511Z
LAST-MODIFIED:20230607T183825Z
UID:10000612-1813087800-1813091400@web2.d11s.org
SUMMARY:District 11 South VHF AUXNET
DESCRIPTION:The District 11 Sothern Region weekly VHF AUXNET starts at 1930hrs. each Tuesday on the Yankee Sierra Repeater. This net provides an opportunity for members to get experience talking on the radio and ensure their equipment is functioning properly.\nIt also provides the district with a list of known operating radio stations and operator for emergency and contingency communications.
URL:https://web2.d11s.org/event/district-11-south-vhf-auxnet/2027-06-15/
END:VEVENT
BEGIN:VEVENT
DTSTART;TZID=America/Los_Angeles:20270616T193000
DTEND;TZID=America/Los_Angeles:20270616T200000
DTSTAMP:20260425T063225
CREATED:20230706T014325Z
LAST-MODIFIED:20230706T014325Z
UID:10000965-1813174200-1813176000@web2.d11s.org
SUMMARY:Sector San Diego VHF Net
DESCRIPTION:Weekly SDG Sector VHF net on YSD repeater  Wendesday’s at 1930 PST/PDT – unless preempted by federal holiday.
URL:https://web2.d11s.org/event/sector-san-diego-vhf-net/2027-06-16/
END:VEVENT
BEGIN:VEVENT
DTSTART;TZID=America/Los_Angeles:20270617T180000
DTEND;TZID=America/Los_Angeles:20270617T203000
DTSTAMP:20260425T063225
CREATED:20250512T153620Z
LAST-MODIFIED:20250512T153620Z
UID:10002055-1813255200-1813264200@web2.d11s.org
SUMMARY:Flotilla Meeting- Flotilla 9-2
DESCRIPTION:
URL:https://web2.d11s.org/event/flotilla-meeting-flotilla-9-2/2027-06-17/
LOCATION:In Person
END:VEVENT
BEGIN:VEVENT
DTSTART;TZID=America/Los_Angeles:20270621T190000
DTEND;TZID=America/Los_Angeles:20270621T203000
DTSTAMP:20260425T063225
CREATED:20240104T024713Z
LAST-MODIFIED:20240104T024713Z
UID:10001249-1813604400-1813609800@web2.d11s.org
SUMMARY:Division 1 Division meeting
DESCRIPTION:Division 1 monthly meeting at Sector San Diego
URL:https://web2.d11s.org/event/division-1-division-meeting/2027-06-21/
CATEGORIES:Unit Meeting
END:VEVENT
BEGIN:VEVENT
DTSTART;TZID=America/Los_Angeles:20270622T173000
DTEND;TZID=America/Los_Angeles:20270622T193000
DTSTAMP:20260425T063225
CREATED:20230606T224755Z
LAST-MODIFIED:20230606T224755Z
UID:10000351-1813685400-1813692600@web2.d11s.org
SUMMARY:West Coast Regional HF Radio Net
DESCRIPTION:The weekly HF Radio Net begins at 1830 hrs. Tuesdays on B5D. A concurrent virtual session starts around 1730 on  and provides an opportunity to meet net members\, get experience\, or get assistance with radio problems.\nMembers display their name and callsign. Guests display their name and guest.
URL:https://web2.d11s.org/event/west-coast-regional-hf-radio-net/2027-06-22/
ORGANIZER;CN="District 11":MAILTO:crosario.uscgaux@gmail.com
END:VEVENT
END:VCALENDAR