BEGIN:VCALENDAR
VERSION:2.0
PRODID:-//US Coast Guard Auxiliary-D11S - ECPv6.15.20//NONSGML v1.0//EN
CALSCALE:GREGORIAN
METHOD:PUBLISH
X-WR-CALNAME:US Coast Guard Auxiliary-D11S
X-ORIGINAL-URL:https://web2.d11s.org
X-WR-CALDESC:Events for US Coast Guard Auxiliary-D11S
REFRESH-INTERVAL;VALUE=DURATION:PT1H
X-Robots-Tag:noindex
X-PUBLISHED-TTL:PT1H
BEGIN:VTIMEZONE
TZID:America/Los_Angeles
BEGIN:DAYLIGHT
TZOFFSETFROM:-0800
TZOFFSETTO:-0700
TZNAME:PDT
DTSTART:20220313T100000
END:DAYLIGHT
BEGIN:STANDARD
TZOFFSETFROM:-0700
TZOFFSETTO:-0800
TZNAME:PST
DTSTART:20221106T090000
END:STANDARD
BEGIN:DAYLIGHT
TZOFFSETFROM:-0800
TZOFFSETTO:-0700
TZNAME:PDT
DTSTART:20230312T100000
END:DAYLIGHT
BEGIN:STANDARD
TZOFFSETFROM:-0700
TZOFFSETTO:-0800
TZNAME:PST
DTSTART:20231105T090000
END:STANDARD
BEGIN:DAYLIGHT
TZOFFSETFROM:-0800
TZOFFSETTO:-0700
TZNAME:PDT
DTSTART:20240310T100000
END:DAYLIGHT
BEGIN:STANDARD
TZOFFSETFROM:-0700
TZOFFSETTO:-0800
TZNAME:PST
DTSTART:20241103T090000
END:STANDARD
BEGIN:DAYLIGHT
TZOFFSETFROM:-0800
TZOFFSETTO:-0700
TZNAME:PDT
DTSTART:20250309T100000
END:DAYLIGHT
BEGIN:STANDARD
TZOFFSETFROM:-0700
TZOFFSETTO:-0800
TZNAME:PST
DTSTART:20251102T090000
END:STANDARD
END:VTIMEZONE
BEGIN:VEVENT
DTSTART;TZID=America/Los_Angeles:20231127T180000
DTEND;TZID=America/Los_Angeles:20231127T200000
DTSTAMP:20260425T095335
CREATED:20230613T204733Z
LAST-MODIFIED:20230613T204733Z
UID:10000741-1701108000-1701115200@web2.d11s.org
SUMMARY:November Meeting - DIV 06
DESCRIPTION:
URL:https://web2.d11s.org/event/november-meeting-div-06/
END:VEVENT
BEGIN:VEVENT
DTSTART;TZID=America/Los_Angeles:20231128T173000
DTEND;TZID=America/Los_Angeles:20231128T193000
DTSTAMP:20260425T095335
CREATED:20230606T224755Z
LAST-MODIFIED:20230606T224755Z
UID:10000165-1701192600-1701199800@web2.d11s.org
SUMMARY:West Coast Regional HF Radio Net
DESCRIPTION:The weekly HF Radio Net begins at 1830 hrs. Tuesdays on B5D. A concurrent virtual session starts around 1730 on  and provides an opportunity to meet net members\, get experience\, or get assistance with radio problems.\nMembers display their name and callsign. Guests display their name and guest.
URL:https://web2.d11s.org/event/west-coast-regional-hf-radio-net/2023-11-28/
ORGANIZER;CN="District 11":MAILTO:crosario.uscgaux@gmail.com
END:VEVENT
BEGIN:VEVENT
DTSTART;TZID=America/Los_Angeles:20231128T193000
DTEND;TZID=America/Los_Angeles:20231128T203000
DTSTAMP:20260425T095335
CREATED:20230606T231511Z
LAST-MODIFIED:20230607T183825Z
UID:10000427-1701199800-1701203400@web2.d11s.org
SUMMARY:District 11 South VHF AUXNET
DESCRIPTION:The District 11 Sothern Region weekly VHF AUXNET starts at 1930hrs. each Tuesday on the Yankee Sierra Repeater. This net provides an opportunity for members to get experience talking on the radio and ensure their equipment is functioning properly.\nIt also provides the district with a list of known operating radio stations and operator for emergency and contingency communications.
URL:https://web2.d11s.org/event/district-11-south-vhf-auxnet/2023-11-28/
END:VEVENT
BEGIN:VEVENT
DTSTART;TZID=America/Los_Angeles:20231129T180000
DTEND;TZID=America/Los_Angeles:20231129T200000
DTSTAMP:20260425T095335
CREATED:20231019T180854Z
LAST-MODIFIED:20231019T180854Z
UID:10001123-1701280800-1701288000@web2.d11s.org
SUMMARY:Flotilla 96 Meeting
DESCRIPTION:Flotilla 114-09-06 Las Vegas Monthly Meeting
URL:https://web2.d11s.org/event/flotilla-96-meeting/2023-11-29/
LOCATION:In Person
CATEGORIES:Member Training,Unit Meeting
END:VEVENT
BEGIN:VEVENT
DTSTART;TZID=America/Los_Angeles:20231129T193000
DTEND;TZID=America/Los_Angeles:20231129T200000
DTSTAMP:20260425T095335
CREATED:20230706T014325Z
LAST-MODIFIED:20230706T014325Z
UID:10000780-1701286200-1701288000@web2.d11s.org
SUMMARY:Sector San Diego VHF Net
DESCRIPTION:Weekly SDG Sector VHF net on YSD repeater  Wendesday’s at 1930 PST/PDT – unless preempted by federal holiday.
URL:https://web2.d11s.org/event/sector-san-diego-vhf-net/2023-11-29/
END:VEVENT
BEGIN:VEVENT
DTSTART;VALUE=DATE:20231202
DTEND;VALUE=DATE:20231203
DTSTAMP:20260425T095335
CREATED:20231031T232219Z
LAST-MODIFIED:20231031T232219Z
UID:10001184-1701475200-1701561599@web2.d11s.org
SUMMARY:Division 114-07 FELA
DESCRIPTION:Saturday December 2\, 2023\, 0830-1600: Division 114-07 FELA Training with Flotilla Elected Leaders from F72\, F73\, F77\, and F61 will be conducted at the USCG Station Channel Islands 4201 S. Victoria Ave. Oxnard\, CA (In-Person)
URL:https://web2.d11s.org/event/division-114-07-fela/
ATTACH;FMTTYPE=image/png:https://web2.d11s.org/wp-content/uploads/2023/10/USCG-Aux-Division11407-Logo.png
END:VEVENT
BEGIN:VEVENT
DTSTART;TZID=America/Los_Angeles:20231205T173000
DTEND;TZID=America/Los_Angeles:20231205T193000
DTSTAMP:20260425T095335
CREATED:20230606T224755Z
LAST-MODIFIED:20230606T224755Z
UID:10000166-1701797400-1701804600@web2.d11s.org
SUMMARY:West Coast Regional HF Radio Net
DESCRIPTION:The weekly HF Radio Net begins at 1830 hrs. Tuesdays on B5D. A concurrent virtual session starts around 1730 on  and provides an opportunity to meet net members\, get experience\, or get assistance with radio problems.\nMembers display their name and callsign. Guests display their name and guest.
URL:https://web2.d11s.org/event/west-coast-regional-hf-radio-net/2023-12-05/
ORGANIZER;CN="District 11":MAILTO:crosario.uscgaux@gmail.com
END:VEVENT
BEGIN:VEVENT
DTSTART;TZID=America/Los_Angeles:20231205T193000
DTEND;TZID=America/Los_Angeles:20231205T203000
DTSTAMP:20260425T095335
CREATED:20230606T231511Z
LAST-MODIFIED:20230607T183825Z
UID:10000428-1701804600-1701808200@web2.d11s.org
SUMMARY:District 11 South VHF AUXNET
DESCRIPTION:The District 11 Sothern Region weekly VHF AUXNET starts at 1930hrs. each Tuesday on the Yankee Sierra Repeater. This net provides an opportunity for members to get experience talking on the radio and ensure their equipment is functioning properly.\nIt also provides the district with a list of known operating radio stations and operator for emergency and contingency communications.
URL:https://web2.d11s.org/event/district-11-south-vhf-auxnet/2023-12-05/
END:VEVENT
BEGIN:VEVENT
DTSTART;TZID=America/Los_Angeles:20231206T193000
DTEND;TZID=America/Los_Angeles:20231206T200000
DTSTAMP:20260425T095335
CREATED:20230706T014325Z
LAST-MODIFIED:20230706T014325Z
UID:10000781-1701891000-1701892800@web2.d11s.org
SUMMARY:Sector San Diego VHF Net
DESCRIPTION:Weekly SDG Sector VHF net on YSD repeater  Wendesday’s at 1930 PST/PDT – unless preempted by federal holiday.
URL:https://web2.d11s.org/event/sector-san-diego-vhf-net/2023-12-06/
END:VEVENT
BEGIN:VEVENT
DTSTART;TZID=America/Los_Angeles:20231207T000000
DTEND;TZID=America/Los_Angeles:20231207T000000
DTSTAMP:20260425T095335
CREATED:20230613T204813Z
LAST-MODIFIED:20230613T204813Z
UID:10000743-1701907200-1701907200@web2.d11s.org
SUMMARY:OPCOM
DESCRIPTION:
URL:https://web2.d11s.org/event/opcom-13/
END:VEVENT
BEGIN:VEVENT
DTSTART;TZID=America/Los_Angeles:20231209T100000
DTEND;TZID=America/Los_Angeles:20231209T120000
DTSTAMP:20260425T095335
CREATED:20230613T204813Z
LAST-MODIFIED:20230815T153405Z
UID:10000744-1702116000-1702123200@web2.d11s.org
SUMMARY:District Staff Meeting Q4 - Video Conference
DESCRIPTION:TBD
URL:https://web2.d11s.org/event/district-bs-meeting-q4/
LOCATION:Virtual Event
CATEGORIES:Unit Meeting
ORGANIZER;CN="District 11":MAILTO:crosario.uscgaux@gmail.com
END:VEVENT
BEGIN:VEVENT
DTSTART;TZID=America/Los_Angeles:20231209T123000
DTEND;TZID=America/Los_Angeles:20231209T150000
DTSTAMP:20260425T095335
CREATED:20230815T153512Z
LAST-MODIFIED:20230815T153512Z
UID:10001034-1702125000-1702134000@web2.d11s.org
SUMMARY:District Board Meeting Q4 - Video Conference
DESCRIPTION:TBD
URL:https://web2.d11s.org/event/district-board-meeting-q4-video-conference/
LOCATION:Virtual Event
CATEGORIES:Unit Meeting
ORGANIZER;CN="District 11":MAILTO:crosario.uscgaux@gmail.com
END:VEVENT
BEGIN:VEVENT
DTSTART;TZID=America/Los_Angeles:20231212T173000
DTEND;TZID=America/Los_Angeles:20231212T193000
DTSTAMP:20260425T095335
CREATED:20230606T224755Z
LAST-MODIFIED:20230606T224755Z
UID:10000167-1702402200-1702409400@web2.d11s.org
SUMMARY:West Coast Regional HF Radio Net
DESCRIPTION:The weekly HF Radio Net begins at 1830 hrs. Tuesdays on B5D. A concurrent virtual session starts around 1730 on  and provides an opportunity to meet net members\, get experience\, or get assistance with radio problems.\nMembers display their name and callsign. Guests display their name and guest.
URL:https://web2.d11s.org/event/west-coast-regional-hf-radio-net/2023-12-12/
ORGANIZER;CN="District 11":MAILTO:crosario.uscgaux@gmail.com
END:VEVENT
BEGIN:VEVENT
DTSTART;TZID=America/Los_Angeles:20231212T193000
DTEND;TZID=America/Los_Angeles:20231212T203000
DTSTAMP:20260425T095335
CREATED:20230606T231511Z
LAST-MODIFIED:20230607T183825Z
UID:10000429-1702409400-1702413000@web2.d11s.org
SUMMARY:District 11 South VHF AUXNET
DESCRIPTION:The District 11 Sothern Region weekly VHF AUXNET starts at 1930hrs. each Tuesday on the Yankee Sierra Repeater. This net provides an opportunity for members to get experience talking on the radio and ensure their equipment is functioning properly.\nIt also provides the district with a list of known operating radio stations and operator for emergency and contingency communications.
URL:https://web2.d11s.org/event/district-11-south-vhf-auxnet/2023-12-12/
END:VEVENT
BEGIN:VEVENT
DTSTART;TZID=America/Los_Angeles:20231213T193000
DTEND;TZID=America/Los_Angeles:20231213T200000
DTSTAMP:20260425T095335
CREATED:20230706T014325Z
LAST-MODIFIED:20230706T014325Z
UID:10000782-1702495800-1702497600@web2.d11s.org
SUMMARY:Sector San Diego VHF Net
DESCRIPTION:Weekly SDG Sector VHF net on YSD repeater  Wendesday’s at 1930 PST/PDT – unless preempted by federal holiday.
URL:https://web2.d11s.org/event/sector-san-diego-vhf-net/2023-12-13/
END:VEVENT
BEGIN:VEVENT
DTSTART;TZID=America/Los_Angeles:20231214T180000
DTEND;TZID=America/Los_Angeles:20231214T193000
DTSTAMP:20260425T095335
CREATED:20230924T164624Z
LAST-MODIFIED:20230924T164624Z
UID:10001059-1702576800-1702582200@web2.d11s.org
SUMMARY:Monthly Meeting
DESCRIPTION:Flotilla 09-05 meeting
URL:https://web2.d11s.org/event/monthly-meeting/2023-12-14/
CATEGORIES:Unit Meeting
END:VEVENT
BEGIN:VEVENT
DTSTART;TZID=America/Los_Angeles:20231219T173000
DTEND;TZID=America/Los_Angeles:20231219T193000
DTSTAMP:20260425T095335
CREATED:20230606T224755Z
LAST-MODIFIED:20230606T224755Z
UID:10000168-1703007000-1703014200@web2.d11s.org
SUMMARY:West Coast Regional HF Radio Net
DESCRIPTION:The weekly HF Radio Net begins at 1830 hrs. Tuesdays on B5D. A concurrent virtual session starts around 1730 on  and provides an opportunity to meet net members\, get experience\, or get assistance with radio problems.\nMembers display their name and callsign. Guests display their name and guest.
URL:https://web2.d11s.org/event/west-coast-regional-hf-radio-net/2023-12-19/
ORGANIZER;CN="District 11":MAILTO:crosario.uscgaux@gmail.com
END:VEVENT
BEGIN:VEVENT
DTSTART;TZID=America/Los_Angeles:20231219T193000
DTEND;TZID=America/Los_Angeles:20231219T203000
DTSTAMP:20260425T095335
CREATED:20230606T231511Z
LAST-MODIFIED:20230607T183825Z
UID:10000430-1703014200-1703017800@web2.d11s.org
SUMMARY:District 11 South VHF AUXNET
DESCRIPTION:The District 11 Sothern Region weekly VHF AUXNET starts at 1930hrs. each Tuesday on the Yankee Sierra Repeater. This net provides an opportunity for members to get experience talking on the radio and ensure their equipment is functioning properly.\nIt also provides the district with a list of known operating radio stations and operator for emergency and contingency communications.
URL:https://web2.d11s.org/event/district-11-south-vhf-auxnet/2023-12-19/
END:VEVENT
BEGIN:VEVENT
DTSTART;TZID=America/Los_Angeles:20231220T193000
DTEND;TZID=America/Los_Angeles:20231220T200000
DTSTAMP:20260425T095335
CREATED:20230706T014325Z
LAST-MODIFIED:20230706T014325Z
UID:10000783-1703100600-1703102400@web2.d11s.org
SUMMARY:Sector San Diego VHF Net
DESCRIPTION:Weekly SDG Sector VHF net on YSD repeater  Wendesday’s at 1930 PST/PDT – unless preempted by federal holiday.
URL:https://web2.d11s.org/event/sector-san-diego-vhf-net/2023-12-20/
END:VEVENT
BEGIN:VEVENT
DTSTART;TZID=America/Los_Angeles:20231221T180000
DTEND;TZID=America/Los_Angeles:20231221T200000
DTSTAMP:20260425T095335
CREATED:20230613T204814Z
LAST-MODIFIED:20230815T154525Z
UID:10000745-1703181600-1703188800@web2.d11s.org
SUMMARY:Pac Area Meeting
DESCRIPTION:
URL:https://web2.d11s.org/event/pac-area-meeting-15/
LOCATION:Virtual Event
CATEGORIES:Unit Meeting
END:VEVENT
BEGIN:VEVENT
DTSTART;TZID=America/Los_Angeles:20231226T173000
DTEND;TZID=America/Los_Angeles:20231226T193000
DTSTAMP:20260425T095335
CREATED:20230606T224755Z
LAST-MODIFIED:20230606T224755Z
UID:10000169-1703611800-1703619000@web2.d11s.org
SUMMARY:West Coast Regional HF Radio Net
DESCRIPTION:The weekly HF Radio Net begins at 1830 hrs. Tuesdays on B5D. A concurrent virtual session starts around 1730 on  and provides an opportunity to meet net members\, get experience\, or get assistance with radio problems.\nMembers display their name and callsign. Guests display their name and guest.
URL:https://web2.d11s.org/event/west-coast-regional-hf-radio-net/2023-12-26/
ORGANIZER;CN="District 11":MAILTO:crosario.uscgaux@gmail.com
END:VEVENT
BEGIN:VEVENT
DTSTART;TZID=America/Los_Angeles:20231226T193000
DTEND;TZID=America/Los_Angeles:20231226T203000
DTSTAMP:20260425T095335
CREATED:20230606T231511Z
LAST-MODIFIED:20230607T183825Z
UID:10000431-1703619000-1703622600@web2.d11s.org
SUMMARY:District 11 South VHF AUXNET
DESCRIPTION:The District 11 Sothern Region weekly VHF AUXNET starts at 1930hrs. each Tuesday on the Yankee Sierra Repeater. This net provides an opportunity for members to get experience talking on the radio and ensure their equipment is functioning properly.\nIt also provides the district with a list of known operating radio stations and operator for emergency and contingency communications.
URL:https://web2.d11s.org/event/district-11-south-vhf-auxnet/2023-12-26/
END:VEVENT
BEGIN:VEVENT
DTSTART;TZID=America/Los_Angeles:20231227T180000
DTEND;TZID=America/Los_Angeles:20231227T200000
DTSTAMP:20260425T095335
CREATED:20231019T180854Z
LAST-MODIFIED:20231019T180854Z
UID:10001124-1703700000-1703707200@web2.d11s.org
SUMMARY:Flotilla 96 Meeting
DESCRIPTION:Flotilla 114-09-06 Las Vegas Monthly Meeting
URL:https://web2.d11s.org/event/flotilla-96-meeting/2023-12-27/
LOCATION:In Person
CATEGORIES:Member Training,Unit Meeting
END:VEVENT
BEGIN:VEVENT
DTSTART;TZID=America/Los_Angeles:20231227T193000
DTEND;TZID=America/Los_Angeles:20231227T200000
DTSTAMP:20260425T095335
CREATED:20230706T014325Z
LAST-MODIFIED:20230706T014325Z
UID:10000784-1703705400-1703707200@web2.d11s.org
SUMMARY:Sector San Diego VHF Net
DESCRIPTION:Weekly SDG Sector VHF net on YSD repeater  Wendesday’s at 1930 PST/PDT – unless preempted by federal holiday.
URL:https://web2.d11s.org/event/sector-san-diego-vhf-net/2023-12-27/
END:VEVENT
BEGIN:VEVENT
DTSTART;TZID=America/Los_Angeles:20231228T180000
DTEND;TZID=America/Los_Angeles:20231228T200000
DTSTAMP:20260425T095335
CREATED:20230929T185712Z
LAST-MODIFIED:20230929T185712Z
UID:10001063-1703786400-1703793600@web2.d11s.org
SUMMARY:Flotilla 1-10 meeting
DESCRIPTION:We meet every 4th Thursday at 1800. There will be no meeting in November and December. Contact FC for location.
URL:https://web2.d11s.org/event/flotilla-1-10-meeting/2023-12-28/
END:VEVENT
BEGIN:VEVENT
DTSTART;TZID=America/Los_Angeles:20231230T080000
DTEND;TZID=America/Los_Angeles:20231230T123000
DTSTAMP:20260425T095335
CREATED:20231221T005918Z
LAST-MODIFIED:20231221T005918Z
UID:10001193-1703923200-1703939400@web2.d11s.org
SUMMARY:RM TCT Refresher 4.5 hr Session
DESCRIPTION:Saturday\, 30 December\, 2023.  Be advised that if you’ve already taken it in 2023\, it’s the same scenario that we’ve been using. Recommend you hold off until early 2024 for new scenario.  At any rate\, register by emailing LesliePelosi@yahoo.com.  Once you’ve registered\, you’ll receive log-in info approx 3 days prior to class.
URL:https://web2.d11s.org/event/rm-tct-refresher-4-5-hr-session-2/
END:VEVENT
BEGIN:VEVENT
DTSTART;TZID=America/Los_Angeles:20240102T173000
DTEND;TZID=America/Los_Angeles:20240102T193000
DTSTAMP:20260425T095335
CREATED:20230606T224755Z
LAST-MODIFIED:20230606T224755Z
UID:10000170-1704216600-1704223800@web2.d11s.org
SUMMARY:West Coast Regional HF Radio Net
DESCRIPTION:The weekly HF Radio Net begins at 1830 hrs. Tuesdays on B5D. A concurrent virtual session starts around 1730 on  and provides an opportunity to meet net members\, get experience\, or get assistance with radio problems.\nMembers display their name and callsign. Guests display their name and guest.
URL:https://web2.d11s.org/event/west-coast-regional-hf-radio-net/2024-01-02/
ORGANIZER;CN="District 11":MAILTO:crosario.uscgaux@gmail.com
END:VEVENT
BEGIN:VEVENT
DTSTART;TZID=America/Los_Angeles:20240102T193000
DTEND;TZID=America/Los_Angeles:20240102T203000
DTSTAMP:20260425T095335
CREATED:20230606T231511Z
LAST-MODIFIED:20230607T183825Z
UID:10000432-1704223800-1704227400@web2.d11s.org
SUMMARY:District 11 South VHF AUXNET
DESCRIPTION:The District 11 Sothern Region weekly VHF AUXNET starts at 1930hrs. each Tuesday on the Yankee Sierra Repeater. This net provides an opportunity for members to get experience talking on the radio and ensure their equipment is functioning properly.\nIt also provides the district with a list of known operating radio stations and operator for emergency and contingency communications.
URL:https://web2.d11s.org/event/district-11-south-vhf-auxnet/2024-01-02/
END:VEVENT
BEGIN:VEVENT
DTSTART;VALUE=DATE:20240103
DTEND;VALUE=DATE:20240104
DTSTAMP:20260425T095335
CREATED:20230815T152811Z
LAST-MODIFIED:20230815T152811Z
UID:10001032-1704240000-1704326399@web2.d11s.org
SUMMARY:D11S Reports - Q4
DESCRIPTION:Please submit your quarterly reports.  Thank you.
URL:https://web2.d11s.org/event/d11s-reports-q4-2/
LOCATION:Virtual Event
CATEGORIES:Reports
ORGANIZER;CN="District 11":MAILTO:crosario.uscgaux@gmail.com
END:VEVENT
BEGIN:VEVENT
DTSTART;TZID=America/Los_Angeles:20240103T193000
DTEND;TZID=America/Los_Angeles:20240103T200000
DTSTAMP:20260425T095335
CREATED:20230706T014325Z
LAST-MODIFIED:20230706T014325Z
UID:10000785-1704310200-1704312000@web2.d11s.org
SUMMARY:Sector San Diego VHF Net
DESCRIPTION:Weekly SDG Sector VHF net on YSD repeater  Wendesday’s at 1930 PST/PDT – unless preempted by federal holiday.
URL:https://web2.d11s.org/event/sector-san-diego-vhf-net/2024-01-03/
END:VEVENT
END:VCALENDAR