BEGIN:VCALENDAR
VERSION:2.0
PRODID:-//US Coast Guard Auxiliary-D11S - ECPv6.15.20//NONSGML v1.0//EN
CALSCALE:GREGORIAN
METHOD:PUBLISH
X-WR-CALNAME:US Coast Guard Auxiliary-D11S
X-ORIGINAL-URL:https://web2.d11s.org
X-WR-CALDESC:Events for US Coast Guard Auxiliary-D11S
REFRESH-INTERVAL;VALUE=DURATION:PT1H
X-Robots-Tag:noindex
X-PUBLISHED-TTL:PT1H
BEGIN:VTIMEZONE
TZID:America/Los_Angeles
BEGIN:DAYLIGHT
TZOFFSETFROM:-0800
TZOFFSETTO:-0700
TZNAME:PDT
DTSTART:20230312T100000
END:DAYLIGHT
BEGIN:STANDARD
TZOFFSETFROM:-0700
TZOFFSETTO:-0800
TZNAME:PST
DTSTART:20231105T090000
END:STANDARD
BEGIN:DAYLIGHT
TZOFFSETFROM:-0800
TZOFFSETTO:-0700
TZNAME:PDT
DTSTART:20240310T100000
END:DAYLIGHT
BEGIN:STANDARD
TZOFFSETFROM:-0700
TZOFFSETTO:-0800
TZNAME:PST
DTSTART:20241103T090000
END:STANDARD
BEGIN:DAYLIGHT
TZOFFSETFROM:-0800
TZOFFSETTO:-0700
TZNAME:PDT
DTSTART:20250309T100000
END:DAYLIGHT
BEGIN:STANDARD
TZOFFSETFROM:-0700
TZOFFSETTO:-0800
TZNAME:PST
DTSTART:20251102T090000
END:STANDARD
END:VTIMEZONE
BEGIN:VEVENT
DTSTART;TZID=America/Los_Angeles:20240116T193000
DTEND;TZID=America/Los_Angeles:20240116T203000
DTSTAMP:20260425T205543
CREATED:20230606T231511Z
LAST-MODIFIED:20230607T183825Z
UID:10000434-1705433400-1705437000@web2.d11s.org
SUMMARY:District 11 South VHF AUXNET
DESCRIPTION:The District 11 Sothern Region weekly VHF AUXNET starts at 1930hrs. each Tuesday on the Yankee Sierra Repeater. This net provides an opportunity for members to get experience talking on the radio and ensure their equipment is functioning properly.\nIt also provides the district with a list of known operating radio stations and operator for emergency and contingency communications.
URL:https://web2.d11s.org/event/district-11-south-vhf-auxnet/2024-01-16/
END:VEVENT
BEGIN:VEVENT
DTSTART;TZID=America/Los_Angeles:20240117T193000
DTEND;TZID=America/Los_Angeles:20240117T200000
DTSTAMP:20260425T205543
CREATED:20230706T014325Z
LAST-MODIFIED:20230706T014325Z
UID:10000787-1705519800-1705521600@web2.d11s.org
SUMMARY:Sector San Diego VHF Net
DESCRIPTION:Weekly SDG Sector VHF net on YSD repeater  Wendesday’s at 1930 PST/PDT – unless preempted by federal holiday.
URL:https://web2.d11s.org/event/sector-san-diego-vhf-net/2024-01-17/
END:VEVENT
BEGIN:VEVENT
DTSTART;TZID=America/Los_Angeles:20240118T180000
DTEND;TZID=America/Los_Angeles:20240118T190000
DTSTAMP:20260425T205543
CREATED:20240118T175113Z
LAST-MODIFIED:20240118T175113Z
UID:10001269-1705600800-1705604400@web2.d11s.org
SUMMARY:Division 10 Arizona Meeting
DESCRIPTION:Division 10 monthly in person business meeting at the North Tempe Multi-Generational Center\, Tempe\, Arizona.
URL:https://web2.d11s.org/event/division-10-arizona-meeting/
CATEGORIES:Unit Meeting
END:VEVENT
BEGIN:VEVENT
DTSTART;TZID=America/Los_Angeles:20240120T110000
DTEND;TZID=America/Los_Angeles:20240120T150000
DTSTAMP:20260425T205543
CREATED:20231221T195913Z
LAST-MODIFIED:20231221T195913Z
UID:10001194-1705748400-1705762800@web2.d11s.org
SUMMARY:Division 6 Change of Watch
DESCRIPTION:Division 6 will be hosting its annual Change of Watch Ceremony on Saturday\, 20 January 2024 from 1100 – 1500 hours at the Crowne Plaza Hotel in Costa Mesa.  Fee is $25.00 per person\, reservations are required. \nUOTD:  Trops \nPOC:  Garry Nelson\, DCDR    garryuscgaux@gmail.com
URL:https://web2.d11s.org/event/division-6-change-of-watch/
LOCATION:Crowne Plaza Hotel\, 3131 Bristol St\, Costa Mesa\, CA\, 92626\, United States
END:VEVENT
BEGIN:VEVENT
DTSTART;TZID=America/Los_Angeles:20240122T173000
DTEND;TZID=America/Los_Angeles:20240122T190000
DTSTAMP:20260425T205543
CREATED:20240118T175140Z
LAST-MODIFIED:20240118T175140Z
UID:10001270-1705944600-1705950000@web2.d11s.org
SUMMARY:Flotilla 10-07 meeting
DESCRIPTION:Flotilla Meeting at OdySea Aquarium in Scottsdale\, AZ
URL:https://web2.d11s.org/event/flotilla-10-07-meeting/
CATEGORIES:Unit Meeting
END:VEVENT
BEGIN:VEVENT
DTSTART;TZID=America/Los_Angeles:20240123T173000
DTEND;TZID=America/Los_Angeles:20240123T193000
DTSTAMP:20260425T205543
CREATED:20230606T224755Z
LAST-MODIFIED:20230606T224755Z
UID:10000173-1706031000-1706038200@web2.d11s.org
SUMMARY:West Coast Regional HF Radio Net
DESCRIPTION:The weekly HF Radio Net begins at 1830 hrs. Tuesdays on B5D. A concurrent virtual session starts around 1730 on  and provides an opportunity to meet net members\, get experience\, or get assistance with radio problems.\nMembers display their name and callsign. Guests display their name and guest.
URL:https://web2.d11s.org/event/west-coast-regional-hf-radio-net/2024-01-23/
ORGANIZER;CN="District 11":MAILTO:crosario.uscgaux@gmail.com
END:VEVENT
BEGIN:VEVENT
DTSTART;TZID=America/Los_Angeles:20240123T193000
DTEND;TZID=America/Los_Angeles:20240123T203000
DTSTAMP:20260425T205543
CREATED:20230606T231511Z
LAST-MODIFIED:20230607T183825Z
UID:10000435-1706038200-1706041800@web2.d11s.org
SUMMARY:District 11 South VHF AUXNET
DESCRIPTION:The District 11 Sothern Region weekly VHF AUXNET starts at 1930hrs. each Tuesday on the Yankee Sierra Repeater. This net provides an opportunity for members to get experience talking on the radio and ensure their equipment is functioning properly.\nIt also provides the district with a list of known operating radio stations and operator for emergency and contingency communications.
URL:https://web2.d11s.org/event/district-11-south-vhf-auxnet/2024-01-23/
END:VEVENT
BEGIN:VEVENT
DTSTART;TZID=America/Los_Angeles:20240124T190000
DTEND;TZID=America/Los_Angeles:20240124T210000
DTSTAMP:20260425T205543
CREATED:20231221T203500Z
LAST-MODIFIED:20231221T203500Z
UID:10001197-1706122800-1706130000@web2.d11s.org
SUMMARY:Flotilla 06-02 Monthly Meeting
DESCRIPTION:Flotilla 06-02 Monthly Meeting will be held at the Huntington Harbour Yacht Club in Huntington Beach\, CA starting at 7:00 pm. \nUOTD:  Trops \nPOC:  John Aden\, FC   dr4fish@aol.com
URL:https://web2.d11s.org/event/flotilla-06-02-monthly-meeting/2024-01-24/
LOCATION:Huntington Harbour Yacht Club\, 3821 E. Warner Avenue\, Huntington Beach\, CA\, 92649\, United States
END:VEVENT
BEGIN:VEVENT
DTSTART;TZID=America/Los_Angeles:20240124T193000
DTEND;TZID=America/Los_Angeles:20240124T200000
DTSTAMP:20260425T205543
CREATED:20230706T014325Z
LAST-MODIFIED:20230706T014325Z
UID:10000788-1706124600-1706126400@web2.d11s.org
SUMMARY:Sector San Diego VHF Net
DESCRIPTION:Weekly SDG Sector VHF net on YSD repeater  Wendesday’s at 1930 PST/PDT – unless preempted by federal holiday.
URL:https://web2.d11s.org/event/sector-san-diego-vhf-net/2024-01-24/
END:VEVENT
BEGIN:VEVENT
DTSTART;TZID=America/Los_Angeles:20240125T180000
DTEND;TZID=America/Los_Angeles:20240125T200000
DTSTAMP:20260425T205543
CREATED:20230929T185712Z
LAST-MODIFIED:20230929T185712Z
UID:10001064-1706205600-1706212800@web2.d11s.org
SUMMARY:Flotilla 1-10 meeting
DESCRIPTION:We meet every 4th Thursday at 1800. There will be no meeting in November and December. Contact FC for location.
URL:https://web2.d11s.org/event/flotilla-1-10-meeting/2024-01-25/
END:VEVENT
BEGIN:VEVENT
DTSTART;TZID=America/Los_Angeles:20240127T160000
DTEND;TZID=America/Los_Angeles:20240127T200000
DTSTAMP:20260425T205543
CREATED:20240118T174559Z
LAST-MODIFIED:20240118T174559Z
UID:10001268-1706371200-1706385600@web2.d11s.org
SUMMARY:Division 10 Arizona Change of Watch
DESCRIPTION:Division 10 Arizona will host it’s 2nd consecutive COW since 2017 at Luke Air Force Base Club 56 on Saturday evening\, 27 January 2024.
URL:https://web2.d11s.org/event/division-10-arizona-change-of-watch/
CATEGORIES:Fellowship
ATTACH;FMTTYPE=image/png:https://web2.d11s.org/wp-content/uploads/2024/01/Div-logo.png
END:VEVENT
BEGIN:VEVENT
DTSTART;TZID=America/Los_Angeles:20240128T170000
DTEND;TZID=America/Los_Angeles:20240128T200000
DTSTAMP:20260425T205543
CREATED:20240104T024445Z
LAST-MODIFIED:20240104T024445Z
UID:10001207-1706461200-1706472000@web2.d11s.org
SUMMARY:Division 1 COW
DESCRIPTION:Division 1 COW at Misson Bay Yacht Club
URL:https://web2.d11s.org/event/division-1-cow/
END:VEVENT
BEGIN:VEVENT
DTSTART;TZID=America/Los_Angeles:20240130T173000
DTEND;TZID=America/Los_Angeles:20240130T193000
DTSTAMP:20260425T205543
CREATED:20230606T224755Z
LAST-MODIFIED:20230606T224755Z
UID:10000174-1706635800-1706643000@web2.d11s.org
SUMMARY:West Coast Regional HF Radio Net
DESCRIPTION:The weekly HF Radio Net begins at 1830 hrs. Tuesdays on B5D. A concurrent virtual session starts around 1730 on  and provides an opportunity to meet net members\, get experience\, or get assistance with radio problems.\nMembers display their name and callsign. Guests display their name and guest.
URL:https://web2.d11s.org/event/west-coast-regional-hf-radio-net/2024-01-30/
ORGANIZER;CN="District 11":MAILTO:crosario.uscgaux@gmail.com
END:VEVENT
BEGIN:VEVENT
DTSTART;TZID=America/Los_Angeles:20240130T193000
DTEND;TZID=America/Los_Angeles:20240130T203000
DTSTAMP:20260425T205543
CREATED:20230606T231511Z
LAST-MODIFIED:20230607T183825Z
UID:10000436-1706643000-1706646600@web2.d11s.org
SUMMARY:District 11 South VHF AUXNET
DESCRIPTION:The District 11 Sothern Region weekly VHF AUXNET starts at 1930hrs. each Tuesday on the Yankee Sierra Repeater. This net provides an opportunity for members to get experience talking on the radio and ensure their equipment is functioning properly.\nIt also provides the district with a list of known operating radio stations and operator for emergency and contingency communications.
URL:https://web2.d11s.org/event/district-11-south-vhf-auxnet/2024-01-30/
END:VEVENT
BEGIN:VEVENT
DTSTART;TZID=America/Los_Angeles:20240131T180000
DTEND;TZID=America/Los_Angeles:20240131T200000
DTSTAMP:20260425T205543
CREATED:20231019T180854Z
LAST-MODIFIED:20231019T180854Z
UID:10001125-1706724000-1706731200@web2.d11s.org
SUMMARY:Flotilla 96 Meeting
DESCRIPTION:Flotilla 114-09-06 Las Vegas Monthly Meeting
URL:https://web2.d11s.org/event/flotilla-96-meeting/2024-01-31/
LOCATION:In Person
CATEGORIES:Member Training,Unit Meeting
END:VEVENT
BEGIN:VEVENT
DTSTART;TZID=America/Los_Angeles:20240131T193000
DTEND;TZID=America/Los_Angeles:20240131T200000
DTSTAMP:20260425T205543
CREATED:20230706T014325Z
LAST-MODIFIED:20230706T014325Z
UID:10000789-1706729400-1706731200@web2.d11s.org
SUMMARY:Sector San Diego VHF Net
DESCRIPTION:Weekly SDG Sector VHF net on YSD repeater  Wendesday’s at 1930 PST/PDT – unless preempted by federal holiday.
URL:https://web2.d11s.org/event/sector-san-diego-vhf-net/2024-01-31/
END:VEVENT
BEGIN:VEVENT
DTSTART;TZID=America/Los_Angeles:20240206T173000
DTEND;TZID=America/Los_Angeles:20240206T193000
DTSTAMP:20260425T205543
CREATED:20230606T224755Z
LAST-MODIFIED:20230606T224755Z
UID:10000175-1707240600-1707247800@web2.d11s.org
SUMMARY:West Coast Regional HF Radio Net
DESCRIPTION:The weekly HF Radio Net begins at 1830 hrs. Tuesdays on B5D. A concurrent virtual session starts around 1730 on  and provides an opportunity to meet net members\, get experience\, or get assistance with radio problems.\nMembers display their name and callsign. Guests display their name and guest.
URL:https://web2.d11s.org/event/west-coast-regional-hf-radio-net/2024-02-06/
ORGANIZER;CN="District 11":MAILTO:crosario.uscgaux@gmail.com
END:VEVENT
BEGIN:VEVENT
DTSTART;TZID=America/Los_Angeles:20240206T193000
DTEND;TZID=America/Los_Angeles:20240206T203000
DTSTAMP:20260425T205543
CREATED:20230606T231511Z
LAST-MODIFIED:20230607T183825Z
UID:10000437-1707247800-1707251400@web2.d11s.org
SUMMARY:District 11 South VHF AUXNET
DESCRIPTION:The District 11 Sothern Region weekly VHF AUXNET starts at 1930hrs. each Tuesday on the Yankee Sierra Repeater. This net provides an opportunity for members to get experience talking on the radio and ensure their equipment is functioning properly.\nIt also provides the district with a list of known operating radio stations and operator for emergency and contingency communications.
URL:https://web2.d11s.org/event/district-11-south-vhf-auxnet/2024-02-06/
END:VEVENT
BEGIN:VEVENT
DTSTART;TZID=America/Los_Angeles:20240207T193000
DTEND;TZID=America/Los_Angeles:20240207T200000
DTSTAMP:20260425T205543
CREATED:20230706T014325Z
LAST-MODIFIED:20230706T014325Z
UID:10000790-1707334200-1707336000@web2.d11s.org
SUMMARY:Sector San Diego VHF Net
DESCRIPTION:Weekly SDG Sector VHF net on YSD repeater  Wendesday’s at 1930 PST/PDT – unless preempted by federal holiday.
URL:https://web2.d11s.org/event/sector-san-diego-vhf-net/2024-02-07/
END:VEVENT
BEGIN:VEVENT
DTSTART;TZID=America/Los_Angeles:20240208T180000
DTEND;TZID=America/Los_Angeles:20240208T200000
DTSTAMP:20260425T205543
CREATED:20240118T214118Z
LAST-MODIFIED:20240118T214118Z
UID:10001271-1707415200-1707422400@web2.d11s.org
SUMMARY:Monthly Meeting
DESCRIPTION:Flotilla 09-05
URL:https://web2.d11s.org/event/monthly-meeting-2/2024-02-08/
END:VEVENT
BEGIN:VEVENT
DTSTART;TZID=America/Los_Angeles:20240210T080000
DTEND;TZID=America/Los_Angeles:20240210T150000
DTSTAMP:20260425T205543
CREATED:20231203T193610Z
LAST-MODIFIED:20231203T193610Z
UID:10001187-1707552000-1707577200@web2.d11s.org
SUMMARY:Change of Watch Division 9
DESCRIPTION:2024 Change of Watch Ceremony
URL:https://web2.d11s.org/event/change-of-watch-division-9/
LOCATION:In Person
CATEGORIES:Program Meeting
ATTACH;FMTTYPE=image/png:https://web2.d11s.org/wp-content/uploads/2023/12/D9LOGO_2_CLR_.png
END:VEVENT
BEGIN:VEVENT
DTSTART;TZID=America/Los_Angeles:20240210T100000
DTEND;TZID=America/Los_Angeles:20240210T150000
DTSTAMP:20260425T205543
CREATED:20231121T225111Z
LAST-MODIFIED:20231121T225111Z
UID:10001186-1707559200-1707577200@web2.d11s.org
SUMMARY:Division 9 COW
DESCRIPTION:Annual awards brunch in Henderson\, Nv and Town Hall meeting
URL:https://web2.d11s.org/event/division-9-cow/
END:VEVENT
BEGIN:VEVENT
DTSTART;TZID=America/Los_Angeles:20240212T080000
DTEND;TZID=America/Los_Angeles:20240212T170000
DTSTAMP:20260425T205543
CREATED:20240212T222604Z
LAST-MODIFIED:20240212T222604Z
UID:10001339-1707724800-1707757200@web2.d11s.org
SUMMARY:Division 114-07 Board Meeting
DESCRIPTION:Division 114-07 Board and Staff Officer Meeting. Held Monthly 2nd Monday of the month. Via Zoom.
URL:https://web2.d11s.org/event/division-114-07-board-meeting/
CATEGORIES:Unit Meeting
ATTACH;FMTTYPE=image/jpeg:https://web2.d11s.org/wp-content/uploads/2024/02/Division11407-logo-good-2024.jpg
END:VEVENT
BEGIN:VEVENT
DTSTART;TZID=America/Los_Angeles:20240213T173000
DTEND;TZID=America/Los_Angeles:20240213T193000
DTSTAMP:20260425T205543
CREATED:20230606T224755Z
LAST-MODIFIED:20230606T224755Z
UID:10000176-1707845400-1707852600@web2.d11s.org
SUMMARY:West Coast Regional HF Radio Net
DESCRIPTION:The weekly HF Radio Net begins at 1830 hrs. Tuesdays on B5D. A concurrent virtual session starts around 1730 on  and provides an opportunity to meet net members\, get experience\, or get assistance with radio problems.\nMembers display their name and callsign. Guests display their name and guest.
URL:https://web2.d11s.org/event/west-coast-regional-hf-radio-net/2024-02-13/
ORGANIZER;CN="District 11":MAILTO:crosario.uscgaux@gmail.com
END:VEVENT
BEGIN:VEVENT
DTSTART;TZID=America/Los_Angeles:20240213T180000
DTEND;TZID=America/Los_Angeles:20240213T193000
DTSTAMP:20260425T205543
CREATED:20240127T014814Z
LAST-MODIFIED:20240127T014814Z
UID:10001331-1707847200-1707852600@web2.d11s.org
SUMMARY:D11sr HR AAMS Training
DESCRIPTION:National HR will be holding a training for all HR Staff\, Flotilla Commanders\, and Vice Flotilla Commanders on the use of the Automated Auxiliarist Management System\, aka the AAMS.
URL:https://web2.d11s.org/event/d11sr-hr-aams-training/
LOCATION:Virtual Event
CATEGORIES:Member Training
END:VEVENT
BEGIN:VEVENT
DTSTART;TZID=America/Los_Angeles:20240213T193000
DTEND;TZID=America/Los_Angeles:20240213T203000
DTSTAMP:20260425T205543
CREATED:20230606T231511Z
LAST-MODIFIED:20230607T183825Z
UID:10000438-1707852600-1707856200@web2.d11s.org
SUMMARY:District 11 South VHF AUXNET
DESCRIPTION:The District 11 Sothern Region weekly VHF AUXNET starts at 1930hrs. each Tuesday on the Yankee Sierra Repeater. This net provides an opportunity for members to get experience talking on the radio and ensure their equipment is functioning properly.\nIt also provides the district with a list of known operating radio stations and operator for emergency and contingency communications.
URL:https://web2.d11s.org/event/district-11-south-vhf-auxnet/2024-02-13/
END:VEVENT
BEGIN:VEVENT
DTSTART;TZID=America/Los_Angeles:20240214T193000
DTEND;TZID=America/Los_Angeles:20240214T200000
DTSTAMP:20260425T205543
CREATED:20230706T014325Z
LAST-MODIFIED:20230706T014325Z
UID:10000791-1707939000-1707940800@web2.d11s.org
SUMMARY:Sector San Diego VHF Net
DESCRIPTION:Weekly SDG Sector VHF net on YSD repeater  Wendesday’s at 1930 PST/PDT – unless preempted by federal holiday.
URL:https://web2.d11s.org/event/sector-san-diego-vhf-net/2024-02-14/
END:VEVENT
BEGIN:VEVENT
DTSTART;TZID=America/Los_Angeles:20240219T190000
DTEND;TZID=America/Los_Angeles:20240219T203000
DTSTAMP:20260425T205543
CREATED:20240104T024713Z
LAST-MODIFIED:20240104T024713Z
UID:10001209-1708369200-1708374600@web2.d11s.org
SUMMARY:Division 1 Division meeting
DESCRIPTION:Division 1 monthly meeting at Sector San Diego
URL:https://web2.d11s.org/event/division-1-division-meeting/2024-02-19/
CATEGORIES:Unit Meeting
END:VEVENT
BEGIN:VEVENT
DTSTART;TZID=America/Los_Angeles:20240220T173000
DTEND;TZID=America/Los_Angeles:20240220T193000
DTSTAMP:20260425T205543
CREATED:20230606T224755Z
LAST-MODIFIED:20230606T224755Z
UID:10000177-1708450200-1708457400@web2.d11s.org
SUMMARY:West Coast Regional HF Radio Net
DESCRIPTION:The weekly HF Radio Net begins at 1830 hrs. Tuesdays on B5D. A concurrent virtual session starts around 1730 on  and provides an opportunity to meet net members\, get experience\, or get assistance with radio problems.\nMembers display their name and callsign. Guests display their name and guest.
URL:https://web2.d11s.org/event/west-coast-regional-hf-radio-net/2024-02-20/
ORGANIZER;CN="District 11":MAILTO:crosario.uscgaux@gmail.com
END:VEVENT
BEGIN:VEVENT
DTSTART;TZID=America/Los_Angeles:20240220T193000
DTEND;TZID=America/Los_Angeles:20240220T203000
DTSTAMP:20260425T205543
CREATED:20230606T231511Z
LAST-MODIFIED:20230607T183825Z
UID:10000439-1708457400-1708461000@web2.d11s.org
SUMMARY:District 11 South VHF AUXNET
DESCRIPTION:The District 11 Sothern Region weekly VHF AUXNET starts at 1930hrs. each Tuesday on the Yankee Sierra Repeater. This net provides an opportunity for members to get experience talking on the radio and ensure their equipment is functioning properly.\nIt also provides the district with a list of known operating radio stations and operator for emergency and contingency communications.
URL:https://web2.d11s.org/event/district-11-south-vhf-auxnet/2024-02-20/
END:VEVENT
END:VCALENDAR