BEGIN:VCALENDAR
VERSION:2.0
PRODID:-//US Coast Guard Auxiliary-D11S - ECPv6.15.20//NONSGML v1.0//EN
CALSCALE:GREGORIAN
METHOD:PUBLISH
X-WR-CALNAME:US Coast Guard Auxiliary-D11S
X-ORIGINAL-URL:https://web2.d11s.org
X-WR-CALDESC:Events for US Coast Guard Auxiliary-D11S
REFRESH-INTERVAL;VALUE=DURATION:PT1H
X-Robots-Tag:noindex
X-PUBLISHED-TTL:PT1H
BEGIN:VTIMEZONE
TZID:America/Los_Angeles
BEGIN:DAYLIGHT
TZOFFSETFROM:-0800
TZOFFSETTO:-0700
TZNAME:PDT
DTSTART:20220313T100000
END:DAYLIGHT
BEGIN:STANDARD
TZOFFSETFROM:-0700
TZOFFSETTO:-0800
TZNAME:PST
DTSTART:20221106T090000
END:STANDARD
BEGIN:DAYLIGHT
TZOFFSETFROM:-0800
TZOFFSETTO:-0700
TZNAME:PDT
DTSTART:20230312T100000
END:DAYLIGHT
BEGIN:STANDARD
TZOFFSETFROM:-0700
TZOFFSETTO:-0800
TZNAME:PST
DTSTART:20231105T090000
END:STANDARD
BEGIN:DAYLIGHT
TZOFFSETFROM:-0800
TZOFFSETTO:-0700
TZNAME:PDT
DTSTART:20240310T100000
END:DAYLIGHT
BEGIN:STANDARD
TZOFFSETFROM:-0700
TZOFFSETTO:-0800
TZNAME:PST
DTSTART:20241103T090000
END:STANDARD
END:VTIMEZONE
BEGIN:VEVENT
DTSTART;TZID=America/Los_Angeles:20230325T170000
DTEND;TZID=America/Los_Angeles:20230325T170000
DTSTAMP:20260425T043224
CREATED:20230509T101749Z
LAST-MODIFIED:20230509T101749Z
UID:10000050-1679763600-1679763600@web2.d11s.org
SUMMARY:NTRAIN (thru 4/2)
DESCRIPTION:
URL:https://web2.d11s.org/event/ntrain-thru-4-2/
END:VEVENT
BEGIN:VEVENT
DTSTART;TZID=America/Los_Angeles:20230326T170000
DTEND;TZID=America/Los_Angeles:20230326T170000
DTSTAMP:20260425T043224
CREATED:20230509T101947Z
LAST-MODIFIED:20230509T101947Z
UID:10000052-1679850000-1679850000@web2.d11s.org
SUMMARY:March Meeting - DIV 12
DESCRIPTION:
URL:https://web2.d11s.org/event/march-meeting-div-12/
END:VEVENT
BEGIN:VEVENT
DTSTART;TZID=America/Los_Angeles:20230326T170000
DTEND;TZID=America/Los_Angeles:20230326T170000
DTSTAMP:20260425T043224
CREATED:20230509T101750Z
LAST-MODIFIED:20230509T101750Z
UID:10000051-1679850000-1679850000@web2.d11s.org
SUMMARY:March Meeting - DIV 06
DESCRIPTION:
URL:https://web2.d11s.org/event/march-meeting-div-06/
END:VEVENT
BEGIN:VEVENT
DTSTART;TZID=America/Los_Angeles:20230331T170000
DTEND;TZID=America/Los_Angeles:20230331T170000
DTSTAMP:20260425T043224
CREATED:20230509T101948Z
LAST-MODIFIED:20230509T101948Z
UID:10000053-1680282000-1680282000@web2.d11s.org
SUMMARY:D11S Reports - Q1
DESCRIPTION:
URL:https://web2.d11s.org/event/d11s-reports-q1/
END:VEVENT
BEGIN:VEVENT
DTSTART;TZID=America/Los_Angeles:20230405T170000
DTEND;TZID=America/Los_Angeles:20230405T170000
DTSTAMP:20260425T043224
CREATED:20230509T101949Z
LAST-MODIFIED:20230509T101949Z
UID:10000054-1680714000-1680714000@web2.d11s.org
SUMMARY:OPCOM
DESCRIPTION:
URL:https://web2.d11s.org/event/opcom-3/
END:VEVENT
BEGIN:VEVENT
DTSTART;TZID=America/Los_Angeles:20230407T170000
DTEND;TZID=America/Los_Angeles:20230407T170000
DTSTAMP:20260425T043224
CREATED:20230509T101949Z
LAST-MODIFIED:20230509T101949Z
UID:10000055-1680886800-1680886800@web2.d11s.org
SUMMARY:DCO Report - Q1
DESCRIPTION:
URL:https://web2.d11s.org/event/dco-report-q1/
END:VEVENT
BEGIN:VEVENT
DTSTART;TZID=America/Los_Angeles:20230409T170000
DTEND;TZID=America/Los_Angeles:20230409T170000
DTSTAMP:20260425T043224
CREATED:20230509T101949Z
LAST-MODIFIED:20230509T101949Z
UID:10000056-1681059600-1681059600@web2.d11s.org
SUMMARY:April Meeting - DIV 07
DESCRIPTION:
URL:https://web2.d11s.org/event/april-meeting-div-07/
END:VEVENT
BEGIN:VEVENT
DTSTART;TZID=America/Los_Angeles:20230413T170000
DTEND;TZID=America/Los_Angeles:20230413T170000
DTSTAMP:20260425T043224
CREATED:20230509T102056Z
LAST-MODIFIED:20230509T102056Z
UID:10000058-1681405200-1681405200@web2.d11s.org
SUMMARY:DISTRICT B&S Meeting Q1
DESCRIPTION:
URL:https://web2.d11s.org/event/district-bs-meeting-q1/
END:VEVENT
BEGIN:VEVENT
DTSTART;TZID=America/Los_Angeles:20230413T170000
DTEND;TZID=America/Los_Angeles:20230413T170000
DTSTAMP:20260425T043224
CREATED:20230509T102054Z
LAST-MODIFIED:20230509T102054Z
UID:10000057-1681405200-1681405200@web2.d11s.org
SUMMARY:D11S DTRAIN
DESCRIPTION:
URL:https://web2.d11s.org/event/d11s-dtrain/
END:VEVENT
BEGIN:VEVENT
DTSTART;TZID=America/Los_Angeles:20230414T170000
DTEND;TZID=America/Los_Angeles:20230414T170000
DTSTAMP:20260425T043224
CREATED:20230509T102057Z
LAST-MODIFIED:20230509T102057Z
UID:10000060-1681491600-1681491600@web2.d11s.org
SUMMARY:D11S DTRAIN
DESCRIPTION:
URL:https://web2.d11s.org/event/d11s-dtrain-2/
END:VEVENT
BEGIN:VEVENT
DTSTART;TZID=America/Los_Angeles:20230414T170000
DTEND;TZID=America/Los_Angeles:20230414T170000
DTSTAMP:20260425T043224
CREATED:20230509T102056Z
LAST-MODIFIED:20230509T102056Z
UID:10000059-1681491600-1681491600@web2.d11s.org
SUMMARY:April Meeting - DIV 09
DESCRIPTION:
URL:https://web2.d11s.org/event/april-meeting-div-09/
END:VEVENT
BEGIN:VEVENT
DTSTART;TZID=America/Los_Angeles:20230415T170000
DTEND;TZID=America/Los_Angeles:20230415T170000
DTSTAMP:20260425T043224
CREATED:20230509T102057Z
LAST-MODIFIED:20230509T102057Z
UID:10000061-1681578000-1681578000@web2.d11s.org
SUMMARY:D11S DTRAIN
DESCRIPTION:
URL:https://web2.d11s.org/event/d11s-dtrain-3/
END:VEVENT
BEGIN:VEVENT
DTSTART;TZID=America/Los_Angeles:20230416T170000
DTEND;TZID=America/Los_Angeles:20230416T170000
DTSTAMP:20260425T043224
CREATED:20230509T102254Z
LAST-MODIFIED:20230509T102254Z
UID:10000062-1681664400-1681664400@web2.d11s.org
SUMMARY:April Meeting - DIV 01
DESCRIPTION:
URL:https://web2.d11s.org/event/april-meeting-div-01/
END:VEVENT
BEGIN:VEVENT
DTSTART;TZID=America/Los_Angeles:20230417T170000
DTEND;TZID=America/Los_Angeles:20230417T170000
DTSTAMP:20260425T043224
CREATED:20230509T102256Z
LAST-MODIFIED:20230509T102256Z
UID:10000063-1681750800-1681750800@web2.d11s.org
SUMMARY:April Meeting - DIV 05
DESCRIPTION:
URL:https://web2.d11s.org/event/april-meeting-div-05/
END:VEVENT
BEGIN:VEVENT
DTSTART;TZID=America/Los_Angeles:20230418T170000
DTEND;TZID=America/Los_Angeles:20230418T170000
DTSTAMP:20260425T043224
CREATED:20230509T102257Z
LAST-MODIFIED:20230509T102257Z
UID:10000064-1681837200-1681837200@web2.d11s.org
SUMMARY:April Meeting - DIV 11
DESCRIPTION:
URL:https://web2.d11s.org/event/april-meeting-div-11/
END:VEVENT
BEGIN:VEVENT
DTSTART;TZID=America/Los_Angeles:20230419T170000
DTEND;TZID=America/Los_Angeles:20230419T170000
DTSTAMP:20260425T043224
CREATED:20230509T102257Z
LAST-MODIFIED:20230509T102257Z
UID:10000065-1681923600-1681923600@web2.d11s.org
SUMMARY:April Meeting - DIV 04
DESCRIPTION:
URL:https://web2.d11s.org/event/april-meeting-div-04/
END:VEVENT
BEGIN:VEVENT
DTSTART;TZID=America/Los_Angeles:20230419T170000
DTEND;TZID=America/Los_Angeles:20230419T170000
DTSTAMP:20260425T043224
CREATED:20230509T102257Z
LAST-MODIFIED:20230509T102257Z
UID:10000066-1681923600-1681923600@web2.d11s.org
SUMMARY:Pac Area Meeting
DESCRIPTION:
URL:https://web2.d11s.org/event/pac-area-meeting-4/
END:VEVENT
BEGIN:VEVENT
DTSTART;TZID=America/Los_Angeles:20230420T170000
DTEND;TZID=America/Los_Angeles:20230420T170000
DTSTAMP:20260425T043224
CREATED:20230509T102455Z
LAST-MODIFIED:20230509T102455Z
UID:10000067-1682010000-1682010000@web2.d11s.org
SUMMARY:April Meeting - DIV 10
DESCRIPTION:
URL:https://web2.d11s.org/event/april-meeting-div-10/
END:VEVENT
BEGIN:VEVENT
DTSTART;TZID=America/Los_Angeles:20230423T170000
DTEND;TZID=America/Los_Angeles:20230423T170000
DTSTAMP:20260425T043224
CREATED:20230509T102458Z
LAST-MODIFIED:20230509T102458Z
UID:10000068-1682269200-1682269200@web2.d11s.org
SUMMARY:April Meeting - DIV 06
DESCRIPTION:
URL:https://web2.d11s.org/event/april-meeting-div-06/
END:VEVENT
BEGIN:VEVENT
DTSTART;TZID=America/Los_Angeles:20230423T170000
DTEND;TZID=America/Los_Angeles:20230423T170000
DTSTAMP:20260425T043224
CREATED:20230509T102458Z
LAST-MODIFIED:20230509T102458Z
UID:10000069-1682269200-1682269200@web2.d11s.org
SUMMARY:April Meeting - DIV 12
DESCRIPTION:
URL:https://web2.d11s.org/event/april-meeting-div-12/
END:VEVENT
BEGIN:VEVENT
DTSTART;TZID=America/Los_Angeles:20230428T170000
DTEND;TZID=America/Los_Angeles:20230428T170000
DTSTAMP:20260425T043224
CREATED:20230509T102459Z
LAST-MODIFIED:20230509T102459Z
UID:10000070-1682701200-1682701200@web2.d11s.org
SUMMARY:COW - DIV 05
DESCRIPTION:
URL:https://web2.d11s.org/event/cow-div-05/
END:VEVENT
BEGIN:VEVENT
DTSTART;TZID=America/Los_Angeles:20230503T170000
DTEND;TZID=America/Los_Angeles:20230503T170000
DTSTAMP:20260425T043224
CREATED:20230509T102459Z
LAST-MODIFIED:20230509T102459Z
UID:10000071-1683133200-1683133200@web2.d11s.org
SUMMARY:OPCOM
DESCRIPTION:
URL:https://web2.d11s.org/event/opcom-4/
END:VEVENT
BEGIN:VEVENT
DTSTART;TZID=America/Los_Angeles:20230507T170000
DTEND;TZID=America/Los_Angeles:20230507T170000
DTSTAMP:20260425T043224
CREATED:20230509T102656Z
LAST-MODIFIED:20230509T102656Z
UID:10000072-1683478800-1683478800@web2.d11s.org
SUMMARY:May Meeting - DIV 07
DESCRIPTION:
URL:https://web2.d11s.org/event/may-meeting-div-07/
END:VEVENT
BEGIN:VEVENT
DTSTART;TZID=America/Los_Angeles:20230514T170000
DTEND;TZID=America/Los_Angeles:20230514T170000
DTSTAMP:20260425T043224
CREATED:20230509T102658Z
LAST-MODIFIED:20230509T102658Z
UID:10000073-1684083600-1684083600@web2.d11s.org
SUMMARY:DCO Mtg w/ADM Sugimoto
DESCRIPTION:
URL:https://web2.d11s.org/event/dco-mtg-w-adm-sugimoto-2/
END:VEVENT
BEGIN:VEVENT
DTSTART;TZID=America/Los_Angeles:20230514T170000
DTEND;TZID=America/Los_Angeles:20230514T170000
DTSTAMP:20260425T043224
CREATED:20230509T102658Z
LAST-MODIFIED:20230509T102658Z
UID:10000074-1684083600-1684083600@web2.d11s.org
SUMMARY:May Meeting - DIV 01
DESCRIPTION:
URL:https://web2.d11s.org/event/may-meeting-div-01/
END:VEVENT
BEGIN:VEVENT
DTSTART;TZID=America/Los_Angeles:20230515T170000
DTEND;TZID=America/Los_Angeles:20230515T170000
DTSTAMP:20260425T043224
CREATED:20230509T102659Z
LAST-MODIFIED:20230509T102659Z
UID:10000075-1684170000-1684170000@web2.d11s.org
SUMMARY:May Meeting - DIV 05
DESCRIPTION:
URL:https://web2.d11s.org/event/may-meeting-div-05/
END:VEVENT
BEGIN:VEVENT
DTSTART;TZID=America/Los_Angeles:20230516T170000
DTEND;TZID=America/Los_Angeles:20230516T170000
DTSTAMP:20260425T043224
CREATED:20230509T102659Z
LAST-MODIFIED:20230509T102659Z
UID:10000076-1684256400-1684256400@web2.d11s.org
SUMMARY:May Meeting - DIV 11
DESCRIPTION:
URL:https://web2.d11s.org/event/may-meeting-div-11/
END:VEVENT
BEGIN:VEVENT
DTSTART;TZID=America/Los_Angeles:20230517T170000
DTEND;TZID=America/Los_Angeles:20230517T170000
DTSTAMP:20260425T043224
CREATED:20230509T102858Z
LAST-MODIFIED:20230509T102858Z
UID:10000078-1684342800-1684342800@web2.d11s.org
SUMMARY:Pac Area Meeting
DESCRIPTION:
URL:https://web2.d11s.org/event/pac-area-meeting-5/
END:VEVENT
BEGIN:VEVENT
DTSTART;TZID=America/Los_Angeles:20230517T170000
DTEND;TZID=America/Los_Angeles:20230517T170000
DTSTAMP:20260425T043224
CREATED:20230509T102857Z
LAST-MODIFIED:20230509T102857Z
UID:10000077-1684342800-1684342800@web2.d11s.org
SUMMARY:May Meeting - DIV 04
DESCRIPTION:
URL:https://web2.d11s.org/event/may-meeting-div-04/
END:VEVENT
BEGIN:VEVENT
DTSTART;TZID=America/Los_Angeles:20230518T170000
DTEND;TZID=America/Los_Angeles:20230518T170000
DTSTAMP:20260425T043224
CREATED:20230509T102859Z
LAST-MODIFIED:20230509T102859Z
UID:10000079-1684429200-1684429200@web2.d11s.org
SUMMARY:May Meeting - DIV 10
DESCRIPTION:
URL:https://web2.d11s.org/event/may-meeting-div-10/
END:VEVENT
END:VCALENDAR