BEGIN:VCALENDAR
VERSION:2.0
PRODID:-//US Coast Guard Auxiliary-D11S - ECPv6.15.20//NONSGML v1.0//EN
CALSCALE:GREGORIAN
METHOD:PUBLISH
X-WR-CALNAME:US Coast Guard Auxiliary-D11S
X-ORIGINAL-URL:https://web2.d11s.org
X-WR-CALDESC:Events for US Coast Guard Auxiliary-D11S
REFRESH-INTERVAL;VALUE=DURATION:PT1H
X-Robots-Tag:noindex
X-PUBLISHED-TTL:PT1H
BEGIN:VTIMEZONE
TZID:America/Los_Angeles
BEGIN:DAYLIGHT
TZOFFSETFROM:-0800
TZOFFSETTO:-0700
TZNAME:PDT
DTSTART:20220313T100000
END:DAYLIGHT
BEGIN:STANDARD
TZOFFSETFROM:-0700
TZOFFSETTO:-0800
TZNAME:PST
DTSTART:20221106T090000
END:STANDARD
BEGIN:DAYLIGHT
TZOFFSETFROM:-0800
TZOFFSETTO:-0700
TZNAME:PDT
DTSTART:20230312T100000
END:DAYLIGHT
BEGIN:STANDARD
TZOFFSETFROM:-0700
TZOFFSETTO:-0800
TZNAME:PST
DTSTART:20231105T090000
END:STANDARD
BEGIN:DAYLIGHT
TZOFFSETFROM:-0800
TZOFFSETTO:-0700
TZNAME:PDT
DTSTART:20240310T100000
END:DAYLIGHT
BEGIN:STANDARD
TZOFFSETFROM:-0700
TZOFFSETTO:-0800
TZNAME:PST
DTSTART:20241103T090000
END:STANDARD
END:VTIMEZONE
BEGIN:VEVENT
DTSTART;TZID=America/Los_Angeles:20230514T170000
DTEND;TZID=America/Los_Angeles:20230514T170000
DTSTAMP:20260425T073005
CREATED:20230509T102658Z
LAST-MODIFIED:20230509T102658Z
UID:10000074-1684083600-1684083600@web2.d11s.org
SUMMARY:May Meeting - DIV 01
DESCRIPTION:
URL:https://web2.d11s.org/event/may-meeting-div-01/
END:VEVENT
BEGIN:VEVENT
DTSTART;TZID=America/Los_Angeles:20230515T170000
DTEND;TZID=America/Los_Angeles:20230515T170000
DTSTAMP:20260425T073005
CREATED:20230509T102659Z
LAST-MODIFIED:20230509T102659Z
UID:10000075-1684170000-1684170000@web2.d11s.org
SUMMARY:May Meeting - DIV 05
DESCRIPTION:
URL:https://web2.d11s.org/event/may-meeting-div-05/
END:VEVENT
BEGIN:VEVENT
DTSTART;TZID=America/Los_Angeles:20230516T170000
DTEND;TZID=America/Los_Angeles:20230516T170000
DTSTAMP:20260425T073005
CREATED:20230509T102659Z
LAST-MODIFIED:20230509T102659Z
UID:10000076-1684256400-1684256400@web2.d11s.org
SUMMARY:May Meeting - DIV 11
DESCRIPTION:
URL:https://web2.d11s.org/event/may-meeting-div-11/
END:VEVENT
BEGIN:VEVENT
DTSTART;TZID=America/Los_Angeles:20230517T170000
DTEND;TZID=America/Los_Angeles:20230517T170000
DTSTAMP:20260425T073005
CREATED:20230509T102858Z
LAST-MODIFIED:20230509T102858Z
UID:10000078-1684342800-1684342800@web2.d11s.org
SUMMARY:Pac Area Meeting
DESCRIPTION:
URL:https://web2.d11s.org/event/pac-area-meeting-5/
END:VEVENT
BEGIN:VEVENT
DTSTART;TZID=America/Los_Angeles:20230517T170000
DTEND;TZID=America/Los_Angeles:20230517T170000
DTSTAMP:20260425T073005
CREATED:20230509T102857Z
LAST-MODIFIED:20230509T102857Z
UID:10000077-1684342800-1684342800@web2.d11s.org
SUMMARY:May Meeting - DIV 04
DESCRIPTION:
URL:https://web2.d11s.org/event/may-meeting-div-04/
END:VEVENT
BEGIN:VEVENT
DTSTART;TZID=America/Los_Angeles:20230518T170000
DTEND;TZID=America/Los_Angeles:20230518T170000
DTSTAMP:20260425T073005
CREATED:20230509T102859Z
LAST-MODIFIED:20230509T102859Z
UID:10000079-1684429200-1684429200@web2.d11s.org
SUMMARY:May Meeting - DIV 10
DESCRIPTION:
URL:https://web2.d11s.org/event/may-meeting-div-10/
END:VEVENT
BEGIN:VEVENT
DTSTART;TZID=America/Los_Angeles:20230519T170000
DTEND;TZID=America/Los_Angeles:20230519T170000
DTSTAMP:20260425T073005
CREATED:20230509T102900Z
LAST-MODIFIED:20230509T102900Z
UID:10000081-1684515600-1684515600@web2.d11s.org
SUMMARY:May Meeting - DIV 09
DESCRIPTION:
URL:https://web2.d11s.org/event/may-meeting-div-09/
END:VEVENT
BEGIN:VEVENT
DTSTART;TZID=America/Los_Angeles:20230519T170000
DTEND;TZID=America/Los_Angeles:20230519T170000
DTSTAMP:20260425T073005
CREATED:20230509T102900Z
LAST-MODIFIED:20230509T102900Z
UID:10000080-1684515600-1684515600@web2.d11s.org
SUMMARY:Armed Forces Day Parade
DESCRIPTION:
URL:https://web2.d11s.org/event/armed-forces-day-parade/
END:VEVENT
BEGIN:VEVENT
DTSTART;TZID=America/Los_Angeles:20230521T170000
DTEND;TZID=America/Los_Angeles:20230521T170000
DTSTAMP:20260425T073005
CREATED:20230509T103059Z
LAST-MODIFIED:20230509T103059Z
UID:10000083-1684688400-1684688400@web2.d11s.org
SUMMARY:May Meeting - DIV 12
DESCRIPTION:
URL:https://web2.d11s.org/event/may-meeting-div-12/
END:VEVENT
BEGIN:VEVENT
DTSTART;TZID=America/Los_Angeles:20230521T170000
DTEND;TZID=America/Los_Angeles:20230521T170000
DTSTAMP:20260425T073005
CREATED:20230509T103058Z
LAST-MODIFIED:20230509T103058Z
UID:10000082-1684688400-1684688400@web2.d11s.org
SUMMARY:May Meeting - DIV 06
DESCRIPTION:
URL:https://web2.d11s.org/event/may-meeting-div-06/
END:VEVENT
BEGIN:VEVENT
DTSTART;TZID=America/Los_Angeles:20230526T000000
DTEND;TZID=America/Los_Angeles:20230529T165900
DTSTAMP:20260425T073005
CREATED:20230509T103100Z
LAST-MODIFIED:20230509T150340Z
UID:10000084-1685059200-1685379540@web2.d11s.org
SUMMARY:LA FLEET WEEK
DESCRIPTION:
URL:https://web2.d11s.org/event/la-fleet-week/
END:VEVENT
BEGIN:VEVENT
DTSTART;TZID=America/Los_Angeles:20230530T202300
DTEND;TZID=America/Los_Angeles:20230530T202300
DTSTAMP:20260425T073005
CREATED:20230530T212500Z
LAST-MODIFIED:20230530T212500Z
UID:10000133-1685478180-1685478180@web2.d11s.org
SUMMARY:Sample value
DESCRIPTION:Sample value
URL:https://web2.d11s.org/event/sample-value/
END:VEVENT
BEGIN:VEVENT
DTSTART;TZID=America/Los_Angeles:20230531T170000
DTEND;TZID=America/Los_Angeles:20230531T170000
DTSTAMP:20260425T073005
CREATED:20230509T103351Z
LAST-MODIFIED:20230509T103351Z
UID:10000088-1685552400-1685552400@web2.d11s.org
SUMMARY:OPCOM
DESCRIPTION:
URL:https://web2.d11s.org/event/opcom-5/
END:VEVENT
BEGIN:VEVENT
DTSTART;TZID=America/Los_Angeles:20230531T170000
DTEND;TZID=America/Los_Angeles:20230531T180000
DTSTAMP:20260425T073005
CREATED:20230531T161125Z
LAST-MODIFIED:20230531T161125Z
UID:10000134-1685552400-1685556000@web2.d11s.org
SUMMARY:Test Event Today
DESCRIPTION:This is a test event.
URL:https://web2.d11s.org/event/test-event-today/
ORGANIZER;CN="District 11":MAILTO:crosario.uscgaux@gmail.com
END:VEVENT
BEGIN:VEVENT
DTSTART;TZID=America/Los_Angeles:20230602T170000
DTEND;TZID=America/Los_Angeles:20230602T170000
DTSTAMP:20260425T073005
CREATED:20230509T103351Z
LAST-MODIFIED:20230509T103351Z
UID:10000089-1685725200-1685725200@web2.d11s.org
SUMMARY:DISTRICT B&S Meeting Q2
DESCRIPTION:
URL:https://web2.d11s.org/event/district-bs-meeting-q2/
END:VEVENT
BEGIN:VEVENT
DTSTART;TZID=America/Los_Angeles:20230603T170000
DTEND;TZID=America/Los_Angeles:20230603T170000
DTSTAMP:20260425T073005
CREATED:20230509T103352Z
LAST-MODIFIED:20230509T103352Z
UID:10000090-1685811600-1685811600@web2.d11s.org
SUMMARY:DISTRICT B&S Meeting Q2
DESCRIPTION:
URL:https://web2.d11s.org/event/district-bs-meeting-q2-2/
END:VEVENT
BEGIN:VEVENT
DTSTART;TZID=America/Los_Angeles:20230606T173000
DTEND;TZID=America/Los_Angeles:20230606T193000
DTSTAMP:20260425T073005
CREATED:20230606T224755Z
LAST-MODIFIED:20230606T224755Z
UID:10000140-1686072600-1686079800@web2.d11s.org
SUMMARY:West Coast Regional HF Radio Net
DESCRIPTION:The weekly HF Radio Net begins at 1830 hrs. Tuesdays on B5D. A concurrent virtual session starts around 1730 on  and provides an opportunity to meet net members\, get experience\, or get assistance with radio problems.\nMembers display their name and callsign. Guests display their name and guest.
URL:https://web2.d11s.org/event/west-coast-regional-hf-radio-net/2023-06-06/
ORGANIZER;CN="District 11":MAILTO:crosario.uscgaux@gmail.com
END:VEVENT
BEGIN:VEVENT
DTSTART;TZID=America/Los_Angeles:20230606T193000
DTEND;TZID=America/Los_Angeles:20230606T203000
DTSTAMP:20260425T073005
CREATED:20230606T231511Z
LAST-MODIFIED:20230607T183825Z
UID:10000402-1686079800-1686083400@web2.d11s.org
SUMMARY:District 11 South VHF AUXNET
DESCRIPTION:The District 11 Sothern Region weekly VHF AUXNET starts at 1930hrs. each Tuesday on the Yankee Sierra Repeater. This net provides an opportunity for members to get experience talking on the radio and ensure their equipment is functioning properly.\nIt also provides the district with a list of known operating radio stations and operator for emergency and contingency communications.
URL:https://web2.d11s.org/event/district-11-south-vhf-auxnet/2023-06-06/
END:VEVENT
BEGIN:VEVENT
DTSTART;VALUE=DATE:20230610
DTEND;VALUE=DATE:20230611
DTSTAMP:20260425T073005
CREATED:20230605T192151Z
LAST-MODIFIED:20230605T192151Z
UID:10000135-1686355200-1686441599@web2.d11s.org
SUMMARY:Boat America PE Class
DESCRIPTION:Boat America 0830AM\nSaturday\, June 10\nPort San Luis\nPort San Luis\, California 93405\, USA\nTaught by Flotilla 7-61Dave Naumann\, Mike Fiamingo (Trainee)\, Donna Banks
URL:https://web2.d11s.org/event/boat-america-pe-class/
ATTACH;FMTTYPE=image/jpeg:https://web2.d11s.org/wp-content/uploads/2023/06/Boat_America.jpg
END:VEVENT
BEGIN:VEVENT
DTSTART;TZID=America/Los_Angeles:20230611T170000
DTEND;TZID=America/Los_Angeles:20230611T170000
DTSTAMP:20260425T073005
CREATED:20230509T103352Z
LAST-MODIFIED:20230509T103352Z
UID:10000091-1686502800-1686502800@web2.d11s.org
SUMMARY:June Meeting - DIV 07
DESCRIPTION:
URL:https://web2.d11s.org/event/june-meeting-div-07/
END:VEVENT
BEGIN:VEVENT
DTSTART;TZID=America/Los_Angeles:20230613T173000
DTEND;TZID=America/Los_Angeles:20230613T193000
DTSTAMP:20260425T073005
CREATED:20230606T224755Z
LAST-MODIFIED:20230606T224755Z
UID:10000141-1686677400-1686684600@web2.d11s.org
SUMMARY:West Coast Regional HF Radio Net
DESCRIPTION:The weekly HF Radio Net begins at 1830 hrs. Tuesdays on B5D. A concurrent virtual session starts around 1730 on  and provides an opportunity to meet net members\, get experience\, or get assistance with radio problems.\nMembers display their name and callsign. Guests display their name and guest.
URL:https://web2.d11s.org/event/west-coast-regional-hf-radio-net/2023-06-13/
ORGANIZER;CN="District 11":MAILTO:crosario.uscgaux@gmail.com
END:VEVENT
BEGIN:VEVENT
DTSTART;TZID=America/Los_Angeles:20230613T193000
DTEND;TZID=America/Los_Angeles:20230613T203000
DTSTAMP:20260425T073005
CREATED:20230606T231511Z
LAST-MODIFIED:20230607T183825Z
UID:10000403-1686684600-1686688200@web2.d11s.org
SUMMARY:District 11 South VHF AUXNET
DESCRIPTION:The District 11 Sothern Region weekly VHF AUXNET starts at 1930hrs. each Tuesday on the Yankee Sierra Repeater. This net provides an opportunity for members to get experience talking on the radio and ensure their equipment is functioning properly.\nIt also provides the district with a list of known operating radio stations and operator for emergency and contingency communications.
URL:https://web2.d11s.org/event/district-11-south-vhf-auxnet/2023-06-13/
END:VEVENT
BEGIN:VEVENT
DTSTART;TZID=America/Los_Angeles:20230614T170000
DTEND;TZID=America/Los_Angeles:20230614T170000
DTSTAMP:20260425T073005
CREATED:20230509T103403Z
LAST-MODIFIED:20230509T103403Z
UID:10000093-1686762000-1686762000@web2.d11s.org
SUMMARY:Pac Area Meeting
DESCRIPTION:
URL:https://web2.d11s.org/event/pac-area-meeting-6/
END:VEVENT
BEGIN:VEVENT
DTSTART;TZID=America/Los_Angeles:20230614T170000
DTEND;TZID=America/Los_Angeles:20230614T170000
DTSTAMP:20260425T073005
CREATED:20230509T103402Z
LAST-MODIFIED:20230509T103402Z
UID:10000092-1686762000-1686762000@web2.d11s.org
SUMMARY:June Meeting - DIV 04
DESCRIPTION:
URL:https://web2.d11s.org/event/june-meeting-div-04/
END:VEVENT
BEGIN:VEVENT
DTSTART;TZID=America/Los_Angeles:20230615T000000
DTEND;TZID=America/Los_Angeles:20230615T000000
DTSTAMP:20260425T073005
CREATED:20230613T203850Z
LAST-MODIFIED:20230613T203850Z
UID:10000667-1686787200-1686787200@web2.d11s.org
SUMMARY:Pac Area Meeting
DESCRIPTION:
URL:https://web2.d11s.org/event/pac-area-meeting-9/
END:VEVENT
BEGIN:VEVENT
DTSTART;TZID=America/Los_Angeles:20230615T000000
DTEND;TZID=America/Los_Angeles:20230615T000000
DTSTAMP:20260425T073005
CREATED:20230613T203849Z
LAST-MODIFIED:20230613T203849Z
UID:10000666-1686787200-1686787200@web2.d11s.org
SUMMARY:June Meeting - DIV 04
DESCRIPTION:
URL:https://web2.d11s.org/event/june-meeting-div-04-2/
END:VEVENT
BEGIN:VEVENT
DTSTART;TZID=America/Los_Angeles:20230615T170000
DTEND;TZID=America/Los_Angeles:20230615T170000
DTSTAMP:20260425T073005
CREATED:20230509T103403Z
LAST-MODIFIED:20230509T103403Z
UID:10000094-1686848400-1686848400@web2.d11s.org
SUMMARY:June Meeting - DIV 10
DESCRIPTION:
URL:https://web2.d11s.org/event/june-meeting-div-10/
END:VEVENT
BEGIN:VEVENT
DTSTART;TZID=America/Los_Angeles:20230616T000000
DTEND;TZID=America/Los_Angeles:20230616T000000
DTSTAMP:20260425T073005
CREATED:20230613T203850Z
LAST-MODIFIED:20230613T203850Z
UID:10000668-1686873600-1686873600@web2.d11s.org
SUMMARY:June Meeting - DIV 10
DESCRIPTION:
URL:https://web2.d11s.org/event/june-meeting-div-10-2/
END:VEVENT
BEGIN:VEVENT
DTSTART;TZID=America/Los_Angeles:20230616T170000
DTEND;TZID=America/Los_Angeles:20230616T170000
DTSTAMP:20260425T073005
CREATED:20230509T103404Z
LAST-MODIFIED:20230509T103404Z
UID:10000095-1686934800-1686934800@web2.d11s.org
SUMMARY:June Meeting - DIV 09
DESCRIPTION:
URL:https://web2.d11s.org/event/june-meeting-div-09/
END:VEVENT
BEGIN:VEVENT
DTSTART;TZID=America/Los_Angeles:20230617T000000
DTEND;TZID=America/Los_Angeles:20230617T000000
DTSTAMP:20260425T073005
CREATED:20230613T203851Z
LAST-MODIFIED:20230613T203851Z
UID:10000669-1686960000-1686960000@web2.d11s.org
SUMMARY:June Meeting - DIV 09
DESCRIPTION:
URL:https://web2.d11s.org/event/june-meeting-div-09-2/
END:VEVENT
END:VCALENDAR