BEGIN:VCALENDAR
VERSION:2.0
PRODID:-//US Coast Guard Auxiliary-D11S - ECPv6.15.20//NONSGML v1.0//EN
CALSCALE:GREGORIAN
METHOD:PUBLISH
X-ORIGINAL-URL:https://web2.d11s.org
X-WR-CALDESC:Events for US Coast Guard Auxiliary-D11S
REFRESH-INTERVAL;VALUE=DURATION:PT1H
X-Robots-Tag:noindex
X-PUBLISHED-TTL:PT1H
BEGIN:VTIMEZONE
TZID:America/Los_Angeles
BEGIN:DAYLIGHT
TZOFFSETFROM:-0800
TZOFFSETTO:-0700
TZNAME:PDT
DTSTART:20250309T100000
END:DAYLIGHT
BEGIN:STANDARD
TZOFFSETFROM:-0700
TZOFFSETTO:-0800
TZNAME:PST
DTSTART:20251102T090000
END:STANDARD
BEGIN:DAYLIGHT
TZOFFSETFROM:-0800
TZOFFSETTO:-0700
TZNAME:PDT
DTSTART:20260308T100000
END:DAYLIGHT
BEGIN:STANDARD
TZOFFSETFROM:-0700
TZOFFSETTO:-0800
TZNAME:PST
DTSTART:20261101T090000
END:STANDARD
BEGIN:DAYLIGHT
TZOFFSETFROM:-0800
TZOFFSETTO:-0700
TZNAME:PDT
DTSTART:20270314T100000
END:DAYLIGHT
BEGIN:STANDARD
TZOFFSETFROM:-0700
TZOFFSETTO:-0800
TZNAME:PST
DTSTART:20271107T090000
END:STANDARD
END:VTIMEZONE
BEGIN:VEVENT
DTSTART;TZID=America/Los_Angeles:20260423T174500
DTEND;TZID=America/Los_Angeles:20260423T200000
DTSTAMP:20260423T091534
CREATED:20260408T023457Z
LAST-MODIFIED:20260408T023632Z
UID:10002098-1776966300-1776974400@web2.d11s.org
SUMMARY:2026 RM/TCT
DESCRIPTION:2026 Risk Management/TCT Course \nTo register\, please contact Robert McKoy @ robertpmckoy@aol.com
URL:https://web2.d11s.org/event/rm-tct/2026-04-23/
LOCATION:Virtual Event
CATEGORIES:Member Training
ORGANIZER;CN="District 11":MAILTO:crosario.uscgaux@gmail.com
END:VEVENT
BEGIN:VEVENT
DTSTART;TZID=America/Los_Angeles:20260423T180000
DTEND;TZID=America/Los_Angeles:20260423T200000
DTSTAMP:20260423T091534
CREATED:20230929T185712Z
LAST-MODIFIED:20230929T185712Z
UID:10001091-1776967200-1776974400@web2.d11s.org
SUMMARY:Flotilla 1-10 meeting
DESCRIPTION:We meet every 4th Thursday at 1800. There will be no meeting in November and December. Contact FC for location.
URL:https://web2.d11s.org/event/flotilla-1-10-meeting/2026-04-23/
END:VEVENT
BEGIN:VEVENT
DTSTART;TZID=America/Los_Angeles:20260423T180000
DTEND;TZID=America/Los_Angeles:20260423T200000
DTSTAMP:20260423T091534
CREATED:20241106T164830Z
LAST-MODIFIED:20241106T164830Z
UID:10001604-1776967200-1776974400@web2.d11s.org
SUMMARY:Flotilla 01-04 Meeting
DESCRIPTION:We meet the 4th Thursday at 1800 hours.  Silvergate Yacht Club.  There will be no meeting in November and December.
URL:https://web2.d11s.org/event/flotilla-01-04-meeting/2026-04-23/
END:VEVENT
BEGIN:VEVENT
DTSTART;TZID=America/Los_Angeles:20260425T080000
DTEND;TZID=America/Los_Angeles:20260425T170000
DTSTAMP:20260423T091534
CREATED:20260409T200824Z
LAST-MODIFIED:20260409T221819Z
UID:10002165-1777104000-1777136400@web2.d11s.org
SUMMARY:Div 07 Flotilla 7-61 Boat America – Avila Beach
DESCRIPTION:Div 07 Flotilla 7-61 Boat America – Avila Beach\nSaturday\, April 25\nCoastal Gateway classroom in Avila Beach.
URL:https://web2.d11s.org/event/div-07-flotilla-7-61-boat-america-avila-beach/
CATEGORIES:Special Event
ATTACH;FMTTYPE=image/jpeg:https://web2.d11s.org/wp-content/uploads/2026/04/US-Coast-Guard-Auxiliary-logo-1.jpeg
END:VEVENT
BEGIN:VEVENT
DTSTART;TZID=America/Los_Angeles:20260425T090000
DTEND;TZID=America/Los_Angeles:20260426T170000
DTSTAMP:20260423T091534
CREATED:20260409T200635Z
LAST-MODIFIED:20260409T214649Z
UID:10002164-1777107600-1777222800@web2.d11s.org
SUMMARY:Div 04 Home & Garden Show
DESCRIPTION:Div 04 Home & Garden Show\nApril 25 – 26\, 2026\nSanta Clarita\nSanta Clarita\, CA\, USA\nDivision 04 The Santa Clarita KHTS Home & Garden Show which will be held on 25 – 26 APR 2026 at Central Park in Santa Clarita. Wayne Salleng is the POC.
URL:https://web2.d11s.org/event/div-04-home-garden-show/
CATEGORIES:Special Event
ATTACH;FMTTYPE=image/png:https://web2.d11s.org/wp-content/uploads/2026/04/nsbc-wear-it-logo-transparent-12.png
END:VEVENT
BEGIN:VEVENT
DTSTART;TZID=America/Los_Angeles:20260427T190000
DTEND;TZID=America/Los_Angeles:20260427T210000
DTSTAMP:20260423T091534
CREATED:20240306T183821Z
LAST-MODIFIED:20240306T183821Z
UID:10001494-1777316400-1777323600@web2.d11s.org
SUMMARY:Division 6 Meeting
DESCRIPTION:Division 6 Monthly Meeting – Orange City Hall
URL:https://web2.d11s.org/event/division-6-meeting/2026-04-27/
END:VEVENT
BEGIN:VEVENT
DTSTART;TZID=America/Los_Angeles:20260428T173000
DTEND;TZID=America/Los_Angeles:20260428T193000
DTSTAMP:20260423T091534
CREATED:20230606T224755Z
LAST-MODIFIED:20230606T224755Z
UID:10000291-1777397400-1777404600@web2.d11s.org
SUMMARY:West Coast Regional HF Radio Net
DESCRIPTION:The weekly HF Radio Net begins at 1830 hrs. Tuesdays on B5D. A concurrent virtual session starts around 1730 on  and provides an opportunity to meet net members\, get experience\, or get assistance with radio problems.\nMembers display their name and callsign. Guests display their name and guest.
URL:https://web2.d11s.org/event/west-coast-regional-hf-radio-net/2026-04-28/
ORGANIZER;CN="District 11":MAILTO:crosario.uscgaux@gmail.com
END:VEVENT
BEGIN:VEVENT
DTSTART;TZID=America/Los_Angeles:20260428T193000
DTEND;TZID=America/Los_Angeles:20260428T203000
DTSTAMP:20260423T091534
CREATED:20230606T231511Z
LAST-MODIFIED:20230607T183825Z
UID:10000553-1777404600-1777408200@web2.d11s.org
SUMMARY:District 11 South VHF AUXNET
DESCRIPTION:The District 11 Sothern Region weekly VHF AUXNET starts at 1930hrs. each Tuesday on the Yankee Sierra Repeater. This net provides an opportunity for members to get experience talking on the radio and ensure their equipment is functioning properly.\nIt also provides the district with a list of known operating radio stations and operator for emergency and contingency communications.
URL:https://web2.d11s.org/event/district-11-south-vhf-auxnet/2026-04-28/
END:VEVENT
BEGIN:VEVENT
DTSTART;TZID=America/Los_Angeles:20260429T180000
DTEND;TZID=America/Los_Angeles:20260429T200000
DTSTAMP:20260423T091534
CREATED:20231019T180854Z
LAST-MODIFIED:20231019T180854Z
UID:10001152-1777485600-1777492800@web2.d11s.org
SUMMARY:Flotilla 96 Meeting
DESCRIPTION:Flotilla 114-09-06 Las Vegas Monthly Meeting
URL:https://web2.d11s.org/event/flotilla-96-meeting/2026-04-29/
LOCATION:In Person
CATEGORIES:Member Training,Unit Meeting
END:VEVENT
BEGIN:VEVENT
DTSTART;TZID=America/Los_Angeles:20260429T193000
DTEND;TZID=America/Los_Angeles:20260429T200000
DTSTAMP:20260423T091534
CREATED:20230706T014325Z
LAST-MODIFIED:20230706T014325Z
UID:10000906-1777491000-1777492800@web2.d11s.org
SUMMARY:Sector San Diego VHF Net
DESCRIPTION:Weekly SDG Sector VHF net on YSD repeater  Wendesday’s at 1930 PST/PDT – unless preempted by federal holiday.
URL:https://web2.d11s.org/event/sector-san-diego-vhf-net/2026-04-29/
END:VEVENT
END:VCALENDAR