BEGIN:VCALENDAR
VERSION:2.0
PRODID:-//US Coast Guard Auxiliary-D11S - ECPv6.15.20//NONSGML v1.0//EN
CALSCALE:GREGORIAN
METHOD:PUBLISH
X-WR-CALNAME:US Coast Guard Auxiliary-D11S
X-ORIGINAL-URL:https://web2.d11s.org
X-WR-CALDESC:Events for US Coast Guard Auxiliary-D11S
REFRESH-INTERVAL;VALUE=DURATION:PT1H
X-Robots-Tag:noindex
X-PUBLISHED-TTL:PT1H
BEGIN:VTIMEZONE
TZID:America/Los_Angeles
BEGIN:DAYLIGHT
TZOFFSETFROM:-0800
TZOFFSETTO:-0700
TZNAME:PDT
DTSTART:20250309T100000
END:DAYLIGHT
BEGIN:STANDARD
TZOFFSETFROM:-0700
TZOFFSETTO:-0800
TZNAME:PST
DTSTART:20251102T090000
END:STANDARD
BEGIN:DAYLIGHT
TZOFFSETFROM:-0800
TZOFFSETTO:-0700
TZNAME:PDT
DTSTART:20260308T100000
END:DAYLIGHT
BEGIN:STANDARD
TZOFFSETFROM:-0700
TZOFFSETTO:-0800
TZNAME:PST
DTSTART:20261101T090000
END:STANDARD
BEGIN:DAYLIGHT
TZOFFSETFROM:-0800
TZOFFSETTO:-0700
TZNAME:PDT
DTSTART:20270314T100000
END:DAYLIGHT
BEGIN:STANDARD
TZOFFSETFROM:-0700
TZOFFSETTO:-0800
TZNAME:PST
DTSTART:20271107T090000
END:STANDARD
BEGIN:DAYLIGHT
TZOFFSETFROM:-0800
TZOFFSETTO:-0700
TZNAME:PDT
DTSTART:20280312T100000
END:DAYLIGHT
BEGIN:STANDARD
TZOFFSETFROM:-0700
TZOFFSETTO:-0800
TZNAME:PST
DTSTART:20281105T090000
END:STANDARD
BEGIN:DAYLIGHT
TZOFFSETFROM:-0800
TZOFFSETTO:-0700
TZNAME:PDT
DTSTART:20290311T100000
END:DAYLIGHT
BEGIN:STANDARD
TZOFFSETFROM:-0700
TZOFFSETTO:-0800
TZNAME:PST
DTSTART:20291104T090000
END:STANDARD
END:VTIMEZONE
BEGIN:VEVENT
DTSTART;TZID=America/Los_Angeles:20260423T180000
DTEND;TZID=America/Los_Angeles:20260423T200000
DTSTAMP:20260423T074333
CREATED:20241106T164830Z
LAST-MODIFIED:20241106T164830Z
UID:10001604-1776967200-1776974400@web2.d11s.org
SUMMARY:Flotilla 01-04 Meeting
DESCRIPTION:We meet the 4th Thursday at 1800 hours.  Silvergate Yacht Club.  There will be no meeting in November and December.
URL:https://web2.d11s.org/event/flotilla-01-04-meeting/2026-04-23/
END:VEVENT
BEGIN:VEVENT
DTSTART;TZID=America/Los_Angeles:20260528T180000
DTEND;TZID=America/Los_Angeles:20260528T200000
DTSTAMP:20260423T074333
CREATED:20241106T164830Z
LAST-MODIFIED:20241106T164830Z
UID:10001605-1779991200-1779998400@web2.d11s.org
SUMMARY:Flotilla 01-04 Meeting
DESCRIPTION:We meet the 4th Thursday at 1800 hours.  Silvergate Yacht Club.  There will be no meeting in November and December.
URL:https://web2.d11s.org/event/flotilla-01-04-meeting/2026-05-28/
END:VEVENT
BEGIN:VEVENT
DTSTART;TZID=America/Los_Angeles:20260625T180000
DTEND;TZID=America/Los_Angeles:20260625T200000
DTSTAMP:20260423T074333
CREATED:20241106T164830Z
LAST-MODIFIED:20241106T164830Z
UID:10001606-1782410400-1782417600@web2.d11s.org
SUMMARY:Flotilla 01-04 Meeting
DESCRIPTION:We meet the 4th Thursday at 1800 hours.  Silvergate Yacht Club.  There will be no meeting in November and December.
URL:https://web2.d11s.org/event/flotilla-01-04-meeting/2026-06-25/
END:VEVENT
BEGIN:VEVENT
DTSTART;TZID=America/Los_Angeles:20260723T180000
DTEND;TZID=America/Los_Angeles:20260723T200000
DTSTAMP:20260423T074333
CREATED:20241106T164830Z
LAST-MODIFIED:20241106T164830Z
UID:10001607-1784829600-1784836800@web2.d11s.org
SUMMARY:Flotilla 01-04 Meeting
DESCRIPTION:We meet the 4th Thursday at 1800 hours.  Silvergate Yacht Club.  There will be no meeting in November and December.
URL:https://web2.d11s.org/event/flotilla-01-04-meeting/2026-07-23/
END:VEVENT
BEGIN:VEVENT
DTSTART;TZID=America/Los_Angeles:20260827T180000
DTEND;TZID=America/Los_Angeles:20260827T200000
DTSTAMP:20260423T074333
CREATED:20241106T164830Z
LAST-MODIFIED:20241106T164830Z
UID:10001608-1787853600-1787860800@web2.d11s.org
SUMMARY:Flotilla 01-04 Meeting
DESCRIPTION:We meet the 4th Thursday at 1800 hours.  Silvergate Yacht Club.  There will be no meeting in November and December.
URL:https://web2.d11s.org/event/flotilla-01-04-meeting/2026-08-27/
END:VEVENT
BEGIN:VEVENT
DTSTART;TZID=America/Los_Angeles:20260924T180000
DTEND;TZID=America/Los_Angeles:20260924T200000
DTSTAMP:20260423T074333
CREATED:20241106T164830Z
LAST-MODIFIED:20241106T164830Z
UID:10001609-1790272800-1790280000@web2.d11s.org
SUMMARY:Flotilla 01-04 Meeting
DESCRIPTION:We meet the 4th Thursday at 1800 hours.  Silvergate Yacht Club.  There will be no meeting in November and December.
URL:https://web2.d11s.org/event/flotilla-01-04-meeting/2026-09-24/
END:VEVENT
BEGIN:VEVENT
DTSTART;TZID=America/Los_Angeles:20261022T180000
DTEND;TZID=America/Los_Angeles:20261022T200000
DTSTAMP:20260423T074333
CREATED:20241106T164830Z
LAST-MODIFIED:20241106T164830Z
UID:10001610-1792692000-1792699200@web2.d11s.org
SUMMARY:Flotilla 01-04 Meeting
DESCRIPTION:We meet the 4th Thursday at 1800 hours.  Silvergate Yacht Club.  There will be no meeting in November and December.
URL:https://web2.d11s.org/event/flotilla-01-04-meeting/2026-10-22/
END:VEVENT
BEGIN:VEVENT
DTSTART;TZID=America/Los_Angeles:20261126T180000
DTEND;TZID=America/Los_Angeles:20261126T200000
DTSTAMP:20260423T074333
CREATED:20241106T164830Z
LAST-MODIFIED:20241106T164830Z
UID:10001611-1795716000-1795723200@web2.d11s.org
SUMMARY:Flotilla 01-04 Meeting
DESCRIPTION:We meet the 4th Thursday at 1800 hours.  Silvergate Yacht Club.  There will be no meeting in November and December.
URL:https://web2.d11s.org/event/flotilla-01-04-meeting/2026-11-26/
END:VEVENT
BEGIN:VEVENT
DTSTART;TZID=America/Los_Angeles:20261224T180000
DTEND;TZID=America/Los_Angeles:20261224T200000
DTSTAMP:20260423T074333
CREATED:20241106T164830Z
LAST-MODIFIED:20241106T164830Z
UID:10001612-1798135200-1798142400@web2.d11s.org
SUMMARY:Flotilla 01-04 Meeting
DESCRIPTION:We meet the 4th Thursday at 1800 hours.  Silvergate Yacht Club.  There will be no meeting in November and December.
URL:https://web2.d11s.org/event/flotilla-01-04-meeting/2026-12-24/
END:VEVENT
BEGIN:VEVENT
DTSTART;TZID=America/Los_Angeles:20270128T180000
DTEND;TZID=America/Los_Angeles:20270128T200000
DTSTAMP:20260423T074333
CREATED:20241106T164830Z
LAST-MODIFIED:20241106T164830Z
UID:10001613-1801159200-1801166400@web2.d11s.org
SUMMARY:Flotilla 01-04 Meeting
DESCRIPTION:We meet the 4th Thursday at 1800 hours.  Silvergate Yacht Club.  There will be no meeting in November and December.
URL:https://web2.d11s.org/event/flotilla-01-04-meeting/2027-01-28/
END:VEVENT
BEGIN:VEVENT
DTSTART;TZID=America/Los_Angeles:20270225T180000
DTEND;TZID=America/Los_Angeles:20270225T200000
DTSTAMP:20260423T074333
CREATED:20241106T164830Z
LAST-MODIFIED:20241106T164830Z
UID:10001614-1803578400-1803585600@web2.d11s.org
SUMMARY:Flotilla 01-04 Meeting
DESCRIPTION:We meet the 4th Thursday at 1800 hours.  Silvergate Yacht Club.  There will be no meeting in November and December.
URL:https://web2.d11s.org/event/flotilla-01-04-meeting/2027-02-25/
END:VEVENT
BEGIN:VEVENT
DTSTART;TZID=America/Los_Angeles:20270325T180000
DTEND;TZID=America/Los_Angeles:20270325T200000
DTSTAMP:20260423T074333
CREATED:20241106T164830Z
LAST-MODIFIED:20241106T164830Z
UID:10001615-1805997600-1806004800@web2.d11s.org
SUMMARY:Flotilla 01-04 Meeting
DESCRIPTION:We meet the 4th Thursday at 1800 hours.  Silvergate Yacht Club.  There will be no meeting in November and December.
URL:https://web2.d11s.org/event/flotilla-01-04-meeting/2027-03-25/
END:VEVENT
BEGIN:VEVENT
DTSTART;TZID=America/Los_Angeles:20270422T180000
DTEND;TZID=America/Los_Angeles:20270422T200000
DTSTAMP:20260423T074333
CREATED:20241106T164830Z
LAST-MODIFIED:20241106T164830Z
UID:10001616-1808416800-1808424000@web2.d11s.org
SUMMARY:Flotilla 01-04 Meeting
DESCRIPTION:We meet the 4th Thursday at 1800 hours.  Silvergate Yacht Club.  There will be no meeting in November and December.
URL:https://web2.d11s.org/event/flotilla-01-04-meeting/2027-04-22/
END:VEVENT
BEGIN:VEVENT
DTSTART;TZID=America/Los_Angeles:20270527T180000
DTEND;TZID=America/Los_Angeles:20270527T200000
DTSTAMP:20260423T074333
CREATED:20241106T164830Z
LAST-MODIFIED:20241106T164830Z
UID:10001617-1811440800-1811448000@web2.d11s.org
SUMMARY:Flotilla 01-04 Meeting
DESCRIPTION:We meet the 4th Thursday at 1800 hours.  Silvergate Yacht Club.  There will be no meeting in November and December.
URL:https://web2.d11s.org/event/flotilla-01-04-meeting/2027-05-27/
END:VEVENT
BEGIN:VEVENT
DTSTART;TZID=America/Los_Angeles:20270624T180000
DTEND;TZID=America/Los_Angeles:20270624T200000
DTSTAMP:20260423T074333
CREATED:20241106T164830Z
LAST-MODIFIED:20241106T164830Z
UID:10001618-1813860000-1813867200@web2.d11s.org
SUMMARY:Flotilla 01-04 Meeting
DESCRIPTION:We meet the 4th Thursday at 1800 hours.  Silvergate Yacht Club.  There will be no meeting in November and December.
URL:https://web2.d11s.org/event/flotilla-01-04-meeting/2027-06-24/
END:VEVENT
BEGIN:VEVENT
DTSTART;TZID=America/Los_Angeles:20270722T180000
DTEND;TZID=America/Los_Angeles:20270722T200000
DTSTAMP:20260423T074333
CREATED:20241106T164830Z
LAST-MODIFIED:20241106T164830Z
UID:10001619-1816279200-1816286400@web2.d11s.org
SUMMARY:Flotilla 01-04 Meeting
DESCRIPTION:We meet the 4th Thursday at 1800 hours.  Silvergate Yacht Club.  There will be no meeting in November and December.
URL:https://web2.d11s.org/event/flotilla-01-04-meeting/2027-07-22/
END:VEVENT
BEGIN:VEVENT
DTSTART;TZID=America/Los_Angeles:20270826T180000
DTEND;TZID=America/Los_Angeles:20270826T200000
DTSTAMP:20260423T074333
CREATED:20241106T164830Z
LAST-MODIFIED:20241106T164830Z
UID:10001620-1819303200-1819310400@web2.d11s.org
SUMMARY:Flotilla 01-04 Meeting
DESCRIPTION:We meet the 4th Thursday at 1800 hours.  Silvergate Yacht Club.  There will be no meeting in November and December.
URL:https://web2.d11s.org/event/flotilla-01-04-meeting/2027-08-26/
END:VEVENT
BEGIN:VEVENT
DTSTART;TZID=America/Los_Angeles:20270923T180000
DTEND;TZID=America/Los_Angeles:20270923T200000
DTSTAMP:20260423T074333
CREATED:20241106T164830Z
LAST-MODIFIED:20241106T164830Z
UID:10001621-1821722400-1821729600@web2.d11s.org
SUMMARY:Flotilla 01-04 Meeting
DESCRIPTION:We meet the 4th Thursday at 1800 hours.  Silvergate Yacht Club.  There will be no meeting in November and December.
URL:https://web2.d11s.org/event/flotilla-01-04-meeting/2027-09-23/
END:VEVENT
BEGIN:VEVENT
DTSTART;TZID=America/Los_Angeles:20271028T180000
DTEND;TZID=America/Los_Angeles:20271028T200000
DTSTAMP:20260423T074333
CREATED:20241106T164830Z
LAST-MODIFIED:20241106T164830Z
UID:10001622-1824746400-1824753600@web2.d11s.org
SUMMARY:Flotilla 01-04 Meeting
DESCRIPTION:We meet the 4th Thursday at 1800 hours.  Silvergate Yacht Club.  There will be no meeting in November and December.
URL:https://web2.d11s.org/event/flotilla-01-04-meeting/2027-10-28/
END:VEVENT
BEGIN:VEVENT
DTSTART;TZID=America/Los_Angeles:20271125T180000
DTEND;TZID=America/Los_Angeles:20271125T200000
DTSTAMP:20260423T074333
CREATED:20241106T164830Z
LAST-MODIFIED:20241106T164830Z
UID:10001623-1827165600-1827172800@web2.d11s.org
SUMMARY:Flotilla 01-04 Meeting
DESCRIPTION:We meet the 4th Thursday at 1800 hours.  Silvergate Yacht Club.  There will be no meeting in November and December.
URL:https://web2.d11s.org/event/flotilla-01-04-meeting/2027-11-25/
END:VEVENT
BEGIN:VEVENT
DTSTART;TZID=America/Los_Angeles:20271223T180000
DTEND;TZID=America/Los_Angeles:20271223T200000
DTSTAMP:20260423T074333
CREATED:20241106T164830Z
LAST-MODIFIED:20241106T164830Z
UID:10001624-1829584800-1829592000@web2.d11s.org
SUMMARY:Flotilla 01-04 Meeting
DESCRIPTION:We meet the 4th Thursday at 1800 hours.  Silvergate Yacht Club.  There will be no meeting in November and December.
URL:https://web2.d11s.org/event/flotilla-01-04-meeting/2027-12-23/
END:VEVENT
BEGIN:VEVENT
DTSTART;TZID=America/Los_Angeles:20280127T180000
DTEND;TZID=America/Los_Angeles:20280127T200000
DTSTAMP:20260423T074333
CREATED:20241106T164830Z
LAST-MODIFIED:20241106T164830Z
UID:10001625-1832608800-1832616000@web2.d11s.org
SUMMARY:Flotilla 01-04 Meeting
DESCRIPTION:We meet the 4th Thursday at 1800 hours.  Silvergate Yacht Club.  There will be no meeting in November and December.
URL:https://web2.d11s.org/event/flotilla-01-04-meeting/2028-01-27/
END:VEVENT
BEGIN:VEVENT
DTSTART;TZID=America/Los_Angeles:20280224T180000
DTEND;TZID=America/Los_Angeles:20280224T200000
DTSTAMP:20260423T074333
CREATED:20241106T164830Z
LAST-MODIFIED:20241106T164830Z
UID:10001626-1835028000-1835035200@web2.d11s.org
SUMMARY:Flotilla 01-04 Meeting
DESCRIPTION:We meet the 4th Thursday at 1800 hours.  Silvergate Yacht Club.  There will be no meeting in November and December.
URL:https://web2.d11s.org/event/flotilla-01-04-meeting/2028-02-24/
END:VEVENT
BEGIN:VEVENT
DTSTART;TZID=America/Los_Angeles:20280323T180000
DTEND;TZID=America/Los_Angeles:20280323T200000
DTSTAMP:20260423T074333
CREATED:20241106T164830Z
LAST-MODIFIED:20241106T164830Z
UID:10001627-1837447200-1837454400@web2.d11s.org
SUMMARY:Flotilla 01-04 Meeting
DESCRIPTION:We meet the 4th Thursday at 1800 hours.  Silvergate Yacht Club.  There will be no meeting in November and December.
URL:https://web2.d11s.org/event/flotilla-01-04-meeting/2028-03-23/
END:VEVENT
BEGIN:VEVENT
DTSTART;TZID=America/Los_Angeles:20280427T180000
DTEND;TZID=America/Los_Angeles:20280427T200000
DTSTAMP:20260423T074333
CREATED:20241106T164830Z
LAST-MODIFIED:20241106T164830Z
UID:10001628-1840471200-1840478400@web2.d11s.org
SUMMARY:Flotilla 01-04 Meeting
DESCRIPTION:We meet the 4th Thursday at 1800 hours.  Silvergate Yacht Club.  There will be no meeting in November and December.
URL:https://web2.d11s.org/event/flotilla-01-04-meeting/2028-04-27/
END:VEVENT
BEGIN:VEVENT
DTSTART;TZID=America/Los_Angeles:20280525T180000
DTEND;TZID=America/Los_Angeles:20280525T200000
DTSTAMP:20260423T074333
CREATED:20241106T164830Z
LAST-MODIFIED:20241106T164830Z
UID:10001629-1842890400-1842897600@web2.d11s.org
SUMMARY:Flotilla 01-04 Meeting
DESCRIPTION:We meet the 4th Thursday at 1800 hours.  Silvergate Yacht Club.  There will be no meeting in November and December.
URL:https://web2.d11s.org/event/flotilla-01-04-meeting/2028-05-25/
END:VEVENT
BEGIN:VEVENT
DTSTART;TZID=America/Los_Angeles:20280622T180000
DTEND;TZID=America/Los_Angeles:20280622T200000
DTSTAMP:20260423T074333
CREATED:20241106T164830Z
LAST-MODIFIED:20241106T164830Z
UID:10001630-1845309600-1845316800@web2.d11s.org
SUMMARY:Flotilla 01-04 Meeting
DESCRIPTION:We meet the 4th Thursday at 1800 hours.  Silvergate Yacht Club.  There will be no meeting in November and December.
URL:https://web2.d11s.org/event/flotilla-01-04-meeting/2028-06-22/
END:VEVENT
BEGIN:VEVENT
DTSTART;TZID=America/Los_Angeles:20280727T180000
DTEND;TZID=America/Los_Angeles:20280727T200000
DTSTAMP:20260423T074333
CREATED:20241106T164830Z
LAST-MODIFIED:20241106T164830Z
UID:10001631-1848333600-1848340800@web2.d11s.org
SUMMARY:Flotilla 01-04 Meeting
DESCRIPTION:We meet the 4th Thursday at 1800 hours.  Silvergate Yacht Club.  There will be no meeting in November and December.
URL:https://web2.d11s.org/event/flotilla-01-04-meeting/2028-07-27/
END:VEVENT
BEGIN:VEVENT
DTSTART;TZID=America/Los_Angeles:20280824T180000
DTEND;TZID=America/Los_Angeles:20280824T200000
DTSTAMP:20260423T074333
CREATED:20241106T164830Z
LAST-MODIFIED:20241106T164830Z
UID:10001632-1850752800-1850760000@web2.d11s.org
SUMMARY:Flotilla 01-04 Meeting
DESCRIPTION:We meet the 4th Thursday at 1800 hours.  Silvergate Yacht Club.  There will be no meeting in November and December.
URL:https://web2.d11s.org/event/flotilla-01-04-meeting/2028-08-24/
END:VEVENT
BEGIN:VEVENT
DTSTART;TZID=America/Los_Angeles:20280928T180000
DTEND;TZID=America/Los_Angeles:20280928T200000
DTSTAMP:20260423T074333
CREATED:20241106T164830Z
LAST-MODIFIED:20241106T164830Z
UID:10001633-1853776800-1853784000@web2.d11s.org
SUMMARY:Flotilla 01-04 Meeting
DESCRIPTION:We meet the 4th Thursday at 1800 hours.  Silvergate Yacht Club.  There will be no meeting in November and December.
URL:https://web2.d11s.org/event/flotilla-01-04-meeting/2028-09-28/
END:VEVENT
END:VCALENDAR