BEGIN:VCALENDAR
VERSION:2.0
PRODID:-//US Coast Guard Auxiliary-D11S - ECPv6.15.20//NONSGML v1.0//EN
CALSCALE:GREGORIAN
METHOD:PUBLISH
X-ORIGINAL-URL:https://web2.d11s.org
X-WR-CALDESC:Events for US Coast Guard Auxiliary-D11S
REFRESH-INTERVAL;VALUE=DURATION:PT1H
X-Robots-Tag:noindex
X-PUBLISHED-TTL:PT1H
BEGIN:VTIMEZONE
TZID:America/Los_Angeles
BEGIN:DAYLIGHT
TZOFFSETFROM:-0800
TZOFFSETTO:-0700
TZNAME:PDT
DTSTART:20240310T100000
END:DAYLIGHT
BEGIN:STANDARD
TZOFFSETFROM:-0700
TZOFFSETTO:-0800
TZNAME:PST
DTSTART:20241103T090000
END:STANDARD
BEGIN:DAYLIGHT
TZOFFSETFROM:-0800
TZOFFSETTO:-0700
TZNAME:PDT
DTSTART:20250309T100000
END:DAYLIGHT
BEGIN:STANDARD
TZOFFSETFROM:-0700
TZOFFSETTO:-0800
TZNAME:PST
DTSTART:20251102T090000
END:STANDARD
BEGIN:DAYLIGHT
TZOFFSETFROM:-0800
TZOFFSETTO:-0700
TZNAME:PDT
DTSTART:20260308T100000
END:DAYLIGHT
BEGIN:STANDARD
TZOFFSETFROM:-0700
TZOFFSETTO:-0800
TZNAME:PST
DTSTART:20261101T090000
END:STANDARD
END:VTIMEZONE
BEGIN:VEVENT
DTSTART;TZID=America/Los_Angeles:20250316T100000
DTEND;TZID=America/Los_Angeles:20250316T140000
DTSTAMP:20260424T064613
CREATED:20241214T073720Z
LAST-MODIFIED:20241214T073720Z
UID:10001655-1742119200-1742133600@web2.d11s.org
SUMMARY:DIV 7 CHANGE OF WATCH
DESCRIPTION:Division 114-07 Channel Islands\nCHANGE OF WATCH\nAwards And Fellowship Brunch\nSunday March 16\, 2025\nFellowship 10:00 a.m.    Brunch 11:00 a.m.\nRSVP starting January 2025 \nPacific Corinthian Yacht Club\nOxnard\, CA
URL:https://web2.d11s.org/event/div-7-change-of-watch/
CATEGORIES:Special Event
ATTACH;FMTTYPE=image/png:https://web2.d11s.org/wp-content/uploads/2024/12/Division11407-Logo-rope-2024.png
END:VEVENT
END:VCALENDAR