BEGIN:VCALENDAR
VERSION:2.0
PRODID:-//US Coast Guard Auxiliary-D11S - ECPv6.15.20//NONSGML v1.0//EN
CALSCALE:GREGORIAN
METHOD:PUBLISH
X-WR-CALNAME:US Coast Guard Auxiliary-D11S
X-ORIGINAL-URL:https://web2.d11s.org
X-WR-CALDESC:Events for US Coast Guard Auxiliary-D11S
REFRESH-INTERVAL;VALUE=DURATION:PT1H
X-Robots-Tag:noindex
X-PUBLISHED-TTL:PT1H
BEGIN:VTIMEZONE
TZID:America/Los_Angeles
BEGIN:DAYLIGHT
TZOFFSETFROM:-0800
TZOFFSETTO:-0700
TZNAME:PDT
DTSTART:20250309T100000
END:DAYLIGHT
BEGIN:STANDARD
TZOFFSETFROM:-0700
TZOFFSETTO:-0800
TZNAME:PST
DTSTART:20251102T090000
END:STANDARD
BEGIN:DAYLIGHT
TZOFFSETFROM:-0800
TZOFFSETTO:-0700
TZNAME:PDT
DTSTART:20260308T100000
END:DAYLIGHT
BEGIN:STANDARD
TZOFFSETFROM:-0700
TZOFFSETTO:-0800
TZNAME:PST
DTSTART:20261101T090000
END:STANDARD
BEGIN:DAYLIGHT
TZOFFSETFROM:-0800
TZOFFSETTO:-0700
TZNAME:PDT
DTSTART:20270314T100000
END:DAYLIGHT
BEGIN:STANDARD
TZOFFSETFROM:-0700
TZOFFSETTO:-0800
TZNAME:PST
DTSTART:20271107T090000
END:STANDARD
END:VTIMEZONE
BEGIN:VEVENT
DTSTART;TZID=America/Los_Angeles:20260808T100000
DTEND;TZID=America/Los_Angeles:20260808T150000
DTSTAMP:20260423T154112
CREATED:20260409T195154Z
LAST-MODIFIED:20260409T212501Z
UID:10002105-1786183200-1786201200@web2.d11s.org
SUMMARY:Point Vicente Lighthouse Open House
DESCRIPTION:2nd Saturday of every month\, Monthly Open Houses at the Point Vicente Lighthouse\, 1000-1500\, rain or shine. POC USCG Capt (ret) “Kip” Louttit\, Mobile:  310 897 1714
URL:https://web2.d11s.org/event/point-vicente-lighthouse-open-house/2026-08-08/
CATEGORIES:Special Event
ATTACH;FMTTYPE=image/png:https://web2.d11s.org/wp-content/uploads/2026/04/nsbc-wear-it-logo-transparent-1.png
END:VEVENT
BEGIN:VEVENT
DTSTART;VALUE=DATE:20260815
DTEND;VALUE=DATE:20260817
DTSTAMP:20260423T154112
CREATED:20260409T220439Z
LAST-MODIFIED:20260409T220439Z
UID:10002179-1786752000-1786924799@web2.d11s.org
SUMMARY:Div. 7 Wings Over Camarillo Airshow
DESCRIPTION:Div. 7 Wings Over Camarillo Airshow\nAugust 15 – 16\, 2026\nCamarillo Airport\n555 Airport Way\, Camarillo\, CA 93010\, USA\nRBS Outreach: Wings Over Camarillo Airshow; Camarillo Airport
URL:https://web2.d11s.org/event/div-7-wings-over-camarillo-airshow/
CATEGORIES:Special Event
ATTACH;FMTTYPE=image/png:https://web2.d11s.org/wp-content/uploads/2026/04/nsbc-wear-it-logo-transparent-14.png
END:VEVENT
END:VCALENDAR