BEGIN:VCALENDAR
VERSION:2.0
PRODID:-//US Coast Guard Auxiliary-D11S - ECPv6.15.20//NONSGML v1.0//EN
CALSCALE:GREGORIAN
METHOD:PUBLISH
X-WR-CALNAME:US Coast Guard Auxiliary-D11S
X-ORIGINAL-URL:https://web2.d11s.org
X-WR-CALDESC:Events for US Coast Guard Auxiliary-D11S
REFRESH-INTERVAL;VALUE=DURATION:PT1H
X-Robots-Tag:noindex
X-PUBLISHED-TTL:PT1H
BEGIN:VTIMEZONE
TZID:America/Los_Angeles
BEGIN:DAYLIGHT
TZOFFSETFROM:-0800
TZOFFSETTO:-0700
TZNAME:PDT
DTSTART:20260308T100000
END:DAYLIGHT
BEGIN:STANDARD
TZOFFSETFROM:-0700
TZOFFSETTO:-0800
TZNAME:PST
DTSTART:20261101T090000
END:STANDARD
BEGIN:DAYLIGHT
TZOFFSETFROM:-0800
TZOFFSETTO:-0700
TZNAME:PDT
DTSTART:20270314T100000
END:DAYLIGHT
BEGIN:STANDARD
TZOFFSETFROM:-0700
TZOFFSETTO:-0800
TZNAME:PST
DTSTART:20271107T090000
END:STANDARD
BEGIN:DAYLIGHT
TZOFFSETFROM:-0800
TZOFFSETTO:-0700
TZNAME:PDT
DTSTART:20280312T100000
END:DAYLIGHT
BEGIN:STANDARD
TZOFFSETFROM:-0700
TZOFFSETTO:-0800
TZNAME:PST
DTSTART:20281105T090000
END:STANDARD
BEGIN:DAYLIGHT
TZOFFSETFROM:-0800
TZOFFSETTO:-0700
TZNAME:PDT
DTSTART:20290311T100000
END:DAYLIGHT
BEGIN:STANDARD
TZOFFSETFROM:-0700
TZOFFSETTO:-0800
TZNAME:PST
DTSTART:20291104T090000
END:STANDARD
BEGIN:DAYLIGHT
TZOFFSETFROM:-0800
TZOFFSETTO:-0700
TZNAME:PDT
DTSTART:20300310T100000
END:DAYLIGHT
BEGIN:STANDARD
TZOFFSETFROM:-0700
TZOFFSETTO:-0800
TZNAME:PST
DTSTART:20301103T090000
END:STANDARD
BEGIN:DAYLIGHT
TZOFFSETFROM:-0800
TZOFFSETTO:-0700
TZNAME:PDT
DTSTART:20310309T100000
END:DAYLIGHT
BEGIN:STANDARD
TZOFFSETFROM:-0700
TZOFFSETTO:-0800
TZNAME:PST
DTSTART:20311102T090000
END:STANDARD
END:VTIMEZONE
BEGIN:VEVENT
DTSTART;TZID=America/Los_Angeles:20271113T100000
DTEND;TZID=America/Los_Angeles:20271113T150000
DTSTAMP:20260423T151741
CREATED:20260409T195154Z
LAST-MODIFIED:20260409T212501Z
UID:10002120-1826100000-1826118000@web2.d11s.org
SUMMARY:Point Vicente Lighthouse Open House
DESCRIPTION:2nd Saturday of every month\, Monthly Open Houses at the Point Vicente Lighthouse\, 1000-1500\, rain or shine. POC USCG Capt (ret) “Kip” Louttit\, Mobile:  310 897 1714
URL:https://web2.d11s.org/event/point-vicente-lighthouse-open-house/2027-11-13/
CATEGORIES:Special Event
ATTACH;FMTTYPE=image/png:https://web2.d11s.org/wp-content/uploads/2026/04/nsbc-wear-it-logo-transparent-1.png
END:VEVENT
BEGIN:VEVENT
DTSTART;TZID=America/Los_Angeles:20271211T100000
DTEND;TZID=America/Los_Angeles:20271211T150000
DTSTAMP:20260423T151741
CREATED:20260409T195154Z
LAST-MODIFIED:20260409T212501Z
UID:10002121-1828519200-1828537200@web2.d11s.org
SUMMARY:Point Vicente Lighthouse Open House
DESCRIPTION:2nd Saturday of every month\, Monthly Open Houses at the Point Vicente Lighthouse\, 1000-1500\, rain or shine. POC USCG Capt (ret) “Kip” Louttit\, Mobile:  310 897 1714
URL:https://web2.d11s.org/event/point-vicente-lighthouse-open-house/2027-12-11/
CATEGORIES:Special Event
ATTACH;FMTTYPE=image/png:https://web2.d11s.org/wp-content/uploads/2026/04/nsbc-wear-it-logo-transparent-1.png
END:VEVENT
BEGIN:VEVENT
DTSTART;TZID=America/Los_Angeles:20280108T100000
DTEND;TZID=America/Los_Angeles:20280108T150000
DTSTAMP:20260423T151741
CREATED:20260409T195154Z
LAST-MODIFIED:20260409T212501Z
UID:10002122-1830938400-1830956400@web2.d11s.org
SUMMARY:Point Vicente Lighthouse Open House
DESCRIPTION:2nd Saturday of every month\, Monthly Open Houses at the Point Vicente Lighthouse\, 1000-1500\, rain or shine. POC USCG Capt (ret) “Kip” Louttit\, Mobile:  310 897 1714
URL:https://web2.d11s.org/event/point-vicente-lighthouse-open-house/2028-01-08/
CATEGORIES:Special Event
ATTACH;FMTTYPE=image/png:https://web2.d11s.org/wp-content/uploads/2026/04/nsbc-wear-it-logo-transparent-1.png
END:VEVENT
BEGIN:VEVENT
DTSTART;TZID=America/Los_Angeles:20280212T100000
DTEND;TZID=America/Los_Angeles:20280212T150000
DTSTAMP:20260423T151741
CREATED:20260409T195154Z
LAST-MODIFIED:20260409T212501Z
UID:10002123-1833962400-1833980400@web2.d11s.org
SUMMARY:Point Vicente Lighthouse Open House
DESCRIPTION:2nd Saturday of every month\, Monthly Open Houses at the Point Vicente Lighthouse\, 1000-1500\, rain or shine. POC USCG Capt (ret) “Kip” Louttit\, Mobile:  310 897 1714
URL:https://web2.d11s.org/event/point-vicente-lighthouse-open-house/2028-02-12/
CATEGORIES:Special Event
ATTACH;FMTTYPE=image/png:https://web2.d11s.org/wp-content/uploads/2026/04/nsbc-wear-it-logo-transparent-1.png
END:VEVENT
BEGIN:VEVENT
DTSTART;TZID=America/Los_Angeles:20280311T100000
DTEND;TZID=America/Los_Angeles:20280311T150000
DTSTAMP:20260423T151741
CREATED:20260409T195154Z
LAST-MODIFIED:20260409T212501Z
UID:10002124-1836381600-1836399600@web2.d11s.org
SUMMARY:Point Vicente Lighthouse Open House
DESCRIPTION:2nd Saturday of every month\, Monthly Open Houses at the Point Vicente Lighthouse\, 1000-1500\, rain or shine. POC USCG Capt (ret) “Kip” Louttit\, Mobile:  310 897 1714
URL:https://web2.d11s.org/event/point-vicente-lighthouse-open-house/2028-03-11/
CATEGORIES:Special Event
ATTACH;FMTTYPE=image/png:https://web2.d11s.org/wp-content/uploads/2026/04/nsbc-wear-it-logo-transparent-1.png
END:VEVENT
BEGIN:VEVENT
DTSTART;TZID=America/Los_Angeles:20280408T100000
DTEND;TZID=America/Los_Angeles:20280408T150000
DTSTAMP:20260423T151741
CREATED:20260409T195154Z
LAST-MODIFIED:20260409T212501Z
UID:10002125-1838800800-1838818800@web2.d11s.org
SUMMARY:Point Vicente Lighthouse Open House
DESCRIPTION:2nd Saturday of every month\, Monthly Open Houses at the Point Vicente Lighthouse\, 1000-1500\, rain or shine. POC USCG Capt (ret) “Kip” Louttit\, Mobile:  310 897 1714
URL:https://web2.d11s.org/event/point-vicente-lighthouse-open-house/2028-04-08/
CATEGORIES:Special Event
ATTACH;FMTTYPE=image/png:https://web2.d11s.org/wp-content/uploads/2026/04/nsbc-wear-it-logo-transparent-1.png
END:VEVENT
BEGIN:VEVENT
DTSTART;TZID=America/Los_Angeles:20280513T100000
DTEND;TZID=America/Los_Angeles:20280513T150000
DTSTAMP:20260423T151741
CREATED:20260409T195154Z
LAST-MODIFIED:20260409T212501Z
UID:10002126-1841824800-1841842800@web2.d11s.org
SUMMARY:Point Vicente Lighthouse Open House
DESCRIPTION:2nd Saturday of every month\, Monthly Open Houses at the Point Vicente Lighthouse\, 1000-1500\, rain or shine. POC USCG Capt (ret) “Kip” Louttit\, Mobile:  310 897 1714
URL:https://web2.d11s.org/event/point-vicente-lighthouse-open-house/2028-05-13/
CATEGORIES:Special Event
ATTACH;FMTTYPE=image/png:https://web2.d11s.org/wp-content/uploads/2026/04/nsbc-wear-it-logo-transparent-1.png
END:VEVENT
BEGIN:VEVENT
DTSTART;TZID=America/Los_Angeles:20280610T100000
DTEND;TZID=America/Los_Angeles:20280610T150000
DTSTAMP:20260423T151741
CREATED:20260409T195154Z
LAST-MODIFIED:20260409T212501Z
UID:10002127-1844244000-1844262000@web2.d11s.org
SUMMARY:Point Vicente Lighthouse Open House
DESCRIPTION:2nd Saturday of every month\, Monthly Open Houses at the Point Vicente Lighthouse\, 1000-1500\, rain or shine. POC USCG Capt (ret) “Kip” Louttit\, Mobile:  310 897 1714
URL:https://web2.d11s.org/event/point-vicente-lighthouse-open-house/2028-06-10/
CATEGORIES:Special Event
ATTACH;FMTTYPE=image/png:https://web2.d11s.org/wp-content/uploads/2026/04/nsbc-wear-it-logo-transparent-1.png
END:VEVENT
BEGIN:VEVENT
DTSTART;TZID=America/Los_Angeles:20280708T100000
DTEND;TZID=America/Los_Angeles:20280708T150000
DTSTAMP:20260423T151741
CREATED:20260409T195154Z
LAST-MODIFIED:20260409T212501Z
UID:10002128-1846663200-1846681200@web2.d11s.org
SUMMARY:Point Vicente Lighthouse Open House
DESCRIPTION:2nd Saturday of every month\, Monthly Open Houses at the Point Vicente Lighthouse\, 1000-1500\, rain or shine. POC USCG Capt (ret) “Kip” Louttit\, Mobile:  310 897 1714
URL:https://web2.d11s.org/event/point-vicente-lighthouse-open-house/2028-07-08/
CATEGORIES:Special Event
ATTACH;FMTTYPE=image/png:https://web2.d11s.org/wp-content/uploads/2026/04/nsbc-wear-it-logo-transparent-1.png
END:VEVENT
BEGIN:VEVENT
DTSTART;TZID=America/Los_Angeles:20280812T100000
DTEND;TZID=America/Los_Angeles:20280812T150000
DTSTAMP:20260423T151741
CREATED:20260409T195154Z
LAST-MODIFIED:20260409T212501Z
UID:10002129-1849687200-1849705200@web2.d11s.org
SUMMARY:Point Vicente Lighthouse Open House
DESCRIPTION:2nd Saturday of every month\, Monthly Open Houses at the Point Vicente Lighthouse\, 1000-1500\, rain or shine. POC USCG Capt (ret) “Kip” Louttit\, Mobile:  310 897 1714
URL:https://web2.d11s.org/event/point-vicente-lighthouse-open-house/2028-08-12/
CATEGORIES:Special Event
ATTACH;FMTTYPE=image/png:https://web2.d11s.org/wp-content/uploads/2026/04/nsbc-wear-it-logo-transparent-1.png
END:VEVENT
BEGIN:VEVENT
DTSTART;TZID=America/Los_Angeles:20280909T100000
DTEND;TZID=America/Los_Angeles:20280909T150000
DTSTAMP:20260423T151741
CREATED:20260409T195154Z
LAST-MODIFIED:20260409T212501Z
UID:10002130-1852106400-1852124400@web2.d11s.org
SUMMARY:Point Vicente Lighthouse Open House
DESCRIPTION:2nd Saturday of every month\, Monthly Open Houses at the Point Vicente Lighthouse\, 1000-1500\, rain or shine. POC USCG Capt (ret) “Kip” Louttit\, Mobile:  310 897 1714
URL:https://web2.d11s.org/event/point-vicente-lighthouse-open-house/2028-09-09/
CATEGORIES:Special Event
ATTACH;FMTTYPE=image/png:https://web2.d11s.org/wp-content/uploads/2026/04/nsbc-wear-it-logo-transparent-1.png
END:VEVENT
BEGIN:VEVENT
DTSTART;TZID=America/Los_Angeles:20281014T100000
DTEND;TZID=America/Los_Angeles:20281014T150000
DTSTAMP:20260423T151741
CREATED:20260409T195154Z
LAST-MODIFIED:20260409T212501Z
UID:10002131-1855130400-1855148400@web2.d11s.org
SUMMARY:Point Vicente Lighthouse Open House
DESCRIPTION:2nd Saturday of every month\, Monthly Open Houses at the Point Vicente Lighthouse\, 1000-1500\, rain or shine. POC USCG Capt (ret) “Kip” Louttit\, Mobile:  310 897 1714
URL:https://web2.d11s.org/event/point-vicente-lighthouse-open-house/2028-10-14/
CATEGORIES:Special Event
ATTACH;FMTTYPE=image/png:https://web2.d11s.org/wp-content/uploads/2026/04/nsbc-wear-it-logo-transparent-1.png
END:VEVENT
BEGIN:VEVENT
DTSTART;TZID=America/Los_Angeles:20281111T100000
DTEND;TZID=America/Los_Angeles:20281111T150000
DTSTAMP:20260423T151741
CREATED:20260409T195154Z
LAST-MODIFIED:20260409T212501Z
UID:10002132-1857549600-1857567600@web2.d11s.org
SUMMARY:Point Vicente Lighthouse Open House
DESCRIPTION:2nd Saturday of every month\, Monthly Open Houses at the Point Vicente Lighthouse\, 1000-1500\, rain or shine. POC USCG Capt (ret) “Kip” Louttit\, Mobile:  310 897 1714
URL:https://web2.d11s.org/event/point-vicente-lighthouse-open-house/2028-11-11/
CATEGORIES:Special Event
ATTACH;FMTTYPE=image/png:https://web2.d11s.org/wp-content/uploads/2026/04/nsbc-wear-it-logo-transparent-1.png
END:VEVENT
BEGIN:VEVENT
DTSTART;TZID=America/Los_Angeles:20281209T100000
DTEND;TZID=America/Los_Angeles:20281209T150000
DTSTAMP:20260423T151741
CREATED:20260409T195154Z
LAST-MODIFIED:20260409T212501Z
UID:10002133-1859968800-1859986800@web2.d11s.org
SUMMARY:Point Vicente Lighthouse Open House
DESCRIPTION:2nd Saturday of every month\, Monthly Open Houses at the Point Vicente Lighthouse\, 1000-1500\, rain or shine. POC USCG Capt (ret) “Kip” Louttit\, Mobile:  310 897 1714
URL:https://web2.d11s.org/event/point-vicente-lighthouse-open-house/2028-12-09/
CATEGORIES:Special Event
ATTACH;FMTTYPE=image/png:https://web2.d11s.org/wp-content/uploads/2026/04/nsbc-wear-it-logo-transparent-1.png
END:VEVENT
BEGIN:VEVENT
DTSTART;TZID=America/Los_Angeles:20290113T100000
DTEND;TZID=America/Los_Angeles:20290113T150000
DTSTAMP:20260423T151741
CREATED:20260409T195154Z
LAST-MODIFIED:20260409T212501Z
UID:10002134-1862992800-1863010800@web2.d11s.org
SUMMARY:Point Vicente Lighthouse Open House
DESCRIPTION:2nd Saturday of every month\, Monthly Open Houses at the Point Vicente Lighthouse\, 1000-1500\, rain or shine. POC USCG Capt (ret) “Kip” Louttit\, Mobile:  310 897 1714
URL:https://web2.d11s.org/event/point-vicente-lighthouse-open-house/2029-01-13/
CATEGORIES:Special Event
ATTACH;FMTTYPE=image/png:https://web2.d11s.org/wp-content/uploads/2026/04/nsbc-wear-it-logo-transparent-1.png
END:VEVENT
BEGIN:VEVENT
DTSTART;TZID=America/Los_Angeles:20290210T100000
DTEND;TZID=America/Los_Angeles:20290210T150000
DTSTAMP:20260423T151741
CREATED:20260409T195154Z
LAST-MODIFIED:20260409T212501Z
UID:10002135-1865412000-1865430000@web2.d11s.org
SUMMARY:Point Vicente Lighthouse Open House
DESCRIPTION:2nd Saturday of every month\, Monthly Open Houses at the Point Vicente Lighthouse\, 1000-1500\, rain or shine. POC USCG Capt (ret) “Kip” Louttit\, Mobile:  310 897 1714
URL:https://web2.d11s.org/event/point-vicente-lighthouse-open-house/2029-02-10/
CATEGORIES:Special Event
ATTACH;FMTTYPE=image/png:https://web2.d11s.org/wp-content/uploads/2026/04/nsbc-wear-it-logo-transparent-1.png
END:VEVENT
BEGIN:VEVENT
DTSTART;TZID=America/Los_Angeles:20290310T100000
DTEND;TZID=America/Los_Angeles:20290310T150000
DTSTAMP:20260423T151741
CREATED:20260409T195154Z
LAST-MODIFIED:20260409T212501Z
UID:10002136-1867831200-1867849200@web2.d11s.org
SUMMARY:Point Vicente Lighthouse Open House
DESCRIPTION:2nd Saturday of every month\, Monthly Open Houses at the Point Vicente Lighthouse\, 1000-1500\, rain or shine. POC USCG Capt (ret) “Kip” Louttit\, Mobile:  310 897 1714
URL:https://web2.d11s.org/event/point-vicente-lighthouse-open-house/2029-03-10/
CATEGORIES:Special Event
ATTACH;FMTTYPE=image/png:https://web2.d11s.org/wp-content/uploads/2026/04/nsbc-wear-it-logo-transparent-1.png
END:VEVENT
BEGIN:VEVENT
DTSTART;TZID=America/Los_Angeles:20290414T100000
DTEND;TZID=America/Los_Angeles:20290414T150000
DTSTAMP:20260423T151741
CREATED:20260409T195154Z
LAST-MODIFIED:20260409T212501Z
UID:10002137-1870855200-1870873200@web2.d11s.org
SUMMARY:Point Vicente Lighthouse Open House
DESCRIPTION:2nd Saturday of every month\, Monthly Open Houses at the Point Vicente Lighthouse\, 1000-1500\, rain or shine. POC USCG Capt (ret) “Kip” Louttit\, Mobile:  310 897 1714
URL:https://web2.d11s.org/event/point-vicente-lighthouse-open-house/2029-04-14/
CATEGORIES:Special Event
ATTACH;FMTTYPE=image/png:https://web2.d11s.org/wp-content/uploads/2026/04/nsbc-wear-it-logo-transparent-1.png
END:VEVENT
BEGIN:VEVENT
DTSTART;TZID=America/Los_Angeles:20290512T100000
DTEND;TZID=America/Los_Angeles:20290512T150000
DTSTAMP:20260423T151741
CREATED:20260409T195154Z
LAST-MODIFIED:20260409T212501Z
UID:10002138-1873274400-1873292400@web2.d11s.org
SUMMARY:Point Vicente Lighthouse Open House
DESCRIPTION:2nd Saturday of every month\, Monthly Open Houses at the Point Vicente Lighthouse\, 1000-1500\, rain or shine. POC USCG Capt (ret) “Kip” Louttit\, Mobile:  310 897 1714
URL:https://web2.d11s.org/event/point-vicente-lighthouse-open-house/2029-05-12/
CATEGORIES:Special Event
ATTACH;FMTTYPE=image/png:https://web2.d11s.org/wp-content/uploads/2026/04/nsbc-wear-it-logo-transparent-1.png
END:VEVENT
BEGIN:VEVENT
DTSTART;TZID=America/Los_Angeles:20290609T100000
DTEND;TZID=America/Los_Angeles:20290609T150000
DTSTAMP:20260423T151741
CREATED:20260409T195154Z
LAST-MODIFIED:20260409T212501Z
UID:10002139-1875693600-1875711600@web2.d11s.org
SUMMARY:Point Vicente Lighthouse Open House
DESCRIPTION:2nd Saturday of every month\, Monthly Open Houses at the Point Vicente Lighthouse\, 1000-1500\, rain or shine. POC USCG Capt (ret) “Kip” Louttit\, Mobile:  310 897 1714
URL:https://web2.d11s.org/event/point-vicente-lighthouse-open-house/2029-06-09/
CATEGORIES:Special Event
ATTACH;FMTTYPE=image/png:https://web2.d11s.org/wp-content/uploads/2026/04/nsbc-wear-it-logo-transparent-1.png
END:VEVENT
BEGIN:VEVENT
DTSTART;TZID=America/Los_Angeles:20290714T100000
DTEND;TZID=America/Los_Angeles:20290714T150000
DTSTAMP:20260423T151741
CREATED:20260409T195154Z
LAST-MODIFIED:20260409T212501Z
UID:10002140-1878717600-1878735600@web2.d11s.org
SUMMARY:Point Vicente Lighthouse Open House
DESCRIPTION:2nd Saturday of every month\, Monthly Open Houses at the Point Vicente Lighthouse\, 1000-1500\, rain or shine. POC USCG Capt (ret) “Kip” Louttit\, Mobile:  310 897 1714
URL:https://web2.d11s.org/event/point-vicente-lighthouse-open-house/2029-07-14/
CATEGORIES:Special Event
ATTACH;FMTTYPE=image/png:https://web2.d11s.org/wp-content/uploads/2026/04/nsbc-wear-it-logo-transparent-1.png
END:VEVENT
BEGIN:VEVENT
DTSTART;TZID=America/Los_Angeles:20290811T100000
DTEND;TZID=America/Los_Angeles:20290811T150000
DTSTAMP:20260423T151741
CREATED:20260409T195154Z
LAST-MODIFIED:20260409T212501Z
UID:10002141-1881136800-1881154800@web2.d11s.org
SUMMARY:Point Vicente Lighthouse Open House
DESCRIPTION:2nd Saturday of every month\, Monthly Open Houses at the Point Vicente Lighthouse\, 1000-1500\, rain or shine. POC USCG Capt (ret) “Kip” Louttit\, Mobile:  310 897 1714
URL:https://web2.d11s.org/event/point-vicente-lighthouse-open-house/2029-08-11/
CATEGORIES:Special Event
ATTACH;FMTTYPE=image/png:https://web2.d11s.org/wp-content/uploads/2026/04/nsbc-wear-it-logo-transparent-1.png
END:VEVENT
BEGIN:VEVENT
DTSTART;TZID=America/Los_Angeles:20290908T100000
DTEND;TZID=America/Los_Angeles:20290908T150000
DTSTAMP:20260423T151741
CREATED:20260409T195154Z
LAST-MODIFIED:20260409T212501Z
UID:10002142-1883556000-1883574000@web2.d11s.org
SUMMARY:Point Vicente Lighthouse Open House
DESCRIPTION:2nd Saturday of every month\, Monthly Open Houses at the Point Vicente Lighthouse\, 1000-1500\, rain or shine. POC USCG Capt (ret) “Kip” Louttit\, Mobile:  310 897 1714
URL:https://web2.d11s.org/event/point-vicente-lighthouse-open-house/2029-09-08/
CATEGORIES:Special Event
ATTACH;FMTTYPE=image/png:https://web2.d11s.org/wp-content/uploads/2026/04/nsbc-wear-it-logo-transparent-1.png
END:VEVENT
BEGIN:VEVENT
DTSTART;TZID=America/Los_Angeles:20291013T100000
DTEND;TZID=America/Los_Angeles:20291013T150000
DTSTAMP:20260423T151741
CREATED:20260409T195154Z
LAST-MODIFIED:20260409T212501Z
UID:10002143-1886580000-1886598000@web2.d11s.org
SUMMARY:Point Vicente Lighthouse Open House
DESCRIPTION:2nd Saturday of every month\, Monthly Open Houses at the Point Vicente Lighthouse\, 1000-1500\, rain or shine. POC USCG Capt (ret) “Kip” Louttit\, Mobile:  310 897 1714
URL:https://web2.d11s.org/event/point-vicente-lighthouse-open-house/2029-10-13/
CATEGORIES:Special Event
ATTACH;FMTTYPE=image/png:https://web2.d11s.org/wp-content/uploads/2026/04/nsbc-wear-it-logo-transparent-1.png
END:VEVENT
BEGIN:VEVENT
DTSTART;TZID=America/Los_Angeles:20291110T100000
DTEND;TZID=America/Los_Angeles:20291110T150000
DTSTAMP:20260423T151741
CREATED:20260409T195154Z
LAST-MODIFIED:20260409T212501Z
UID:10002144-1888999200-1889017200@web2.d11s.org
SUMMARY:Point Vicente Lighthouse Open House
DESCRIPTION:2nd Saturday of every month\, Monthly Open Houses at the Point Vicente Lighthouse\, 1000-1500\, rain or shine. POC USCG Capt (ret) “Kip” Louttit\, Mobile:  310 897 1714
URL:https://web2.d11s.org/event/point-vicente-lighthouse-open-house/2029-11-10/
CATEGORIES:Special Event
ATTACH;FMTTYPE=image/png:https://web2.d11s.org/wp-content/uploads/2026/04/nsbc-wear-it-logo-transparent-1.png
END:VEVENT
BEGIN:VEVENT
DTSTART;TZID=America/Los_Angeles:20291208T100000
DTEND;TZID=America/Los_Angeles:20291208T150000
DTSTAMP:20260423T151741
CREATED:20260409T195154Z
LAST-MODIFIED:20260409T212501Z
UID:10002145-1891418400-1891436400@web2.d11s.org
SUMMARY:Point Vicente Lighthouse Open House
DESCRIPTION:2nd Saturday of every month\, Monthly Open Houses at the Point Vicente Lighthouse\, 1000-1500\, rain or shine. POC USCG Capt (ret) “Kip” Louttit\, Mobile:  310 897 1714
URL:https://web2.d11s.org/event/point-vicente-lighthouse-open-house/2029-12-08/
CATEGORIES:Special Event
ATTACH;FMTTYPE=image/png:https://web2.d11s.org/wp-content/uploads/2026/04/nsbc-wear-it-logo-transparent-1.png
END:VEVENT
BEGIN:VEVENT
DTSTART;TZID=America/Los_Angeles:20300112T100000
DTEND;TZID=America/Los_Angeles:20300112T150000
DTSTAMP:20260423T151741
CREATED:20260409T195154Z
LAST-MODIFIED:20260409T212501Z
UID:10002146-1894442400-1894460400@web2.d11s.org
SUMMARY:Point Vicente Lighthouse Open House
DESCRIPTION:2nd Saturday of every month\, Monthly Open Houses at the Point Vicente Lighthouse\, 1000-1500\, rain or shine. POC USCG Capt (ret) “Kip” Louttit\, Mobile:  310 897 1714
URL:https://web2.d11s.org/event/point-vicente-lighthouse-open-house/2030-01-12/
CATEGORIES:Special Event
ATTACH;FMTTYPE=image/png:https://web2.d11s.org/wp-content/uploads/2026/04/nsbc-wear-it-logo-transparent-1.png
END:VEVENT
BEGIN:VEVENT
DTSTART;TZID=America/Los_Angeles:20300209T100000
DTEND;TZID=America/Los_Angeles:20300209T150000
DTSTAMP:20260423T151741
CREATED:20260409T195154Z
LAST-MODIFIED:20260409T212501Z
UID:10002147-1896861600-1896879600@web2.d11s.org
SUMMARY:Point Vicente Lighthouse Open House
DESCRIPTION:2nd Saturday of every month\, Monthly Open Houses at the Point Vicente Lighthouse\, 1000-1500\, rain or shine. POC USCG Capt (ret) “Kip” Louttit\, Mobile:  310 897 1714
URL:https://web2.d11s.org/event/point-vicente-lighthouse-open-house/2030-02-09/
CATEGORIES:Special Event
ATTACH;FMTTYPE=image/png:https://web2.d11s.org/wp-content/uploads/2026/04/nsbc-wear-it-logo-transparent-1.png
END:VEVENT
BEGIN:VEVENT
DTSTART;TZID=America/Los_Angeles:20300309T100000
DTEND;TZID=America/Los_Angeles:20300309T150000
DTSTAMP:20260423T151741
CREATED:20260409T195154Z
LAST-MODIFIED:20260409T212501Z
UID:10002148-1899280800-1899298800@web2.d11s.org
SUMMARY:Point Vicente Lighthouse Open House
DESCRIPTION:2nd Saturday of every month\, Monthly Open Houses at the Point Vicente Lighthouse\, 1000-1500\, rain or shine. POC USCG Capt (ret) “Kip” Louttit\, Mobile:  310 897 1714
URL:https://web2.d11s.org/event/point-vicente-lighthouse-open-house/2030-03-09/
CATEGORIES:Special Event
ATTACH;FMTTYPE=image/png:https://web2.d11s.org/wp-content/uploads/2026/04/nsbc-wear-it-logo-transparent-1.png
END:VEVENT
BEGIN:VEVENT
DTSTART;TZID=America/Los_Angeles:20300413T100000
DTEND;TZID=America/Los_Angeles:20300413T150000
DTSTAMP:20260423T151741
CREATED:20260409T195154Z
LAST-MODIFIED:20260409T212501Z
UID:10002149-1902304800-1902322800@web2.d11s.org
SUMMARY:Point Vicente Lighthouse Open House
DESCRIPTION:2nd Saturday of every month\, Monthly Open Houses at the Point Vicente Lighthouse\, 1000-1500\, rain or shine. POC USCG Capt (ret) “Kip” Louttit\, Mobile:  310 897 1714
URL:https://web2.d11s.org/event/point-vicente-lighthouse-open-house/2030-04-13/
CATEGORIES:Special Event
ATTACH;FMTTYPE=image/png:https://web2.d11s.org/wp-content/uploads/2026/04/nsbc-wear-it-logo-transparent-1.png
END:VEVENT
END:VCALENDAR