BEGIN:VCALENDAR
VERSION:2.0
PRODID:-//US Coast Guard Auxiliary-D11S - ECPv6.15.20//NONSGML v1.0//EN
CALSCALE:GREGORIAN
METHOD:PUBLISH
X-WR-CALNAME:US Coast Guard Auxiliary-D11S
X-ORIGINAL-URL:https://web2.d11s.org
X-WR-CALDESC:Events for US Coast Guard Auxiliary-D11S
REFRESH-INTERVAL;VALUE=DURATION:PT1H
X-Robots-Tag:noindex
X-PUBLISHED-TTL:PT1H
BEGIN:VTIMEZONE
TZID:America/Los_Angeles
BEGIN:DAYLIGHT
TZOFFSETFROM:-0800
TZOFFSETTO:-0700
TZNAME:PDT
DTSTART:20220313T100000
END:DAYLIGHT
BEGIN:STANDARD
TZOFFSETFROM:-0700
TZOFFSETTO:-0800
TZNAME:PST
DTSTART:20221106T090000
END:STANDARD
BEGIN:DAYLIGHT
TZOFFSETFROM:-0800
TZOFFSETTO:-0700
TZNAME:PDT
DTSTART:20230312T100000
END:DAYLIGHT
BEGIN:STANDARD
TZOFFSETFROM:-0700
TZOFFSETTO:-0800
TZNAME:PST
DTSTART:20231105T090000
END:STANDARD
BEGIN:DAYLIGHT
TZOFFSETFROM:-0800
TZOFFSETTO:-0700
TZNAME:PDT
DTSTART:20240310T100000
END:DAYLIGHT
BEGIN:STANDARD
TZOFFSETFROM:-0700
TZOFFSETTO:-0800
TZNAME:PST
DTSTART:20241103T090000
END:STANDARD
END:VTIMEZONE
BEGIN:VEVENT
DTSTART;TZID=America/Los_Angeles:20230708T080000
DTEND;TZID=America/Los_Angeles:20230708T120000
DTSTAMP:20260425T175726
CREATED:20230626T001227Z
LAST-MODIFIED:20230626T001227Z
UID:10000753-1688803200-1688817600@web2.d11s.org
SUMMARY:Suddenly in Command
DESCRIPTION:A class in preparation and response to an unforeseen event that may leave an unsuspecting passenger or crewmember Suddenly in Command of a recreational vessel. This could be anything from a mechanical failure\, fire\, collision\, or medical emergency.  What would you do if you were Suddenly in Command? Held at the Cabrillo Beach Yacht Club\, 211 W. 22nd Street\, San Pedro CA.
URL:https://web2.d11s.org/event/suddenly-in-command-2/
END:VEVENT
BEGIN:VEVENT
DTSTART;TZID=America/Los_Angeles:20230715T080000
DTEND;TZID=America/Los_Angeles:20230715T143000
DTSTAMP:20260425T175726
CREATED:20230626T182814Z
LAST-MODIFIED:20230626T182814Z
UID:10000754-1689408000-1689431400@web2.d11s.org
SUMMARY:Boat America
DESCRIPTION:A boat safety class that provides instruction and a certificate to get your California Boater Card. Presented by the Flotilla 05-09 training team.
URL:https://web2.d11s.org/event/boat-america/
ATTACH;FMTTYPE=image/jpeg:https://web2.d11s.org/wp-content/uploads/2023/06/Flyer-Boat-America-Class-July-15-2023-2.jpg
END:VEVENT
BEGIN:VEVENT
DTSTART;TZID=America/Los_Angeles:20230722T080000
DTEND;TZID=America/Los_Angeles:20230722T170000
DTSTAMP:20260425T175726
CREATED:20230703T160032Z
LAST-MODIFIED:20230703T160032Z
UID:10000757-1690012800-1690045200@web2.d11s.org
SUMMARY:Boat America
DESCRIPTION:Public Education class offered by Morro Bay Flotilla 7-61\nCoastal Gateway Community Room\nPort San Luis\, Avila Beach
URL:https://web2.d11s.org/event/boat-america-3/
END:VEVENT
BEGIN:VEVENT
DTSTART;TZID=America/Los_Angeles:20230729T090000
DTEND;TZID=America/Los_Angeles:20230729T160000
DTSTAMP:20260425T175726
CREATED:20230623T142220Z
LAST-MODIFIED:20230623T142220Z
UID:10000752-1690621200-1690646400@web2.d11s.org
SUMMARY:Boat America 8hr course
DESCRIPTION:Boat America class\nSat 29 July\n0900-1600 \nLOCATION: US Coast Guard Auxiliary Training Deck\, 4201 S. Victoria Ave\, Oxnard CA \nMORE INFORMATION: Flotilla 114-07-02 Contact Aux  Bill Wicks for more info: (805) 320-6028 \nCOST: $25.00
URL:https://web2.d11s.org/event/boat-america-8hr-course/
ATTACH;FMTTYPE=image/jpeg:https://web2.d11s.org/wp-content/uploads/2023/06/BoatAmerica_logo.jpg
END:VEVENT
END:VCALENDAR