BEGIN:VCALENDAR
VERSION:2.0
PRODID:-//US Coast Guard Auxiliary-D11S - ECPv6.15.20//NONSGML v1.0//EN
CALSCALE:GREGORIAN
METHOD:PUBLISH
X-ORIGINAL-URL:https://web2.d11s.org
X-WR-CALDESC:Events for US Coast Guard Auxiliary-D11S
REFRESH-INTERVAL;VALUE=DURATION:PT1H
X-Robots-Tag:noindex
X-PUBLISHED-TTL:PT1H
BEGIN:VTIMEZONE
TZID:America/Los_Angeles
BEGIN:DAYLIGHT
TZOFFSETFROM:-0800
TZOFFSETTO:-0700
TZNAME:PDT
DTSTART:20250309T100000
END:DAYLIGHT
BEGIN:STANDARD
TZOFFSETFROM:-0700
TZOFFSETTO:-0800
TZNAME:PST
DTSTART:20251102T090000
END:STANDARD
BEGIN:DAYLIGHT
TZOFFSETFROM:-0800
TZOFFSETTO:-0700
TZNAME:PDT
DTSTART:20260308T100000
END:DAYLIGHT
BEGIN:STANDARD
TZOFFSETFROM:-0700
TZOFFSETTO:-0800
TZNAME:PST
DTSTART:20261101T090000
END:STANDARD
BEGIN:DAYLIGHT
TZOFFSETFROM:-0800
TZOFFSETTO:-0700
TZNAME:PDT
DTSTART:20270314T100000
END:DAYLIGHT
BEGIN:STANDARD
TZOFFSETFROM:-0700
TZOFFSETTO:-0800
TZNAME:PST
DTSTART:20271107T090000
END:STANDARD
END:VTIMEZONE
BEGIN:VEVENT
DTSTART;TZID=America/Los_Angeles:20260423T174500
DTEND;TZID=America/Los_Angeles:20260423T200000
DTSTAMP:20260423T091550
CREATED:20260408T023457Z
LAST-MODIFIED:20260408T023632Z
UID:10002098-1776966300-1776974400@web2.d11s.org
SUMMARY:2026 RM/TCT
DESCRIPTION:2026 Risk Management/TCT Course \nTo register\, please contact Robert McKoy @ robertpmckoy@aol.com
URL:https://web2.d11s.org/event/rm-tct/2026-04-23/
LOCATION:Virtual Event
CATEGORIES:Member Training
ORGANIZER;CN="District 11":MAILTO:crosario.uscgaux@gmail.com
END:VEVENT
BEGIN:VEVENT
DTSTART;TZID=America/Los_Angeles:20260428T173000
DTEND;TZID=America/Los_Angeles:20260428T193000
DTSTAMP:20260423T091550
CREATED:20230606T224755Z
LAST-MODIFIED:20230606T224755Z
UID:10000291-1777397400-1777404600@web2.d11s.org
SUMMARY:West Coast Regional HF Radio Net
DESCRIPTION:The weekly HF Radio Net begins at 1830 hrs. Tuesdays on B5D. A concurrent virtual session starts around 1730 on  and provides an opportunity to meet net members\, get experience\, or get assistance with radio problems.\nMembers display their name and callsign. Guests display their name and guest.
URL:https://web2.d11s.org/event/west-coast-regional-hf-radio-net/2026-04-28/
ORGANIZER;CN="District 11":MAILTO:crosario.uscgaux@gmail.com
END:VEVENT
BEGIN:VEVENT
DTSTART;TZID=America/Los_Angeles:20260505T173000
DTEND;TZID=America/Los_Angeles:20260505T193000
DTSTAMP:20260423T091550
CREATED:20230606T224755Z
LAST-MODIFIED:20230606T224755Z
UID:10000292-1778002200-1778009400@web2.d11s.org
SUMMARY:West Coast Regional HF Radio Net
DESCRIPTION:The weekly HF Radio Net begins at 1830 hrs. Tuesdays on B5D. A concurrent virtual session starts around 1730 on  and provides an opportunity to meet net members\, get experience\, or get assistance with radio problems.\nMembers display their name and callsign. Guests display their name and guest.
URL:https://web2.d11s.org/event/west-coast-regional-hf-radio-net/2026-05-05/
ORGANIZER;CN="District 11":MAILTO:crosario.uscgaux@gmail.com
END:VEVENT
BEGIN:VEVENT
DTSTART;TZID=America/Los_Angeles:20260506T174500
DTEND;TZID=America/Los_Angeles:20260506T200000
DTSTAMP:20260423T091550
CREATED:20260408T023618Z
LAST-MODIFIED:20260408T023618Z
UID:10002099-1778089500-1778097600@web2.d11s.org
SUMMARY:2026 RM/TCT
DESCRIPTION:2026 Risk Management/TCT Course \nTo register\, please contact Robert McKoy @ robertpmckoy@aol.com
URL:https://web2.d11s.org/event/2026-rm-tct/2026-05-06/
LOCATION:Virtual Event
CATEGORIES:Member Training
ORGANIZER;CN="District 11":MAILTO:crosario.uscgaux@gmail.com
END:VEVENT
BEGIN:VEVENT
DTSTART;TZID=America/Los_Angeles:20260507T174500
DTEND;TZID=America/Los_Angeles:20260507T200000
DTSTAMP:20260423T091550
CREATED:20260408T023618Z
LAST-MODIFIED:20260408T023618Z
UID:10002100-1778175900-1778184000@web2.d11s.org
SUMMARY:2026 RM/TCT
DESCRIPTION:2026 Risk Management/TCT Course \nTo register\, please contact Robert McKoy @ robertpmckoy@aol.com
URL:https://web2.d11s.org/event/2026-rm-tct/2026-05-07/
LOCATION:Virtual Event
CATEGORIES:Member Training
ORGANIZER;CN="District 11":MAILTO:crosario.uscgaux@gmail.com
END:VEVENT
BEGIN:VEVENT
DTSTART;TZID=America/Los_Angeles:20260512T173000
DTEND;TZID=America/Los_Angeles:20260512T193000
DTSTAMP:20260423T091550
CREATED:20230606T224755Z
LAST-MODIFIED:20230606T224755Z
UID:10000293-1778607000-1778614200@web2.d11s.org
SUMMARY:West Coast Regional HF Radio Net
DESCRIPTION:The weekly HF Radio Net begins at 1830 hrs. Tuesdays on B5D. A concurrent virtual session starts around 1730 on  and provides an opportunity to meet net members\, get experience\, or get assistance with radio problems.\nMembers display their name and callsign. Guests display their name and guest.
URL:https://web2.d11s.org/event/west-coast-regional-hf-radio-net/2026-05-12/
ORGANIZER;CN="District 11":MAILTO:crosario.uscgaux@gmail.com
END:VEVENT
BEGIN:VEVENT
DTSTART;TZID=America/Los_Angeles:20260519T173000
DTEND;TZID=America/Los_Angeles:20260519T193000
DTSTAMP:20260423T091550
CREATED:20230606T224755Z
LAST-MODIFIED:20230606T224755Z
UID:10000294-1779211800-1779219000@web2.d11s.org
SUMMARY:West Coast Regional HF Radio Net
DESCRIPTION:The weekly HF Radio Net begins at 1830 hrs. Tuesdays on B5D. A concurrent virtual session starts around 1730 on  and provides an opportunity to meet net members\, get experience\, or get assistance with radio problems.\nMembers display their name and callsign. Guests display their name and guest.
URL:https://web2.d11s.org/event/west-coast-regional-hf-radio-net/2026-05-19/
ORGANIZER;CN="District 11":MAILTO:crosario.uscgaux@gmail.com
END:VEVENT
BEGIN:VEVENT
DTSTART;TZID=America/Los_Angeles:20260526T173000
DTEND;TZID=America/Los_Angeles:20260526T193000
DTSTAMP:20260423T091550
CREATED:20230606T224755Z
LAST-MODIFIED:20230606T224755Z
UID:10000295-1779816600-1779823800@web2.d11s.org
SUMMARY:West Coast Regional HF Radio Net
DESCRIPTION:The weekly HF Radio Net begins at 1830 hrs. Tuesdays on B5D. A concurrent virtual session starts around 1730 on  and provides an opportunity to meet net members\, get experience\, or get assistance with radio problems.\nMembers display their name and callsign. Guests display their name and guest.
URL:https://web2.d11s.org/event/west-coast-regional-hf-radio-net/2026-05-26/
ORGANIZER;CN="District 11":MAILTO:crosario.uscgaux@gmail.com
END:VEVENT
BEGIN:VEVENT
DTSTART;TZID=America/Los_Angeles:20260602T173000
DTEND;TZID=America/Los_Angeles:20260602T193000
DTSTAMP:20260423T091551
CREATED:20230606T224755Z
LAST-MODIFIED:20230606T224755Z
UID:10000296-1780421400-1780428600@web2.d11s.org
SUMMARY:West Coast Regional HF Radio Net
DESCRIPTION:The weekly HF Radio Net begins at 1830 hrs. Tuesdays on B5D. A concurrent virtual session starts around 1730 on  and provides an opportunity to meet net members\, get experience\, or get assistance with radio problems.\nMembers display their name and callsign. Guests display their name and guest.
URL:https://web2.d11s.org/event/west-coast-regional-hf-radio-net/2026-06-02/
ORGANIZER;CN="District 11":MAILTO:crosario.uscgaux@gmail.com
END:VEVENT
BEGIN:VEVENT
DTSTART;TZID=America/Los_Angeles:20260609T173000
DTEND;TZID=America/Los_Angeles:20260609T193000
DTSTAMP:20260423T091551
CREATED:20230606T224755Z
LAST-MODIFIED:20230606T224755Z
UID:10000297-1781026200-1781033400@web2.d11s.org
SUMMARY:West Coast Regional HF Radio Net
DESCRIPTION:The weekly HF Radio Net begins at 1830 hrs. Tuesdays on B5D. A concurrent virtual session starts around 1730 on  and provides an opportunity to meet net members\, get experience\, or get assistance with radio problems.\nMembers display their name and callsign. Guests display their name and guest.
URL:https://web2.d11s.org/event/west-coast-regional-hf-radio-net/2026-06-09/
ORGANIZER;CN="District 11":MAILTO:crosario.uscgaux@gmail.com
END:VEVENT
BEGIN:VEVENT
DTSTART;TZID=America/Los_Angeles:20260616T173000
DTEND;TZID=America/Los_Angeles:20260616T193000
DTSTAMP:20260423T091551
CREATED:20230606T224755Z
LAST-MODIFIED:20230606T224755Z
UID:10000298-1781631000-1781638200@web2.d11s.org
SUMMARY:West Coast Regional HF Radio Net
DESCRIPTION:The weekly HF Radio Net begins at 1830 hrs. Tuesdays on B5D. A concurrent virtual session starts around 1730 on  and provides an opportunity to meet net members\, get experience\, or get assistance with radio problems.\nMembers display their name and callsign. Guests display their name and guest.
URL:https://web2.d11s.org/event/west-coast-regional-hf-radio-net/2026-06-16/
ORGANIZER;CN="District 11":MAILTO:crosario.uscgaux@gmail.com
END:VEVENT
BEGIN:VEVENT
DTSTART;TZID=America/Los_Angeles:20260623T173000
DTEND;TZID=America/Los_Angeles:20260623T193000
DTSTAMP:20260423T091551
CREATED:20230606T224755Z
LAST-MODIFIED:20230606T224755Z
UID:10000299-1782235800-1782243000@web2.d11s.org
SUMMARY:West Coast Regional HF Radio Net
DESCRIPTION:The weekly HF Radio Net begins at 1830 hrs. Tuesdays on B5D. A concurrent virtual session starts around 1730 on  and provides an opportunity to meet net members\, get experience\, or get assistance with radio problems.\nMembers display their name and callsign. Guests display their name and guest.
URL:https://web2.d11s.org/event/west-coast-regional-hf-radio-net/2026-06-23/
ORGANIZER;CN="District 11":MAILTO:crosario.uscgaux@gmail.com
END:VEVENT
BEGIN:VEVENT
DTSTART;TZID=America/Los_Angeles:20260630T173000
DTEND;TZID=America/Los_Angeles:20260630T193000
DTSTAMP:20260423T091551
CREATED:20230606T224755Z
LAST-MODIFIED:20230606T224755Z
UID:10000300-1782840600-1782847800@web2.d11s.org
SUMMARY:West Coast Regional HF Radio Net
DESCRIPTION:The weekly HF Radio Net begins at 1830 hrs. Tuesdays on B5D. A concurrent virtual session starts around 1730 on  and provides an opportunity to meet net members\, get experience\, or get assistance with radio problems.\nMembers display their name and callsign. Guests display their name and guest.
URL:https://web2.d11s.org/event/west-coast-regional-hf-radio-net/2026-06-30/
ORGANIZER;CN="District 11":MAILTO:crosario.uscgaux@gmail.com
END:VEVENT
BEGIN:VEVENT
DTSTART;TZID=America/Los_Angeles:20260707T173000
DTEND;TZID=America/Los_Angeles:20260707T193000
DTSTAMP:20260423T091551
CREATED:20230606T224755Z
LAST-MODIFIED:20230606T224755Z
UID:10000301-1783445400-1783452600@web2.d11s.org
SUMMARY:West Coast Regional HF Radio Net
DESCRIPTION:The weekly HF Radio Net begins at 1830 hrs. Tuesdays on B5D. A concurrent virtual session starts around 1730 on  and provides an opportunity to meet net members\, get experience\, or get assistance with radio problems.\nMembers display their name and callsign. Guests display their name and guest.
URL:https://web2.d11s.org/event/west-coast-regional-hf-radio-net/2026-07-07/
ORGANIZER;CN="District 11":MAILTO:crosario.uscgaux@gmail.com
END:VEVENT
BEGIN:VEVENT
DTSTART;TZID=America/Los_Angeles:20260714T173000
DTEND;TZID=America/Los_Angeles:20260714T193000
DTSTAMP:20260423T091551
CREATED:20230606T224755Z
LAST-MODIFIED:20230606T224755Z
UID:10000302-1784050200-1784057400@web2.d11s.org
SUMMARY:West Coast Regional HF Radio Net
DESCRIPTION:The weekly HF Radio Net begins at 1830 hrs. Tuesdays on B5D. A concurrent virtual session starts around 1730 on  and provides an opportunity to meet net members\, get experience\, or get assistance with radio problems.\nMembers display their name and callsign. Guests display their name and guest.
URL:https://web2.d11s.org/event/west-coast-regional-hf-radio-net/2026-07-14/
ORGANIZER;CN="District 11":MAILTO:crosario.uscgaux@gmail.com
END:VEVENT
BEGIN:VEVENT
DTSTART;TZID=America/Los_Angeles:20260721T173000
DTEND;TZID=America/Los_Angeles:20260721T193000
DTSTAMP:20260423T091551
CREATED:20230606T224755Z
LAST-MODIFIED:20230606T224755Z
UID:10000303-1784655000-1784662200@web2.d11s.org
SUMMARY:West Coast Regional HF Radio Net
DESCRIPTION:The weekly HF Radio Net begins at 1830 hrs. Tuesdays on B5D. A concurrent virtual session starts around 1730 on  and provides an opportunity to meet net members\, get experience\, or get assistance with radio problems.\nMembers display their name and callsign. Guests display their name and guest.
URL:https://web2.d11s.org/event/west-coast-regional-hf-radio-net/2026-07-21/
ORGANIZER;CN="District 11":MAILTO:crosario.uscgaux@gmail.com
END:VEVENT
BEGIN:VEVENT
DTSTART;TZID=America/Los_Angeles:20260728T173000
DTEND;TZID=America/Los_Angeles:20260728T193000
DTSTAMP:20260423T091551
CREATED:20230606T224755Z
LAST-MODIFIED:20230606T224755Z
UID:10000304-1785259800-1785267000@web2.d11s.org
SUMMARY:West Coast Regional HF Radio Net
DESCRIPTION:The weekly HF Radio Net begins at 1830 hrs. Tuesdays on B5D. A concurrent virtual session starts around 1730 on  and provides an opportunity to meet net members\, get experience\, or get assistance with radio problems.\nMembers display their name and callsign. Guests display their name and guest.
URL:https://web2.d11s.org/event/west-coast-regional-hf-radio-net/2026-07-28/
ORGANIZER;CN="District 11":MAILTO:crosario.uscgaux@gmail.com
END:VEVENT
BEGIN:VEVENT
DTSTART;TZID=America/Los_Angeles:20260804T173000
DTEND;TZID=America/Los_Angeles:20260804T193000
DTSTAMP:20260423T091551
CREATED:20230606T224755Z
LAST-MODIFIED:20230606T224755Z
UID:10000305-1785864600-1785871800@web2.d11s.org
SUMMARY:West Coast Regional HF Radio Net
DESCRIPTION:The weekly HF Radio Net begins at 1830 hrs. Tuesdays on B5D. A concurrent virtual session starts around 1730 on  and provides an opportunity to meet net members\, get experience\, or get assistance with radio problems.\nMembers display their name and callsign. Guests display their name and guest.
URL:https://web2.d11s.org/event/west-coast-regional-hf-radio-net/2026-08-04/
ORGANIZER;CN="District 11":MAILTO:crosario.uscgaux@gmail.com
END:VEVENT
BEGIN:VEVENT
DTSTART;TZID=America/Los_Angeles:20260811T173000
DTEND;TZID=America/Los_Angeles:20260811T193000
DTSTAMP:20260423T091551
CREATED:20230606T224755Z
LAST-MODIFIED:20230606T224755Z
UID:10000306-1786469400-1786476600@web2.d11s.org
SUMMARY:West Coast Regional HF Radio Net
DESCRIPTION:The weekly HF Radio Net begins at 1830 hrs. Tuesdays on B5D. A concurrent virtual session starts around 1730 on  and provides an opportunity to meet net members\, get experience\, or get assistance with radio problems.\nMembers display their name and callsign. Guests display their name and guest.
URL:https://web2.d11s.org/event/west-coast-regional-hf-radio-net/2026-08-11/
ORGANIZER;CN="District 11":MAILTO:crosario.uscgaux@gmail.com
END:VEVENT
BEGIN:VEVENT
DTSTART;TZID=America/Los_Angeles:20260818T173000
DTEND;TZID=America/Los_Angeles:20260818T193000
DTSTAMP:20260423T091551
CREATED:20230606T224755Z
LAST-MODIFIED:20230606T224755Z
UID:10000307-1787074200-1787081400@web2.d11s.org
SUMMARY:West Coast Regional HF Radio Net
DESCRIPTION:The weekly HF Radio Net begins at 1830 hrs. Tuesdays on B5D. A concurrent virtual session starts around 1730 on  and provides an opportunity to meet net members\, get experience\, or get assistance with radio problems.\nMembers display their name and callsign. Guests display their name and guest.
URL:https://web2.d11s.org/event/west-coast-regional-hf-radio-net/2026-08-18/
ORGANIZER;CN="District 11":MAILTO:crosario.uscgaux@gmail.com
END:VEVENT
BEGIN:VEVENT
DTSTART;TZID=America/Los_Angeles:20260825T173000
DTEND;TZID=America/Los_Angeles:20260825T193000
DTSTAMP:20260423T091551
CREATED:20230606T224755Z
LAST-MODIFIED:20230606T224755Z
UID:10000308-1787679000-1787686200@web2.d11s.org
SUMMARY:West Coast Regional HF Radio Net
DESCRIPTION:The weekly HF Radio Net begins at 1830 hrs. Tuesdays on B5D. A concurrent virtual session starts around 1730 on  and provides an opportunity to meet net members\, get experience\, or get assistance with radio problems.\nMembers display their name and callsign. Guests display their name and guest.
URL:https://web2.d11s.org/event/west-coast-regional-hf-radio-net/2026-08-25/
ORGANIZER;CN="District 11":MAILTO:crosario.uscgaux@gmail.com
END:VEVENT
BEGIN:VEVENT
DTSTART;TZID=America/Los_Angeles:20260901T173000
DTEND;TZID=America/Los_Angeles:20260901T193000
DTSTAMP:20260423T091551
CREATED:20230606T224755Z
LAST-MODIFIED:20230606T224755Z
UID:10000309-1788283800-1788291000@web2.d11s.org
SUMMARY:West Coast Regional HF Radio Net
DESCRIPTION:The weekly HF Radio Net begins at 1830 hrs. Tuesdays on B5D. A concurrent virtual session starts around 1730 on  and provides an opportunity to meet net members\, get experience\, or get assistance with radio problems.\nMembers display their name and callsign. Guests display their name and guest.
URL:https://web2.d11s.org/event/west-coast-regional-hf-radio-net/2026-09-01/
ORGANIZER;CN="District 11":MAILTO:crosario.uscgaux@gmail.com
END:VEVENT
BEGIN:VEVENT
DTSTART;TZID=America/Los_Angeles:20260908T173000
DTEND;TZID=America/Los_Angeles:20260908T193000
DTSTAMP:20260423T091551
CREATED:20230606T224755Z
LAST-MODIFIED:20230606T224755Z
UID:10000310-1788888600-1788895800@web2.d11s.org
SUMMARY:West Coast Regional HF Radio Net
DESCRIPTION:The weekly HF Radio Net begins at 1830 hrs. Tuesdays on B5D. A concurrent virtual session starts around 1730 on  and provides an opportunity to meet net members\, get experience\, or get assistance with radio problems.\nMembers display their name and callsign. Guests display their name and guest.
URL:https://web2.d11s.org/event/west-coast-regional-hf-radio-net/2026-09-08/
ORGANIZER;CN="District 11":MAILTO:crosario.uscgaux@gmail.com
END:VEVENT
BEGIN:VEVENT
DTSTART;TZID=America/Los_Angeles:20260915T173000
DTEND;TZID=America/Los_Angeles:20260915T193000
DTSTAMP:20260423T091551
CREATED:20230606T224755Z
LAST-MODIFIED:20230606T224755Z
UID:10000311-1789493400-1789500600@web2.d11s.org
SUMMARY:West Coast Regional HF Radio Net
DESCRIPTION:The weekly HF Radio Net begins at 1830 hrs. Tuesdays on B5D. A concurrent virtual session starts around 1730 on  and provides an opportunity to meet net members\, get experience\, or get assistance with radio problems.\nMembers display their name and callsign. Guests display their name and guest.
URL:https://web2.d11s.org/event/west-coast-regional-hf-radio-net/2026-09-15/
ORGANIZER;CN="District 11":MAILTO:crosario.uscgaux@gmail.com
END:VEVENT
BEGIN:VEVENT
DTSTART;TZID=America/Los_Angeles:20260922T173000
DTEND;TZID=America/Los_Angeles:20260922T193000
DTSTAMP:20260423T091551
CREATED:20230606T224755Z
LAST-MODIFIED:20230606T224755Z
UID:10000312-1790098200-1790105400@web2.d11s.org
SUMMARY:West Coast Regional HF Radio Net
DESCRIPTION:The weekly HF Radio Net begins at 1830 hrs. Tuesdays on B5D. A concurrent virtual session starts around 1730 on  and provides an opportunity to meet net members\, get experience\, or get assistance with radio problems.\nMembers display their name and callsign. Guests display their name and guest.
URL:https://web2.d11s.org/event/west-coast-regional-hf-radio-net/2026-09-22/
ORGANIZER;CN="District 11":MAILTO:crosario.uscgaux@gmail.com
END:VEVENT
BEGIN:VEVENT
DTSTART;TZID=America/Los_Angeles:20260929T173000
DTEND;TZID=America/Los_Angeles:20260929T193000
DTSTAMP:20260423T091551
CREATED:20230606T224755Z
LAST-MODIFIED:20230606T224755Z
UID:10000313-1790703000-1790710200@web2.d11s.org
SUMMARY:West Coast Regional HF Radio Net
DESCRIPTION:The weekly HF Radio Net begins at 1830 hrs. Tuesdays on B5D. A concurrent virtual session starts around 1730 on  and provides an opportunity to meet net members\, get experience\, or get assistance with radio problems.\nMembers display their name and callsign. Guests display their name and guest.
URL:https://web2.d11s.org/event/west-coast-regional-hf-radio-net/2026-09-29/
ORGANIZER;CN="District 11":MAILTO:crosario.uscgaux@gmail.com
END:VEVENT
BEGIN:VEVENT
DTSTART;TZID=America/Los_Angeles:20261006T173000
DTEND;TZID=America/Los_Angeles:20261006T193000
DTSTAMP:20260423T091551
CREATED:20230606T224755Z
LAST-MODIFIED:20230606T224755Z
UID:10000314-1791307800-1791315000@web2.d11s.org
SUMMARY:West Coast Regional HF Radio Net
DESCRIPTION:The weekly HF Radio Net begins at 1830 hrs. Tuesdays on B5D. A concurrent virtual session starts around 1730 on  and provides an opportunity to meet net members\, get experience\, or get assistance with radio problems.\nMembers display their name and callsign. Guests display their name and guest.
URL:https://web2.d11s.org/event/west-coast-regional-hf-radio-net/2026-10-06/
ORGANIZER;CN="District 11":MAILTO:crosario.uscgaux@gmail.com
END:VEVENT
BEGIN:VEVENT
DTSTART;TZID=America/Los_Angeles:20261013T173000
DTEND;TZID=America/Los_Angeles:20261013T193000
DTSTAMP:20260423T091551
CREATED:20230606T224755Z
LAST-MODIFIED:20230606T224755Z
UID:10000315-1791912600-1791919800@web2.d11s.org
SUMMARY:West Coast Regional HF Radio Net
DESCRIPTION:The weekly HF Radio Net begins at 1830 hrs. Tuesdays on B5D. A concurrent virtual session starts around 1730 on  and provides an opportunity to meet net members\, get experience\, or get assistance with radio problems.\nMembers display their name and callsign. Guests display their name and guest.
URL:https://web2.d11s.org/event/west-coast-regional-hf-radio-net/2026-10-13/
ORGANIZER;CN="District 11":MAILTO:crosario.uscgaux@gmail.com
END:VEVENT
BEGIN:VEVENT
DTSTART;TZID=America/Los_Angeles:20261020T173000
DTEND;TZID=America/Los_Angeles:20261020T193000
DTSTAMP:20260423T091551
CREATED:20230606T224755Z
LAST-MODIFIED:20230606T224755Z
UID:10000316-1792517400-1792524600@web2.d11s.org
SUMMARY:West Coast Regional HF Radio Net
DESCRIPTION:The weekly HF Radio Net begins at 1830 hrs. Tuesdays on B5D. A concurrent virtual session starts around 1730 on  and provides an opportunity to meet net members\, get experience\, or get assistance with radio problems.\nMembers display their name and callsign. Guests display their name and guest.
URL:https://web2.d11s.org/event/west-coast-regional-hf-radio-net/2026-10-20/
ORGANIZER;CN="District 11":MAILTO:crosario.uscgaux@gmail.com
END:VEVENT
BEGIN:VEVENT
DTSTART;TZID=America/Los_Angeles:20261027T173000
DTEND;TZID=America/Los_Angeles:20261027T193000
DTSTAMP:20260423T091551
CREATED:20230606T224755Z
LAST-MODIFIED:20230606T224755Z
UID:10000317-1793122200-1793129400@web2.d11s.org
SUMMARY:West Coast Regional HF Radio Net
DESCRIPTION:The weekly HF Radio Net begins at 1830 hrs. Tuesdays on B5D. A concurrent virtual session starts around 1730 on  and provides an opportunity to meet net members\, get experience\, or get assistance with radio problems.\nMembers display their name and callsign. Guests display their name and guest.
URL:https://web2.d11s.org/event/west-coast-regional-hf-radio-net/2026-10-27/
ORGANIZER;CN="District 11":MAILTO:crosario.uscgaux@gmail.com
END:VEVENT
END:VCALENDAR