BEGIN:VCALENDAR
VERSION:2.0
PRODID:-//US Coast Guard Auxiliary-D11S - ECPv6.15.20//NONSGML v1.0//EN
CALSCALE:GREGORIAN
METHOD:PUBLISH
X-ORIGINAL-URL:https://web2.d11s.org
X-WR-CALDESC:Events for US Coast Guard Auxiliary-D11S
REFRESH-INTERVAL;VALUE=DURATION:PT1H
X-Robots-Tag:noindex
X-PUBLISHED-TTL:PT1H
BEGIN:VTIMEZONE
TZID:America/Los_Angeles
BEGIN:DAYLIGHT
TZOFFSETFROM:-0800
TZOFFSETTO:-0700
TZNAME:PDT
DTSTART:20250309T100000
END:DAYLIGHT
BEGIN:STANDARD
TZOFFSETFROM:-0700
TZOFFSETTO:-0800
TZNAME:PST
DTSTART:20251102T090000
END:STANDARD
BEGIN:DAYLIGHT
TZOFFSETFROM:-0800
TZOFFSETTO:-0700
TZNAME:PDT
DTSTART:20260308T100000
END:DAYLIGHT
BEGIN:STANDARD
TZOFFSETFROM:-0700
TZOFFSETTO:-0800
TZNAME:PST
DTSTART:20261101T090000
END:STANDARD
BEGIN:DAYLIGHT
TZOFFSETFROM:-0800
TZOFFSETTO:-0700
TZNAME:PDT
DTSTART:20270314T100000
END:DAYLIGHT
BEGIN:STANDARD
TZOFFSETFROM:-0700
TZOFFSETTO:-0800
TZNAME:PST
DTSTART:20271107T090000
END:STANDARD
BEGIN:DAYLIGHT
TZOFFSETFROM:-0800
TZOFFSETTO:-0700
TZNAME:PDT
DTSTART:20280312T100000
END:DAYLIGHT
BEGIN:STANDARD
TZOFFSETFROM:-0700
TZOFFSETTO:-0800
TZNAME:PST
DTSTART:20281105T090000
END:STANDARD
END:VTIMEZONE
BEGIN:VEVENT
DTSTART;TZID=America/Los_Angeles:20261215T173000
DTEND;TZID=America/Los_Angeles:20261215T193000
DTSTAMP:20260423T154016
CREATED:20230606T224755Z
LAST-MODIFIED:20230606T224755Z
UID:10000324-1797355800-1797363000@web2.d11s.org
SUMMARY:West Coast Regional HF Radio Net
DESCRIPTION:The weekly HF Radio Net begins at 1830 hrs. Tuesdays on B5D. A concurrent virtual session starts around 1730 on  and provides an opportunity to meet net members\, get experience\, or get assistance with radio problems.\nMembers display their name and callsign. Guests display their name and guest.
URL:https://web2.d11s.org/event/west-coast-regional-hf-radio-net/2026-12-15/
ORGANIZER;CN="District 11":MAILTO:crosario.uscgaux@gmail.com
END:VEVENT
BEGIN:VEVENT
DTSTART;TZID=America/Los_Angeles:20261222T173000
DTEND;TZID=America/Los_Angeles:20261222T193000
DTSTAMP:20260423T154016
CREATED:20230606T224755Z
LAST-MODIFIED:20230606T224755Z
UID:10000325-1797960600-1797967800@web2.d11s.org
SUMMARY:West Coast Regional HF Radio Net
DESCRIPTION:The weekly HF Radio Net begins at 1830 hrs. Tuesdays on B5D. A concurrent virtual session starts around 1730 on  and provides an opportunity to meet net members\, get experience\, or get assistance with radio problems.\nMembers display their name and callsign. Guests display their name and guest.
URL:https://web2.d11s.org/event/west-coast-regional-hf-radio-net/2026-12-22/
ORGANIZER;CN="District 11":MAILTO:crosario.uscgaux@gmail.com
END:VEVENT
BEGIN:VEVENT
DTSTART;TZID=America/Los_Angeles:20261229T173000
DTEND;TZID=America/Los_Angeles:20261229T193000
DTSTAMP:20260423T154016
CREATED:20230606T224755Z
LAST-MODIFIED:20230606T224755Z
UID:10000326-1798565400-1798572600@web2.d11s.org
SUMMARY:West Coast Regional HF Radio Net
DESCRIPTION:The weekly HF Radio Net begins at 1830 hrs. Tuesdays on B5D. A concurrent virtual session starts around 1730 on  and provides an opportunity to meet net members\, get experience\, or get assistance with radio problems.\nMembers display their name and callsign. Guests display their name and guest.
URL:https://web2.d11s.org/event/west-coast-regional-hf-radio-net/2026-12-29/
ORGANIZER;CN="District 11":MAILTO:crosario.uscgaux@gmail.com
END:VEVENT
BEGIN:VEVENT
DTSTART;TZID=America/Los_Angeles:20270105T173000
DTEND;TZID=America/Los_Angeles:20270105T193000
DTSTAMP:20260423T154016
CREATED:20230606T224755Z
LAST-MODIFIED:20230606T224755Z
UID:10000327-1799170200-1799177400@web2.d11s.org
SUMMARY:West Coast Regional HF Radio Net
DESCRIPTION:The weekly HF Radio Net begins at 1830 hrs. Tuesdays on B5D. A concurrent virtual session starts around 1730 on  and provides an opportunity to meet net members\, get experience\, or get assistance with radio problems.\nMembers display their name and callsign. Guests display their name and guest.
URL:https://web2.d11s.org/event/west-coast-regional-hf-radio-net/2027-01-05/
ORGANIZER;CN="District 11":MAILTO:crosario.uscgaux@gmail.com
END:VEVENT
BEGIN:VEVENT
DTSTART;TZID=America/Los_Angeles:20270112T173000
DTEND;TZID=America/Los_Angeles:20270112T193000
DTSTAMP:20260423T154016
CREATED:20230606T224755Z
LAST-MODIFIED:20230606T224755Z
UID:10000328-1799775000-1799782200@web2.d11s.org
SUMMARY:West Coast Regional HF Radio Net
DESCRIPTION:The weekly HF Radio Net begins at 1830 hrs. Tuesdays on B5D. A concurrent virtual session starts around 1730 on  and provides an opportunity to meet net members\, get experience\, or get assistance with radio problems.\nMembers display their name and callsign. Guests display their name and guest.
URL:https://web2.d11s.org/event/west-coast-regional-hf-radio-net/2027-01-12/
ORGANIZER;CN="District 11":MAILTO:crosario.uscgaux@gmail.com
END:VEVENT
BEGIN:VEVENT
DTSTART;TZID=America/Los_Angeles:20270119T173000
DTEND;TZID=America/Los_Angeles:20270119T193000
DTSTAMP:20260423T154016
CREATED:20230606T224755Z
LAST-MODIFIED:20230606T224755Z
UID:10000329-1800379800-1800387000@web2.d11s.org
SUMMARY:West Coast Regional HF Radio Net
DESCRIPTION:The weekly HF Radio Net begins at 1830 hrs. Tuesdays on B5D. A concurrent virtual session starts around 1730 on  and provides an opportunity to meet net members\, get experience\, or get assistance with radio problems.\nMembers display their name and callsign. Guests display their name and guest.
URL:https://web2.d11s.org/event/west-coast-regional-hf-radio-net/2027-01-19/
ORGANIZER;CN="District 11":MAILTO:crosario.uscgaux@gmail.com
END:VEVENT
BEGIN:VEVENT
DTSTART;TZID=America/Los_Angeles:20270126T173000
DTEND;TZID=America/Los_Angeles:20270126T193000
DTSTAMP:20260423T154016
CREATED:20230606T224755Z
LAST-MODIFIED:20230606T224755Z
UID:10000330-1800984600-1800991800@web2.d11s.org
SUMMARY:West Coast Regional HF Radio Net
DESCRIPTION:The weekly HF Radio Net begins at 1830 hrs. Tuesdays on B5D. A concurrent virtual session starts around 1730 on  and provides an opportunity to meet net members\, get experience\, or get assistance with radio problems.\nMembers display their name and callsign. Guests display their name and guest.
URL:https://web2.d11s.org/event/west-coast-regional-hf-radio-net/2027-01-26/
ORGANIZER;CN="District 11":MAILTO:crosario.uscgaux@gmail.com
END:VEVENT
BEGIN:VEVENT
DTSTART;TZID=America/Los_Angeles:20270202T173000
DTEND;TZID=America/Los_Angeles:20270202T193000
DTSTAMP:20260423T154016
CREATED:20230606T224755Z
LAST-MODIFIED:20230606T224755Z
UID:10000331-1801589400-1801596600@web2.d11s.org
SUMMARY:West Coast Regional HF Radio Net
DESCRIPTION:The weekly HF Radio Net begins at 1830 hrs. Tuesdays on B5D. A concurrent virtual session starts around 1730 on  and provides an opportunity to meet net members\, get experience\, or get assistance with radio problems.\nMembers display their name and callsign. Guests display their name and guest.
URL:https://web2.d11s.org/event/west-coast-regional-hf-radio-net/2027-02-02/
ORGANIZER;CN="District 11":MAILTO:crosario.uscgaux@gmail.com
END:VEVENT
BEGIN:VEVENT
DTSTART;TZID=America/Los_Angeles:20270209T173000
DTEND;TZID=America/Los_Angeles:20270209T193000
DTSTAMP:20260423T154016
CREATED:20230606T224755Z
LAST-MODIFIED:20230606T224755Z
UID:10000332-1802194200-1802201400@web2.d11s.org
SUMMARY:West Coast Regional HF Radio Net
DESCRIPTION:The weekly HF Radio Net begins at 1830 hrs. Tuesdays on B5D. A concurrent virtual session starts around 1730 on  and provides an opportunity to meet net members\, get experience\, or get assistance with radio problems.\nMembers display their name and callsign. Guests display their name and guest.
URL:https://web2.d11s.org/event/west-coast-regional-hf-radio-net/2027-02-09/
ORGANIZER;CN="District 11":MAILTO:crosario.uscgaux@gmail.com
END:VEVENT
BEGIN:VEVENT
DTSTART;TZID=America/Los_Angeles:20270216T173000
DTEND;TZID=America/Los_Angeles:20270216T193000
DTSTAMP:20260423T154016
CREATED:20230606T224755Z
LAST-MODIFIED:20230606T224755Z
UID:10000333-1802799000-1802806200@web2.d11s.org
SUMMARY:West Coast Regional HF Radio Net
DESCRIPTION:The weekly HF Radio Net begins at 1830 hrs. Tuesdays on B5D. A concurrent virtual session starts around 1730 on  and provides an opportunity to meet net members\, get experience\, or get assistance with radio problems.\nMembers display their name and callsign. Guests display their name and guest.
URL:https://web2.d11s.org/event/west-coast-regional-hf-radio-net/2027-02-16/
ORGANIZER;CN="District 11":MAILTO:crosario.uscgaux@gmail.com
END:VEVENT
BEGIN:VEVENT
DTSTART;TZID=America/Los_Angeles:20270223T173000
DTEND;TZID=America/Los_Angeles:20270223T193000
DTSTAMP:20260423T154016
CREATED:20230606T224755Z
LAST-MODIFIED:20230606T224755Z
UID:10000334-1803403800-1803411000@web2.d11s.org
SUMMARY:West Coast Regional HF Radio Net
DESCRIPTION:The weekly HF Radio Net begins at 1830 hrs. Tuesdays on B5D. A concurrent virtual session starts around 1730 on  and provides an opportunity to meet net members\, get experience\, or get assistance with radio problems.\nMembers display their name and callsign. Guests display their name and guest.
URL:https://web2.d11s.org/event/west-coast-regional-hf-radio-net/2027-02-23/
ORGANIZER;CN="District 11":MAILTO:crosario.uscgaux@gmail.com
END:VEVENT
BEGIN:VEVENT
DTSTART;TZID=America/Los_Angeles:20270302T173000
DTEND;TZID=America/Los_Angeles:20270302T193000
DTSTAMP:20260423T154016
CREATED:20230606T224755Z
LAST-MODIFIED:20230606T224755Z
UID:10000335-1804008600-1804015800@web2.d11s.org
SUMMARY:West Coast Regional HF Radio Net
DESCRIPTION:The weekly HF Radio Net begins at 1830 hrs. Tuesdays on B5D. A concurrent virtual session starts around 1730 on  and provides an opportunity to meet net members\, get experience\, or get assistance with radio problems.\nMembers display their name and callsign. Guests display their name and guest.
URL:https://web2.d11s.org/event/west-coast-regional-hf-radio-net/2027-03-02/
ORGANIZER;CN="District 11":MAILTO:crosario.uscgaux@gmail.com
END:VEVENT
BEGIN:VEVENT
DTSTART;TZID=America/Los_Angeles:20270309T173000
DTEND;TZID=America/Los_Angeles:20270309T193000
DTSTAMP:20260423T154016
CREATED:20230606T224755Z
LAST-MODIFIED:20230606T224755Z
UID:10000336-1804613400-1804620600@web2.d11s.org
SUMMARY:West Coast Regional HF Radio Net
DESCRIPTION:The weekly HF Radio Net begins at 1830 hrs. Tuesdays on B5D. A concurrent virtual session starts around 1730 on  and provides an opportunity to meet net members\, get experience\, or get assistance with radio problems.\nMembers display their name and callsign. Guests display their name and guest.
URL:https://web2.d11s.org/event/west-coast-regional-hf-radio-net/2027-03-09/
ORGANIZER;CN="District 11":MAILTO:crosario.uscgaux@gmail.com
END:VEVENT
BEGIN:VEVENT
DTSTART;TZID=America/Los_Angeles:20270316T173000
DTEND;TZID=America/Los_Angeles:20270316T193000
DTSTAMP:20260423T154016
CREATED:20230606T224755Z
LAST-MODIFIED:20230606T224755Z
UID:10000337-1805218200-1805225400@web2.d11s.org
SUMMARY:West Coast Regional HF Radio Net
DESCRIPTION:The weekly HF Radio Net begins at 1830 hrs. Tuesdays on B5D. A concurrent virtual session starts around 1730 on  and provides an opportunity to meet net members\, get experience\, or get assistance with radio problems.\nMembers display their name and callsign. Guests display their name and guest.
URL:https://web2.d11s.org/event/west-coast-regional-hf-radio-net/2027-03-16/
ORGANIZER;CN="District 11":MAILTO:crosario.uscgaux@gmail.com
END:VEVENT
BEGIN:VEVENT
DTSTART;TZID=America/Los_Angeles:20270323T173000
DTEND;TZID=America/Los_Angeles:20270323T193000
DTSTAMP:20260423T154016
CREATED:20230606T224755Z
LAST-MODIFIED:20230606T224755Z
UID:10000338-1805823000-1805830200@web2.d11s.org
SUMMARY:West Coast Regional HF Radio Net
DESCRIPTION:The weekly HF Radio Net begins at 1830 hrs. Tuesdays on B5D. A concurrent virtual session starts around 1730 on  and provides an opportunity to meet net members\, get experience\, or get assistance with radio problems.\nMembers display their name and callsign. Guests display their name and guest.
URL:https://web2.d11s.org/event/west-coast-regional-hf-radio-net/2027-03-23/
ORGANIZER;CN="District 11":MAILTO:crosario.uscgaux@gmail.com
END:VEVENT
BEGIN:VEVENT
DTSTART;TZID=America/Los_Angeles:20270330T173000
DTEND;TZID=America/Los_Angeles:20270330T193000
DTSTAMP:20260423T154016
CREATED:20230606T224755Z
LAST-MODIFIED:20230606T224755Z
UID:10000339-1806427800-1806435000@web2.d11s.org
SUMMARY:West Coast Regional HF Radio Net
DESCRIPTION:The weekly HF Radio Net begins at 1830 hrs. Tuesdays on B5D. A concurrent virtual session starts around 1730 on  and provides an opportunity to meet net members\, get experience\, or get assistance with radio problems.\nMembers display their name and callsign. Guests display their name and guest.
URL:https://web2.d11s.org/event/west-coast-regional-hf-radio-net/2027-03-30/
ORGANIZER;CN="District 11":MAILTO:crosario.uscgaux@gmail.com
END:VEVENT
BEGIN:VEVENT
DTSTART;TZID=America/Los_Angeles:20270406T173000
DTEND;TZID=America/Los_Angeles:20270406T193000
DTSTAMP:20260423T154016
CREATED:20230606T224755Z
LAST-MODIFIED:20230606T224755Z
UID:10000340-1807032600-1807039800@web2.d11s.org
SUMMARY:West Coast Regional HF Radio Net
DESCRIPTION:The weekly HF Radio Net begins at 1830 hrs. Tuesdays on B5D. A concurrent virtual session starts around 1730 on  and provides an opportunity to meet net members\, get experience\, or get assistance with radio problems.\nMembers display their name and callsign. Guests display their name and guest.
URL:https://web2.d11s.org/event/west-coast-regional-hf-radio-net/2027-04-06/
ORGANIZER;CN="District 11":MAILTO:crosario.uscgaux@gmail.com
END:VEVENT
BEGIN:VEVENT
DTSTART;TZID=America/Los_Angeles:20270413T173000
DTEND;TZID=America/Los_Angeles:20270413T193000
DTSTAMP:20260423T154016
CREATED:20230606T224755Z
LAST-MODIFIED:20230606T224755Z
UID:10000341-1807637400-1807644600@web2.d11s.org
SUMMARY:West Coast Regional HF Radio Net
DESCRIPTION:The weekly HF Radio Net begins at 1830 hrs. Tuesdays on B5D. A concurrent virtual session starts around 1730 on  and provides an opportunity to meet net members\, get experience\, or get assistance with radio problems.\nMembers display their name and callsign. Guests display their name and guest.
URL:https://web2.d11s.org/event/west-coast-regional-hf-radio-net/2027-04-13/
ORGANIZER;CN="District 11":MAILTO:crosario.uscgaux@gmail.com
END:VEVENT
BEGIN:VEVENT
DTSTART;TZID=America/Los_Angeles:20270420T173000
DTEND;TZID=America/Los_Angeles:20270420T193000
DTSTAMP:20260423T154016
CREATED:20230606T224755Z
LAST-MODIFIED:20230606T224755Z
UID:10000342-1808242200-1808249400@web2.d11s.org
SUMMARY:West Coast Regional HF Radio Net
DESCRIPTION:The weekly HF Radio Net begins at 1830 hrs. Tuesdays on B5D. A concurrent virtual session starts around 1730 on  and provides an opportunity to meet net members\, get experience\, or get assistance with radio problems.\nMembers display their name and callsign. Guests display their name and guest.
URL:https://web2.d11s.org/event/west-coast-regional-hf-radio-net/2027-04-20/
ORGANIZER;CN="District 11":MAILTO:crosario.uscgaux@gmail.com
END:VEVENT
BEGIN:VEVENT
DTSTART;TZID=America/Los_Angeles:20270427T173000
DTEND;TZID=America/Los_Angeles:20270427T193000
DTSTAMP:20260423T154016
CREATED:20230606T224755Z
LAST-MODIFIED:20230606T224755Z
UID:10000343-1808847000-1808854200@web2.d11s.org
SUMMARY:West Coast Regional HF Radio Net
DESCRIPTION:The weekly HF Radio Net begins at 1830 hrs. Tuesdays on B5D. A concurrent virtual session starts around 1730 on  and provides an opportunity to meet net members\, get experience\, or get assistance with radio problems.\nMembers display their name and callsign. Guests display their name and guest.
URL:https://web2.d11s.org/event/west-coast-regional-hf-radio-net/2027-04-27/
ORGANIZER;CN="District 11":MAILTO:crosario.uscgaux@gmail.com
END:VEVENT
BEGIN:VEVENT
DTSTART;TZID=America/Los_Angeles:20270504T173000
DTEND;TZID=America/Los_Angeles:20270504T193000
DTSTAMP:20260423T154016
CREATED:20230606T224755Z
LAST-MODIFIED:20230606T224755Z
UID:10000344-1809451800-1809459000@web2.d11s.org
SUMMARY:West Coast Regional HF Radio Net
DESCRIPTION:The weekly HF Radio Net begins at 1830 hrs. Tuesdays on B5D. A concurrent virtual session starts around 1730 on  and provides an opportunity to meet net members\, get experience\, or get assistance with radio problems.\nMembers display their name and callsign. Guests display their name and guest.
URL:https://web2.d11s.org/event/west-coast-regional-hf-radio-net/2027-05-04/
ORGANIZER;CN="District 11":MAILTO:crosario.uscgaux@gmail.com
END:VEVENT
BEGIN:VEVENT
DTSTART;TZID=America/Los_Angeles:20270511T173000
DTEND;TZID=America/Los_Angeles:20270511T193000
DTSTAMP:20260423T154016
CREATED:20230606T224755Z
LAST-MODIFIED:20230606T224755Z
UID:10000345-1810056600-1810063800@web2.d11s.org
SUMMARY:West Coast Regional HF Radio Net
DESCRIPTION:The weekly HF Radio Net begins at 1830 hrs. Tuesdays on B5D. A concurrent virtual session starts around 1730 on  and provides an opportunity to meet net members\, get experience\, or get assistance with radio problems.\nMembers display their name and callsign. Guests display their name and guest.
URL:https://web2.d11s.org/event/west-coast-regional-hf-radio-net/2027-05-11/
ORGANIZER;CN="District 11":MAILTO:crosario.uscgaux@gmail.com
END:VEVENT
BEGIN:VEVENT
DTSTART;TZID=America/Los_Angeles:20270518T173000
DTEND;TZID=America/Los_Angeles:20270518T193000
DTSTAMP:20260423T154016
CREATED:20230606T224755Z
LAST-MODIFIED:20230606T224755Z
UID:10000346-1810661400-1810668600@web2.d11s.org
SUMMARY:West Coast Regional HF Radio Net
DESCRIPTION:The weekly HF Radio Net begins at 1830 hrs. Tuesdays on B5D. A concurrent virtual session starts around 1730 on  and provides an opportunity to meet net members\, get experience\, or get assistance with radio problems.\nMembers display their name and callsign. Guests display their name and guest.
URL:https://web2.d11s.org/event/west-coast-regional-hf-radio-net/2027-05-18/
ORGANIZER;CN="District 11":MAILTO:crosario.uscgaux@gmail.com
END:VEVENT
BEGIN:VEVENT
DTSTART;TZID=America/Los_Angeles:20270525T173000
DTEND;TZID=America/Los_Angeles:20270525T193000
DTSTAMP:20260423T154016
CREATED:20230606T224755Z
LAST-MODIFIED:20230606T224755Z
UID:10000347-1811266200-1811273400@web2.d11s.org
SUMMARY:West Coast Regional HF Radio Net
DESCRIPTION:The weekly HF Radio Net begins at 1830 hrs. Tuesdays on B5D. A concurrent virtual session starts around 1730 on  and provides an opportunity to meet net members\, get experience\, or get assistance with radio problems.\nMembers display their name and callsign. Guests display their name and guest.
URL:https://web2.d11s.org/event/west-coast-regional-hf-radio-net/2027-05-25/
ORGANIZER;CN="District 11":MAILTO:crosario.uscgaux@gmail.com
END:VEVENT
BEGIN:VEVENT
DTSTART;TZID=America/Los_Angeles:20270601T173000
DTEND;TZID=America/Los_Angeles:20270601T193000
DTSTAMP:20260423T154016
CREATED:20230606T224755Z
LAST-MODIFIED:20230606T224755Z
UID:10000348-1811871000-1811878200@web2.d11s.org
SUMMARY:West Coast Regional HF Radio Net
DESCRIPTION:The weekly HF Radio Net begins at 1830 hrs. Tuesdays on B5D. A concurrent virtual session starts around 1730 on  and provides an opportunity to meet net members\, get experience\, or get assistance with radio problems.\nMembers display their name and callsign. Guests display their name and guest.
URL:https://web2.d11s.org/event/west-coast-regional-hf-radio-net/2027-06-01/
ORGANIZER;CN="District 11":MAILTO:crosario.uscgaux@gmail.com
END:VEVENT
BEGIN:VEVENT
DTSTART;TZID=America/Los_Angeles:20270608T173000
DTEND;TZID=America/Los_Angeles:20270608T193000
DTSTAMP:20260423T154016
CREATED:20230606T224755Z
LAST-MODIFIED:20230606T224755Z
UID:10000349-1812475800-1812483000@web2.d11s.org
SUMMARY:West Coast Regional HF Radio Net
DESCRIPTION:The weekly HF Radio Net begins at 1830 hrs. Tuesdays on B5D. A concurrent virtual session starts around 1730 on  and provides an opportunity to meet net members\, get experience\, or get assistance with radio problems.\nMembers display their name and callsign. Guests display their name and guest.
URL:https://web2.d11s.org/event/west-coast-regional-hf-radio-net/2027-06-08/
ORGANIZER;CN="District 11":MAILTO:crosario.uscgaux@gmail.com
END:VEVENT
BEGIN:VEVENT
DTSTART;TZID=America/Los_Angeles:20270615T173000
DTEND;TZID=America/Los_Angeles:20270615T193000
DTSTAMP:20260423T154016
CREATED:20230606T224755Z
LAST-MODIFIED:20230606T224755Z
UID:10000350-1813080600-1813087800@web2.d11s.org
SUMMARY:West Coast Regional HF Radio Net
DESCRIPTION:The weekly HF Radio Net begins at 1830 hrs. Tuesdays on B5D. A concurrent virtual session starts around 1730 on  and provides an opportunity to meet net members\, get experience\, or get assistance with radio problems.\nMembers display their name and callsign. Guests display their name and guest.
URL:https://web2.d11s.org/event/west-coast-regional-hf-radio-net/2027-06-15/
ORGANIZER;CN="District 11":MAILTO:crosario.uscgaux@gmail.com
END:VEVENT
BEGIN:VEVENT
DTSTART;TZID=America/Los_Angeles:20270622T173000
DTEND;TZID=America/Los_Angeles:20270622T193000
DTSTAMP:20260423T154016
CREATED:20230606T224755Z
LAST-MODIFIED:20230606T224755Z
UID:10000351-1813685400-1813692600@web2.d11s.org
SUMMARY:West Coast Regional HF Radio Net
DESCRIPTION:The weekly HF Radio Net begins at 1830 hrs. Tuesdays on B5D. A concurrent virtual session starts around 1730 on  and provides an opportunity to meet net members\, get experience\, or get assistance with radio problems.\nMembers display their name and callsign. Guests display their name and guest.
URL:https://web2.d11s.org/event/west-coast-regional-hf-radio-net/2027-06-22/
ORGANIZER;CN="District 11":MAILTO:crosario.uscgaux@gmail.com
END:VEVENT
BEGIN:VEVENT
DTSTART;TZID=America/Los_Angeles:20270629T173000
DTEND;TZID=America/Los_Angeles:20270629T193000
DTSTAMP:20260423T154016
CREATED:20230606T224755Z
LAST-MODIFIED:20230606T224755Z
UID:10000352-1814290200-1814297400@web2.d11s.org
SUMMARY:West Coast Regional HF Radio Net
DESCRIPTION:The weekly HF Radio Net begins at 1830 hrs. Tuesdays on B5D. A concurrent virtual session starts around 1730 on  and provides an opportunity to meet net members\, get experience\, or get assistance with radio problems.\nMembers display their name and callsign. Guests display their name and guest.
URL:https://web2.d11s.org/event/west-coast-regional-hf-radio-net/2027-06-29/
ORGANIZER;CN="District 11":MAILTO:crosario.uscgaux@gmail.com
END:VEVENT
BEGIN:VEVENT
DTSTART;TZID=America/Los_Angeles:20270706T173000
DTEND;TZID=America/Los_Angeles:20270706T193000
DTSTAMP:20260423T154016
CREATED:20230606T224755Z
LAST-MODIFIED:20230606T224755Z
UID:10000353-1814895000-1814902200@web2.d11s.org
SUMMARY:West Coast Regional HF Radio Net
DESCRIPTION:The weekly HF Radio Net begins at 1830 hrs. Tuesdays on B5D. A concurrent virtual session starts around 1730 on  and provides an opportunity to meet net members\, get experience\, or get assistance with radio problems.\nMembers display their name and callsign. Guests display their name and guest.
URL:https://web2.d11s.org/event/west-coast-regional-hf-radio-net/2027-07-06/
ORGANIZER;CN="District 11":MAILTO:crosario.uscgaux@gmail.com
END:VEVENT
END:VCALENDAR