BEGIN:VCALENDAR
VERSION:2.0
PRODID:-//US Coast Guard Auxiliary-D11S - ECPv6.15.20//NONSGML v1.0//EN
CALSCALE:GREGORIAN
METHOD:PUBLISH
X-ORIGINAL-URL:https://web2.d11s.org
X-WR-CALDESC:Events for US Coast Guard Auxiliary-D11S
REFRESH-INTERVAL;VALUE=DURATION:PT1H
X-Robots-Tag:noindex
X-PUBLISHED-TTL:PT1H
BEGIN:VTIMEZONE
TZID:America/Los_Angeles
BEGIN:DAYLIGHT
TZOFFSETFROM:-0800
TZOFFSETTO:-0700
TZNAME:PDT
DTSTART:20270314T100000
END:DAYLIGHT
BEGIN:STANDARD
TZOFFSETFROM:-0700
TZOFFSETTO:-0800
TZNAME:PST
DTSTART:20271107T090000
END:STANDARD
BEGIN:DAYLIGHT
TZOFFSETFROM:-0800
TZOFFSETTO:-0700
TZNAME:PDT
DTSTART:20280312T100000
END:DAYLIGHT
BEGIN:STANDARD
TZOFFSETFROM:-0700
TZOFFSETTO:-0800
TZNAME:PST
DTSTART:20281105T090000
END:STANDARD
BEGIN:DAYLIGHT
TZOFFSETFROM:-0800
TZOFFSETTO:-0700
TZNAME:PDT
DTSTART:20290311T100000
END:DAYLIGHT
BEGIN:STANDARD
TZOFFSETFROM:-0700
TZOFFSETTO:-0800
TZNAME:PST
DTSTART:20291104T090000
END:STANDARD
END:VTIMEZONE
BEGIN:VEVENT
DTSTART;TZID=America/Los_Angeles:20280419T193000
DTEND;TZID=America/Los_Angeles:20280419T200000
DTSTAMP:20260424T212420
CREATED:20230706T014325Z
LAST-MODIFIED:20230706T014325Z
UID:10001009-1839785400-1839787200@web2.d11s.org
SUMMARY:Sector San Diego VHF Net
DESCRIPTION:Weekly SDG Sector VHF net on YSD repeater  Wendesday’s at 1930 PST/PDT – unless preempted by federal holiday.
URL:https://web2.d11s.org/event/sector-san-diego-vhf-net/2028-04-19/
END:VEVENT
BEGIN:VEVENT
DTSTART;TZID=America/Los_Angeles:20280426T193000
DTEND;TZID=America/Los_Angeles:20280426T200000
DTSTAMP:20260424T212420
CREATED:20230706T014325Z
LAST-MODIFIED:20230706T014325Z
UID:10001010-1840390200-1840392000@web2.d11s.org
SUMMARY:Sector San Diego VHF Net
DESCRIPTION:Weekly SDG Sector VHF net on YSD repeater  Wendesday’s at 1930 PST/PDT – unless preempted by federal holiday.
URL:https://web2.d11s.org/event/sector-san-diego-vhf-net/2028-04-26/
END:VEVENT
BEGIN:VEVENT
DTSTART;TZID=America/Los_Angeles:20280503T193000
DTEND;TZID=America/Los_Angeles:20280503T200000
DTSTAMP:20260424T212420
CREATED:20230706T014325Z
LAST-MODIFIED:20230706T014325Z
UID:10001011-1840995000-1840996800@web2.d11s.org
SUMMARY:Sector San Diego VHF Net
DESCRIPTION:Weekly SDG Sector VHF net on YSD repeater  Wendesday’s at 1930 PST/PDT – unless preempted by federal holiday.
URL:https://web2.d11s.org/event/sector-san-diego-vhf-net/2028-05-03/
END:VEVENT
BEGIN:VEVENT
DTSTART;TZID=America/Los_Angeles:20280510T193000
DTEND;TZID=America/Los_Angeles:20280510T200000
DTSTAMP:20260424T212420
CREATED:20230706T014325Z
LAST-MODIFIED:20230706T014325Z
UID:10001012-1841599800-1841601600@web2.d11s.org
SUMMARY:Sector San Diego VHF Net
DESCRIPTION:Weekly SDG Sector VHF net on YSD repeater  Wendesday’s at 1930 PST/PDT – unless preempted by federal holiday.
URL:https://web2.d11s.org/event/sector-san-diego-vhf-net/2028-05-10/
END:VEVENT
BEGIN:VEVENT
DTSTART;TZID=America/Los_Angeles:20280515T190000
DTEND;TZID=America/Los_Angeles:20280515T203000
DTSTAMP:20260424T212420
CREATED:20240104T024713Z
LAST-MODIFIED:20240104T024713Z
UID:10001260-1842030000-1842035400@web2.d11s.org
SUMMARY:Division 1 Division meeting
DESCRIPTION:Division 1 monthly meeting at Sector San Diego
URL:https://web2.d11s.org/event/division-1-division-meeting/2028-05-15/
CATEGORIES:Unit Meeting
END:VEVENT
BEGIN:VEVENT
DTSTART;TZID=America/Los_Angeles:20280517T193000
DTEND;TZID=America/Los_Angeles:20280517T200000
DTSTAMP:20260424T212420
CREATED:20230706T014325Z
LAST-MODIFIED:20230706T014325Z
UID:10001013-1842204600-1842206400@web2.d11s.org
SUMMARY:Sector San Diego VHF Net
DESCRIPTION:Weekly SDG Sector VHF net on YSD repeater  Wendesday’s at 1930 PST/PDT – unless preempted by federal holiday.
URL:https://web2.d11s.org/event/sector-san-diego-vhf-net/2028-05-17/
END:VEVENT
BEGIN:VEVENT
DTSTART;TZID=America/Los_Angeles:20280524T193000
DTEND;TZID=America/Los_Angeles:20280524T200000
DTSTAMP:20260424T212420
CREATED:20230706T014325Z
LAST-MODIFIED:20230706T014325Z
UID:10001014-1842809400-1842811200@web2.d11s.org
SUMMARY:Sector San Diego VHF Net
DESCRIPTION:Weekly SDG Sector VHF net on YSD repeater  Wendesday’s at 1930 PST/PDT – unless preempted by federal holiday.
URL:https://web2.d11s.org/event/sector-san-diego-vhf-net/2028-05-24/
END:VEVENT
BEGIN:VEVENT
DTSTART;TZID=America/Los_Angeles:20280531T193000
DTEND;TZID=America/Los_Angeles:20280531T200000
DTSTAMP:20260424T212420
CREATED:20230706T014325Z
LAST-MODIFIED:20230706T014325Z
UID:10001015-1843414200-1843416000@web2.d11s.org
SUMMARY:Sector San Diego VHF Net
DESCRIPTION:Weekly SDG Sector VHF net on YSD repeater  Wendesday’s at 1930 PST/PDT – unless preempted by federal holiday.
URL:https://web2.d11s.org/event/sector-san-diego-vhf-net/2028-05-31/
END:VEVENT
BEGIN:VEVENT
DTSTART;TZID=America/Los_Angeles:20280607T193000
DTEND;TZID=America/Los_Angeles:20280607T200000
DTSTAMP:20260424T212420
CREATED:20230706T014325Z
LAST-MODIFIED:20230706T014325Z
UID:10001016-1844019000-1844020800@web2.d11s.org
SUMMARY:Sector San Diego VHF Net
DESCRIPTION:Weekly SDG Sector VHF net on YSD repeater  Wendesday’s at 1930 PST/PDT – unless preempted by federal holiday.
URL:https://web2.d11s.org/event/sector-san-diego-vhf-net/2028-06-07/
END:VEVENT
BEGIN:VEVENT
DTSTART;TZID=America/Los_Angeles:20280614T193000
DTEND;TZID=America/Los_Angeles:20280614T200000
DTSTAMP:20260424T212420
CREATED:20230706T014325Z
LAST-MODIFIED:20230706T014325Z
UID:10001017-1844623800-1844625600@web2.d11s.org
SUMMARY:Sector San Diego VHF Net
DESCRIPTION:Weekly SDG Sector VHF net on YSD repeater  Wendesday’s at 1930 PST/PDT – unless preempted by federal holiday.
URL:https://web2.d11s.org/event/sector-san-diego-vhf-net/2028-06-14/
END:VEVENT
BEGIN:VEVENT
DTSTART;TZID=America/Los_Angeles:20280619T190000
DTEND;TZID=America/Los_Angeles:20280619T203000
DTSTAMP:20260424T212420
CREATED:20240104T024713Z
LAST-MODIFIED:20240104T024713Z
UID:10001261-1845054000-1845059400@web2.d11s.org
SUMMARY:Division 1 Division meeting
DESCRIPTION:Division 1 monthly meeting at Sector San Diego
URL:https://web2.d11s.org/event/division-1-division-meeting/2028-06-19/
CATEGORIES:Unit Meeting
END:VEVENT
BEGIN:VEVENT
DTSTART;TZID=America/Los_Angeles:20280621T193000
DTEND;TZID=America/Los_Angeles:20280621T200000
DTSTAMP:20260424T212420
CREATED:20230706T014325Z
LAST-MODIFIED:20230706T014325Z
UID:10001018-1845228600-1845230400@web2.d11s.org
SUMMARY:Sector San Diego VHF Net
DESCRIPTION:Weekly SDG Sector VHF net on YSD repeater  Wendesday’s at 1930 PST/PDT – unless preempted by federal holiday.
URL:https://web2.d11s.org/event/sector-san-diego-vhf-net/2028-06-21/
END:VEVENT
BEGIN:VEVENT
DTSTART;TZID=America/Los_Angeles:20280628T193000
DTEND;TZID=America/Los_Angeles:20280628T200000
DTSTAMP:20260424T212420
CREATED:20230706T014325Z
LAST-MODIFIED:20230706T014325Z
UID:10001019-1845833400-1845835200@web2.d11s.org
SUMMARY:Sector San Diego VHF Net
DESCRIPTION:Weekly SDG Sector VHF net on YSD repeater  Wendesday’s at 1930 PST/PDT – unless preempted by federal holiday.
URL:https://web2.d11s.org/event/sector-san-diego-vhf-net/2028-06-28/
END:VEVENT
BEGIN:VEVENT
DTSTART;TZID=America/Los_Angeles:20280705T193000
DTEND;TZID=America/Los_Angeles:20280705T200000
DTSTAMP:20260424T212420
CREATED:20230706T014325Z
LAST-MODIFIED:20230706T014325Z
UID:10001020-1846438200-1846440000@web2.d11s.org
SUMMARY:Sector San Diego VHF Net
DESCRIPTION:Weekly SDG Sector VHF net on YSD repeater  Wendesday’s at 1930 PST/PDT – unless preempted by federal holiday.
URL:https://web2.d11s.org/event/sector-san-diego-vhf-net/2028-07-05/
END:VEVENT
BEGIN:VEVENT
DTSTART;TZID=America/Los_Angeles:20280717T190000
DTEND;TZID=America/Los_Angeles:20280717T203000
DTSTAMP:20260424T212420
CREATED:20240104T024713Z
LAST-MODIFIED:20240104T024713Z
UID:10001262-1847473200-1847478600@web2.d11s.org
SUMMARY:Division 1 Division meeting
DESCRIPTION:Division 1 monthly meeting at Sector San Diego
URL:https://web2.d11s.org/event/division-1-division-meeting/2028-07-17/
CATEGORIES:Unit Meeting
END:VEVENT
BEGIN:VEVENT
DTSTART;TZID=America/Los_Angeles:20280821T190000
DTEND;TZID=America/Los_Angeles:20280821T203000
DTSTAMP:20260424T212420
CREATED:20240104T024713Z
LAST-MODIFIED:20240104T024713Z
UID:10001263-1850497200-1850502600@web2.d11s.org
SUMMARY:Division 1 Division meeting
DESCRIPTION:Division 1 monthly meeting at Sector San Diego
URL:https://web2.d11s.org/event/division-1-division-meeting/2028-08-21/
CATEGORIES:Unit Meeting
END:VEVENT
BEGIN:VEVENT
DTSTART;TZID=America/Los_Angeles:20280918T190000
DTEND;TZID=America/Los_Angeles:20280918T203000
DTSTAMP:20260424T212420
CREATED:20240104T024713Z
LAST-MODIFIED:20240104T024713Z
UID:10001264-1852916400-1852921800@web2.d11s.org
SUMMARY:Division 1 Division meeting
DESCRIPTION:Division 1 monthly meeting at Sector San Diego
URL:https://web2.d11s.org/event/division-1-division-meeting/2028-09-18/
CATEGORIES:Unit Meeting
END:VEVENT
BEGIN:VEVENT
DTSTART;TZID=America/Los_Angeles:20281016T190000
DTEND;TZID=America/Los_Angeles:20281016T203000
DTSTAMP:20260424T212420
CREATED:20240104T024713Z
LAST-MODIFIED:20240104T024713Z
UID:10001265-1855335600-1855341000@web2.d11s.org
SUMMARY:Division 1 Division meeting
DESCRIPTION:Division 1 monthly meeting at Sector San Diego
URL:https://web2.d11s.org/event/division-1-division-meeting/2028-10-16/
CATEGORIES:Unit Meeting
END:VEVENT
BEGIN:VEVENT
DTSTART;TZID=America/Los_Angeles:20281120T190000
DTEND;TZID=America/Los_Angeles:20281120T203000
DTSTAMP:20260424T212420
CREATED:20240104T024713Z
LAST-MODIFIED:20240104T024713Z
UID:10001266-1858359600-1858365000@web2.d11s.org
SUMMARY:Division 1 Division meeting
DESCRIPTION:Division 1 monthly meeting at Sector San Diego
URL:https://web2.d11s.org/event/division-1-division-meeting/2028-11-20/
CATEGORIES:Unit Meeting
END:VEVENT
BEGIN:VEVENT
DTSTART;TZID=America/Los_Angeles:20281218T190000
DTEND;TZID=America/Los_Angeles:20281218T203000
DTSTAMP:20260424T212420
CREATED:20240104T024713Z
LAST-MODIFIED:20240104T024713Z
UID:10001267-1860778800-1860784200@web2.d11s.org
SUMMARY:Division 1 Division meeting
DESCRIPTION:Division 1 monthly meeting at Sector San Diego
URL:https://web2.d11s.org/event/division-1-division-meeting/2028-12-18/
CATEGORIES:Unit Meeting
END:VEVENT
END:VCALENDAR