BEGIN:VCALENDAR
VERSION:2.0
PRODID:-//US Coast Guard Auxiliary-D11S - ECPv6.15.20//NONSGML v1.0//EN
CALSCALE:GREGORIAN
METHOD:PUBLISH
X-WR-CALNAME:US Coast Guard Auxiliary-D11S
X-ORIGINAL-URL:https://web2.d11s.org
X-WR-CALDESC:Events for US Coast Guard Auxiliary-D11S
REFRESH-INTERVAL;VALUE=DURATION:PT1H
X-Robots-Tag:noindex
X-PUBLISHED-TTL:PT1H
BEGIN:VTIMEZONE
TZID:America/Los_Angeles
BEGIN:DAYLIGHT
TZOFFSETFROM:-0800
TZOFFSETTO:-0700
TZNAME:PDT
DTSTART:20250309T100000
END:DAYLIGHT
BEGIN:STANDARD
TZOFFSETFROM:-0700
TZOFFSETTO:-0800
TZNAME:PST
DTSTART:20251102T090000
END:STANDARD
BEGIN:DAYLIGHT
TZOFFSETFROM:-0800
TZOFFSETTO:-0700
TZNAME:PDT
DTSTART:20260308T100000
END:DAYLIGHT
BEGIN:STANDARD
TZOFFSETFROM:-0700
TZOFFSETTO:-0800
TZNAME:PST
DTSTART:20261101T090000
END:STANDARD
BEGIN:DAYLIGHT
TZOFFSETFROM:-0800
TZOFFSETTO:-0700
TZNAME:PDT
DTSTART:20270314T100000
END:DAYLIGHT
BEGIN:STANDARD
TZOFFSETFROM:-0700
TZOFFSETTO:-0800
TZNAME:PST
DTSTART:20271107T090000
END:STANDARD
BEGIN:DAYLIGHT
TZOFFSETFROM:-0800
TZOFFSETTO:-0700
TZNAME:PDT
DTSTART:20280312T100000
END:DAYLIGHT
BEGIN:STANDARD
TZOFFSETFROM:-0700
TZOFFSETTO:-0800
TZNAME:PST
DTSTART:20281105T090000
END:STANDARD
END:VTIMEZONE
BEGIN:VEVENT
DTSTART;TZID=America/Los_Angeles:20260826T193000
DTEND;TZID=America/Los_Angeles:20260826T200000
DTSTAMP:20260423T135141
CREATED:20230706T014325Z
LAST-MODIFIED:20230706T014325Z
UID:10000923-1787772600-1787774400@web2.d11s.org
SUMMARY:Sector San Diego VHF Net
DESCRIPTION:Weekly SDG Sector VHF net on YSD repeater  Wendesday’s at 1930 PST/PDT – unless preempted by federal holiday.
URL:https://web2.d11s.org/event/sector-san-diego-vhf-net/2026-08-26/
END:VEVENT
BEGIN:VEVENT
DTSTART;TZID=America/Los_Angeles:20260902T193000
DTEND;TZID=America/Los_Angeles:20260902T200000
DTSTAMP:20260423T135141
CREATED:20230706T014325Z
LAST-MODIFIED:20230706T014325Z
UID:10000924-1788377400-1788379200@web2.d11s.org
SUMMARY:Sector San Diego VHF Net
DESCRIPTION:Weekly SDG Sector VHF net on YSD repeater  Wendesday’s at 1930 PST/PDT – unless preempted by federal holiday.
URL:https://web2.d11s.org/event/sector-san-diego-vhf-net/2026-09-02/
END:VEVENT
BEGIN:VEVENT
DTSTART;TZID=America/Los_Angeles:20260909T193000
DTEND;TZID=America/Los_Angeles:20260909T200000
DTSTAMP:20260423T135141
CREATED:20230706T014325Z
LAST-MODIFIED:20230706T014325Z
UID:10000925-1788982200-1788984000@web2.d11s.org
SUMMARY:Sector San Diego VHF Net
DESCRIPTION:Weekly SDG Sector VHF net on YSD repeater  Wendesday’s at 1930 PST/PDT – unless preempted by federal holiday.
URL:https://web2.d11s.org/event/sector-san-diego-vhf-net/2026-09-09/
END:VEVENT
BEGIN:VEVENT
DTSTART;TZID=America/Los_Angeles:20260916T193000
DTEND;TZID=America/Los_Angeles:20260916T200000
DTSTAMP:20260423T135141
CREATED:20230706T014325Z
LAST-MODIFIED:20230706T014325Z
UID:10000926-1789587000-1789588800@web2.d11s.org
SUMMARY:Sector San Diego VHF Net
DESCRIPTION:Weekly SDG Sector VHF net on YSD repeater  Wendesday’s at 1930 PST/PDT – unless preempted by federal holiday.
URL:https://web2.d11s.org/event/sector-san-diego-vhf-net/2026-09-16/
END:VEVENT
BEGIN:VEVENT
DTSTART;TZID=America/Los_Angeles:20260921T190000
DTEND;TZID=America/Los_Angeles:20260921T203000
DTSTAMP:20260423T135141
CREATED:20240104T024713Z
LAST-MODIFIED:20240104T024713Z
UID:10001240-1790017200-1790022600@web2.d11s.org
SUMMARY:Division 1 Division meeting
DESCRIPTION:Division 1 monthly meeting at Sector San Diego
URL:https://web2.d11s.org/event/division-1-division-meeting/2026-09-21/
CATEGORIES:Unit Meeting
END:VEVENT
BEGIN:VEVENT
DTSTART;TZID=America/Los_Angeles:20260923T193000
DTEND;TZID=America/Los_Angeles:20260923T200000
DTSTAMP:20260423T135141
CREATED:20230706T014325Z
LAST-MODIFIED:20230706T014325Z
UID:10000927-1790191800-1790193600@web2.d11s.org
SUMMARY:Sector San Diego VHF Net
DESCRIPTION:Weekly SDG Sector VHF net on YSD repeater  Wendesday’s at 1930 PST/PDT – unless preempted by federal holiday.
URL:https://web2.d11s.org/event/sector-san-diego-vhf-net/2026-09-23/
END:VEVENT
BEGIN:VEVENT
DTSTART;VALUE=DATE:20260925
DTEND;VALUE=DATE:20260928
DTSTAMP:20260423T135141
CREATED:20260409T220903Z
LAST-MODIFIED:20260409T220903Z
UID:10002181-1790294400-1790553599@web2.d11s.org
SUMMARY:Div 01 & 06 Miramar Air Show
DESCRIPTION:Div 01 & 06 Miramar Air Show\nSeptember 25 – 26\, 2026\nMiramar\nMiramar\, San Diego\, CA\, USA\nSEPT 25-27    Miramar Air Show
URL:https://web2.d11s.org/event/div-01-06-miramar-air-show/
CATEGORIES:Special Event
ATTACH;FMTTYPE=image/png:https://web2.d11s.org/wp-content/uploads/2026/04/nsbc-wear-it-logo-transparent-16.png
END:VEVENT
BEGIN:VEVENT
DTSTART;TZID=America/Los_Angeles:20260930T193000
DTEND;TZID=America/Los_Angeles:20260930T200000
DTSTAMP:20260423T135141
CREATED:20230706T014325Z
LAST-MODIFIED:20230706T014325Z
UID:10000928-1790796600-1790798400@web2.d11s.org
SUMMARY:Sector San Diego VHF Net
DESCRIPTION:Weekly SDG Sector VHF net on YSD repeater  Wendesday’s at 1930 PST/PDT – unless preempted by federal holiday.
URL:https://web2.d11s.org/event/sector-san-diego-vhf-net/2026-09-30/
END:VEVENT
BEGIN:VEVENT
DTSTART;TZID=America/Los_Angeles:20261007T193000
DTEND;TZID=America/Los_Angeles:20261007T200000
DTSTAMP:20260423T135141
CREATED:20230706T014325Z
LAST-MODIFIED:20230706T014325Z
UID:10000929-1791401400-1791403200@web2.d11s.org
SUMMARY:Sector San Diego VHF Net
DESCRIPTION:Weekly SDG Sector VHF net on YSD repeater  Wendesday’s at 1930 PST/PDT – unless preempted by federal holiday.
URL:https://web2.d11s.org/event/sector-san-diego-vhf-net/2026-10-07/
END:VEVENT
BEGIN:VEVENT
DTSTART;TZID=America/Los_Angeles:20261014T193000
DTEND;TZID=America/Los_Angeles:20261014T200000
DTSTAMP:20260423T135141
CREATED:20230706T014325Z
LAST-MODIFIED:20230706T014325Z
UID:10000930-1792006200-1792008000@web2.d11s.org
SUMMARY:Sector San Diego VHF Net
DESCRIPTION:Weekly SDG Sector VHF net on YSD repeater  Wendesday’s at 1930 PST/PDT – unless preempted by federal holiday.
URL:https://web2.d11s.org/event/sector-san-diego-vhf-net/2026-10-14/
END:VEVENT
BEGIN:VEVENT
DTSTART;TZID=America/Los_Angeles:20261019T190000
DTEND;TZID=America/Los_Angeles:20261019T203000
DTSTAMP:20260423T135141
CREATED:20240104T024713Z
LAST-MODIFIED:20240104T024713Z
UID:10001241-1792436400-1792441800@web2.d11s.org
SUMMARY:Division 1 Division meeting
DESCRIPTION:Division 1 monthly meeting at Sector San Diego
URL:https://web2.d11s.org/event/division-1-division-meeting/2026-10-19/
CATEGORIES:Unit Meeting
END:VEVENT
BEGIN:VEVENT
DTSTART;TZID=America/Los_Angeles:20261021T193000
DTEND;TZID=America/Los_Angeles:20261021T200000
DTSTAMP:20260423T135141
CREATED:20230706T014325Z
LAST-MODIFIED:20230706T014325Z
UID:10000931-1792611000-1792612800@web2.d11s.org
SUMMARY:Sector San Diego VHF Net
DESCRIPTION:Weekly SDG Sector VHF net on YSD repeater  Wendesday’s at 1930 PST/PDT – unless preempted by federal holiday.
URL:https://web2.d11s.org/event/sector-san-diego-vhf-net/2026-10-21/
END:VEVENT
BEGIN:VEVENT
DTSTART;TZID=America/Los_Angeles:20261028T193000
DTEND;TZID=America/Los_Angeles:20261028T200000
DTSTAMP:20260423T135141
CREATED:20230706T014325Z
LAST-MODIFIED:20230706T014325Z
UID:10000932-1793215800-1793217600@web2.d11s.org
SUMMARY:Sector San Diego VHF Net
DESCRIPTION:Weekly SDG Sector VHF net on YSD repeater  Wendesday’s at 1930 PST/PDT – unless preempted by federal holiday.
URL:https://web2.d11s.org/event/sector-san-diego-vhf-net/2026-10-28/
END:VEVENT
BEGIN:VEVENT
DTSTART;TZID=America/Los_Angeles:20261104T193000
DTEND;TZID=America/Los_Angeles:20261104T200000
DTSTAMP:20260423T135141
CREATED:20230706T014325Z
LAST-MODIFIED:20230706T014325Z
UID:10000933-1793820600-1793822400@web2.d11s.org
SUMMARY:Sector San Diego VHF Net
DESCRIPTION:Weekly SDG Sector VHF net on YSD repeater  Wendesday’s at 1930 PST/PDT – unless preempted by federal holiday.
URL:https://web2.d11s.org/event/sector-san-diego-vhf-net/2026-11-04/
END:VEVENT
BEGIN:VEVENT
DTSTART;VALUE=DATE:20261106
DTEND;VALUE=DATE:20261116
DTSTAMP:20260423T135141
CREATED:20260409T221356Z
LAST-MODIFIED:20260409T221356Z
UID:10002184-1793923200-1794787199@web2.d11s.org
SUMMARY:Div. 1: Fleet Week San Diego
DESCRIPTION:Div. 1: Fleet Week San Diego\nNovember 6 – 15\, 2026\nNov. 6-15: Fleet Week San Diego
URL:https://web2.d11s.org/event/div-1-fleet-week-san-diego/
CATEGORIES:Special Event
ATTACH;FMTTYPE=image/png:https://web2.d11s.org/wp-content/uploads/2026/04/nsbc-wear-it-logo-transparent-19.png
END:VEVENT
BEGIN:VEVENT
DTSTART;TZID=America/Los_Angeles:20261111T193000
DTEND;TZID=America/Los_Angeles:20261111T200000
DTSTAMP:20260423T135141
CREATED:20230706T014325Z
LAST-MODIFIED:20230706T014325Z
UID:10000934-1794425400-1794427200@web2.d11s.org
SUMMARY:Sector San Diego VHF Net
DESCRIPTION:Weekly SDG Sector VHF net on YSD repeater  Wendesday’s at 1930 PST/PDT – unless preempted by federal holiday.
URL:https://web2.d11s.org/event/sector-san-diego-vhf-net/2026-11-11/
END:VEVENT
BEGIN:VEVENT
DTSTART;TZID=America/Los_Angeles:20261116T190000
DTEND;TZID=America/Los_Angeles:20261116T203000
DTSTAMP:20260423T135141
CREATED:20240104T024713Z
LAST-MODIFIED:20240104T024713Z
UID:10001242-1794855600-1794861000@web2.d11s.org
SUMMARY:Division 1 Division meeting
DESCRIPTION:Division 1 monthly meeting at Sector San Diego
URL:https://web2.d11s.org/event/division-1-division-meeting/2026-11-16/
CATEGORIES:Unit Meeting
END:VEVENT
BEGIN:VEVENT
DTSTART;TZID=America/Los_Angeles:20261118T193000
DTEND;TZID=America/Los_Angeles:20261118T200000
DTSTAMP:20260423T135141
CREATED:20230706T014325Z
LAST-MODIFIED:20230706T014325Z
UID:10000935-1795030200-1795032000@web2.d11s.org
SUMMARY:Sector San Diego VHF Net
DESCRIPTION:Weekly SDG Sector VHF net on YSD repeater  Wendesday’s at 1930 PST/PDT – unless preempted by federal holiday.
URL:https://web2.d11s.org/event/sector-san-diego-vhf-net/2026-11-18/
END:VEVENT
BEGIN:VEVENT
DTSTART;TZID=America/Los_Angeles:20261125T193000
DTEND;TZID=America/Los_Angeles:20261125T200000
DTSTAMP:20260423T135141
CREATED:20230706T014325Z
LAST-MODIFIED:20230706T014325Z
UID:10000936-1795635000-1795636800@web2.d11s.org
SUMMARY:Sector San Diego VHF Net
DESCRIPTION:Weekly SDG Sector VHF net on YSD repeater  Wendesday’s at 1930 PST/PDT – unless preempted by federal holiday.
URL:https://web2.d11s.org/event/sector-san-diego-vhf-net/2026-11-25/
END:VEVENT
BEGIN:VEVENT
DTSTART;TZID=America/Los_Angeles:20261202T193000
DTEND;TZID=America/Los_Angeles:20261202T200000
DTSTAMP:20260423T135141
CREATED:20230706T014325Z
LAST-MODIFIED:20230706T014325Z
UID:10000937-1796239800-1796241600@web2.d11s.org
SUMMARY:Sector San Diego VHF Net
DESCRIPTION:Weekly SDG Sector VHF net on YSD repeater  Wendesday’s at 1930 PST/PDT – unless preempted by federal holiday.
URL:https://web2.d11s.org/event/sector-san-diego-vhf-net/2026-12-02/
END:VEVENT
BEGIN:VEVENT
DTSTART;TZID=America/Los_Angeles:20261209T193000
DTEND;TZID=America/Los_Angeles:20261209T200000
DTSTAMP:20260423T135141
CREATED:20230706T014325Z
LAST-MODIFIED:20230706T014325Z
UID:10000938-1796844600-1796846400@web2.d11s.org
SUMMARY:Sector San Diego VHF Net
DESCRIPTION:Weekly SDG Sector VHF net on YSD repeater  Wendesday’s at 1930 PST/PDT – unless preempted by federal holiday.
URL:https://web2.d11s.org/event/sector-san-diego-vhf-net/2026-12-09/
END:VEVENT
BEGIN:VEVENT
DTSTART;TZID=America/Los_Angeles:20261216T193000
DTEND;TZID=America/Los_Angeles:20261216T200000
DTSTAMP:20260423T135141
CREATED:20230706T014325Z
LAST-MODIFIED:20230706T014325Z
UID:10000939-1797449400-1797451200@web2.d11s.org
SUMMARY:Sector San Diego VHF Net
DESCRIPTION:Weekly SDG Sector VHF net on YSD repeater  Wendesday’s at 1930 PST/PDT – unless preempted by federal holiday.
URL:https://web2.d11s.org/event/sector-san-diego-vhf-net/2026-12-16/
END:VEVENT
BEGIN:VEVENT
DTSTART;TZID=America/Los_Angeles:20261221T190000
DTEND;TZID=America/Los_Angeles:20261221T203000
DTSTAMP:20260423T135141
CREATED:20240104T024713Z
LAST-MODIFIED:20240104T024713Z
UID:10001243-1797879600-1797885000@web2.d11s.org
SUMMARY:Division 1 Division meeting
DESCRIPTION:Division 1 monthly meeting at Sector San Diego
URL:https://web2.d11s.org/event/division-1-division-meeting/2026-12-21/
CATEGORIES:Unit Meeting
END:VEVENT
BEGIN:VEVENT
DTSTART;TZID=America/Los_Angeles:20261223T193000
DTEND;TZID=America/Los_Angeles:20261223T200000
DTSTAMP:20260423T135141
CREATED:20230706T014325Z
LAST-MODIFIED:20230706T014325Z
UID:10000940-1798054200-1798056000@web2.d11s.org
SUMMARY:Sector San Diego VHF Net
DESCRIPTION:Weekly SDG Sector VHF net on YSD repeater  Wendesday’s at 1930 PST/PDT – unless preempted by federal holiday.
URL:https://web2.d11s.org/event/sector-san-diego-vhf-net/2026-12-23/
END:VEVENT
BEGIN:VEVENT
DTSTART;TZID=America/Los_Angeles:20261230T193000
DTEND;TZID=America/Los_Angeles:20261230T200000
DTSTAMP:20260423T135141
CREATED:20230706T014325Z
LAST-MODIFIED:20230706T014325Z
UID:10000941-1798659000-1798660800@web2.d11s.org
SUMMARY:Sector San Diego VHF Net
DESCRIPTION:Weekly SDG Sector VHF net on YSD repeater  Wendesday’s at 1930 PST/PDT – unless preempted by federal holiday.
URL:https://web2.d11s.org/event/sector-san-diego-vhf-net/2026-12-30/
END:VEVENT
BEGIN:VEVENT
DTSTART;TZID=America/Los_Angeles:20270106T193000
DTEND;TZID=America/Los_Angeles:20270106T200000
DTSTAMP:20260423T135141
CREATED:20230706T014325Z
LAST-MODIFIED:20230706T014325Z
UID:10000942-1799263800-1799265600@web2.d11s.org
SUMMARY:Sector San Diego VHF Net
DESCRIPTION:Weekly SDG Sector VHF net on YSD repeater  Wendesday’s at 1930 PST/PDT – unless preempted by federal holiday.
URL:https://web2.d11s.org/event/sector-san-diego-vhf-net/2027-01-06/
END:VEVENT
BEGIN:VEVENT
DTSTART;TZID=America/Los_Angeles:20270113T193000
DTEND;TZID=America/Los_Angeles:20270113T200000
DTSTAMP:20260423T135141
CREATED:20230706T014325Z
LAST-MODIFIED:20230706T014325Z
UID:10000943-1799868600-1799870400@web2.d11s.org
SUMMARY:Sector San Diego VHF Net
DESCRIPTION:Weekly SDG Sector VHF net on YSD repeater  Wendesday’s at 1930 PST/PDT – unless preempted by federal holiday.
URL:https://web2.d11s.org/event/sector-san-diego-vhf-net/2027-01-13/
END:VEVENT
BEGIN:VEVENT
DTSTART;TZID=America/Los_Angeles:20270118T190000
DTEND;TZID=America/Los_Angeles:20270118T203000
DTSTAMP:20260423T135141
CREATED:20240104T024713Z
LAST-MODIFIED:20240104T024713Z
UID:10001244-1800298800-1800304200@web2.d11s.org
SUMMARY:Division 1 Division meeting
DESCRIPTION:Division 1 monthly meeting at Sector San Diego
URL:https://web2.d11s.org/event/division-1-division-meeting/2027-01-18/
CATEGORIES:Unit Meeting
END:VEVENT
BEGIN:VEVENT
DTSTART;TZID=America/Los_Angeles:20270120T193000
DTEND;TZID=America/Los_Angeles:20270120T200000
DTSTAMP:20260423T135141
CREATED:20230706T014325Z
LAST-MODIFIED:20230706T014325Z
UID:10000944-1800473400-1800475200@web2.d11s.org
SUMMARY:Sector San Diego VHF Net
DESCRIPTION:Weekly SDG Sector VHF net on YSD repeater  Wendesday’s at 1930 PST/PDT – unless preempted by federal holiday.
URL:https://web2.d11s.org/event/sector-san-diego-vhf-net/2027-01-20/
END:VEVENT
BEGIN:VEVENT
DTSTART;TZID=America/Los_Angeles:20270127T193000
DTEND;TZID=America/Los_Angeles:20270127T200000
DTSTAMP:20260423T135141
CREATED:20230706T014325Z
LAST-MODIFIED:20230706T014325Z
UID:10000945-1801078200-1801080000@web2.d11s.org
SUMMARY:Sector San Diego VHF Net
DESCRIPTION:Weekly SDG Sector VHF net on YSD repeater  Wendesday’s at 1930 PST/PDT – unless preempted by federal holiday.
URL:https://web2.d11s.org/event/sector-san-diego-vhf-net/2027-01-27/
END:VEVENT
END:VCALENDAR