BEGIN:VCALENDAR
VERSION:2.0
PRODID:-//US Coast Guard Auxiliary-D11S - ECPv6.15.20//NONSGML v1.0//EN
CALSCALE:GREGORIAN
METHOD:PUBLISH
X-ORIGINAL-URL:https://web2.d11s.org
X-WR-CALDESC:Events for US Coast Guard Auxiliary-D11S
REFRESH-INTERVAL;VALUE=DURATION:PT1H
X-Robots-Tag:noindex
X-PUBLISHED-TTL:PT1H
BEGIN:VTIMEZONE
TZID:America/Los_Angeles
BEGIN:DAYLIGHT
TZOFFSETFROM:-0800
TZOFFSETTO:-0700
TZNAME:PDT
DTSTART:20230312T100000
END:DAYLIGHT
BEGIN:STANDARD
TZOFFSETFROM:-0700
TZOFFSETTO:-0800
TZNAME:PST
DTSTART:20231105T090000
END:STANDARD
BEGIN:DAYLIGHT
TZOFFSETFROM:-0800
TZOFFSETTO:-0700
TZNAME:PDT
DTSTART:20240310T100000
END:DAYLIGHT
BEGIN:STANDARD
TZOFFSETFROM:-0700
TZOFFSETTO:-0800
TZNAME:PST
DTSTART:20241103T090000
END:STANDARD
BEGIN:DAYLIGHT
TZOFFSETFROM:-0800
TZOFFSETTO:-0700
TZNAME:PDT
DTSTART:20250309T100000
END:DAYLIGHT
BEGIN:STANDARD
TZOFFSETFROM:-0700
TZOFFSETTO:-0800
TZNAME:PST
DTSTART:20251102T090000
END:STANDARD
BEGIN:DAYLIGHT
TZOFFSETFROM:-0800
TZOFFSETTO:-0700
TZNAME:PDT
DTSTART:20260308T100000
END:DAYLIGHT
BEGIN:STANDARD
TZOFFSETFROM:-0700
TZOFFSETTO:-0800
TZNAME:PST
DTSTART:20261101T090000
END:STANDARD
END:VTIMEZONE
BEGIN:VEVENT
DTSTART;TZID=America/Los_Angeles:20250519T190000
DTEND;TZID=America/Los_Angeles:20250519T203000
DTSTAMP:20260423T204907
CREATED:20240104T024713Z
LAST-MODIFIED:20240104T024713Z
UID:10001224-1747681200-1747686600@web2.d11s.org
SUMMARY:Division 1 Division meeting
DESCRIPTION:Division 1 monthly meeting at Sector San Diego
URL:https://web2.d11s.org/event/division-1-division-meeting/2025-05-19/
CATEGORIES:Unit Meeting
END:VEVENT
BEGIN:VEVENT
DTSTART;TZID=America/Los_Angeles:20250514T193000
DTEND;TZID=America/Los_Angeles:20250514T200000
DTSTAMP:20260423T204907
CREATED:20230706T014325Z
LAST-MODIFIED:20230706T014325Z
UID:10000856-1747251000-1747252800@web2.d11s.org
SUMMARY:Sector San Diego VHF Net
DESCRIPTION:Weekly SDG Sector VHF net on YSD repeater  Wendesday’s at 1930 PST/PDT – unless preempted by federal holiday.
URL:https://web2.d11s.org/event/sector-san-diego-vhf-net/2025-05-14/
END:VEVENT
BEGIN:VEVENT
DTSTART;TZID=America/Los_Angeles:20250507T193000
DTEND;TZID=America/Los_Angeles:20250507T200000
DTSTAMP:20260423T204907
CREATED:20230706T014325Z
LAST-MODIFIED:20230706T014325Z
UID:10000855-1746646200-1746648000@web2.d11s.org
SUMMARY:Sector San Diego VHF Net
DESCRIPTION:Weekly SDG Sector VHF net on YSD repeater  Wendesday’s at 1930 PST/PDT – unless preempted by federal holiday.
URL:https://web2.d11s.org/event/sector-san-diego-vhf-net/2025-05-07/
END:VEVENT
BEGIN:VEVENT
DTSTART;TZID=America/Los_Angeles:20250430T193000
DTEND;TZID=America/Los_Angeles:20250430T200000
DTSTAMP:20260423T204907
CREATED:20230706T014325Z
LAST-MODIFIED:20230706T014325Z
UID:10000854-1746041400-1746043200@web2.d11s.org
SUMMARY:Sector San Diego VHF Net
DESCRIPTION:Weekly SDG Sector VHF net on YSD repeater  Wendesday’s at 1930 PST/PDT – unless preempted by federal holiday.
URL:https://web2.d11s.org/event/sector-san-diego-vhf-net/2025-04-30/
END:VEVENT
BEGIN:VEVENT
DTSTART;TZID=America/Los_Angeles:20250423T193000
DTEND;TZID=America/Los_Angeles:20250423T200000
DTSTAMP:20260423T204907
CREATED:20230706T014325Z
LAST-MODIFIED:20230706T014325Z
UID:10000853-1745436600-1745438400@web2.d11s.org
SUMMARY:Sector San Diego VHF Net
DESCRIPTION:Weekly SDG Sector VHF net on YSD repeater  Wendesday’s at 1930 PST/PDT – unless preempted by federal holiday.
URL:https://web2.d11s.org/event/sector-san-diego-vhf-net/2025-04-23/
END:VEVENT
BEGIN:VEVENT
DTSTART;TZID=America/Los_Angeles:20250421T190000
DTEND;TZID=America/Los_Angeles:20250421T203000
DTSTAMP:20260423T204907
CREATED:20240104T024713Z
LAST-MODIFIED:20240104T024713Z
UID:10001223-1745262000-1745267400@web2.d11s.org
SUMMARY:Division 1 Division meeting
DESCRIPTION:Division 1 monthly meeting at Sector San Diego
URL:https://web2.d11s.org/event/division-1-division-meeting/2025-04-21/
CATEGORIES:Unit Meeting
END:VEVENT
BEGIN:VEVENT
DTSTART;TZID=America/Los_Angeles:20250416T193000
DTEND;TZID=America/Los_Angeles:20250416T200000
DTSTAMP:20260423T204907
CREATED:20230706T014325Z
LAST-MODIFIED:20230706T014325Z
UID:10000852-1744831800-1744833600@web2.d11s.org
SUMMARY:Sector San Diego VHF Net
DESCRIPTION:Weekly SDG Sector VHF net on YSD repeater  Wendesday’s at 1930 PST/PDT – unless preempted by federal holiday.
URL:https://web2.d11s.org/event/sector-san-diego-vhf-net/2025-04-16/
END:VEVENT
BEGIN:VEVENT
DTSTART;TZID=America/Los_Angeles:20250409T193000
DTEND;TZID=America/Los_Angeles:20250409T200000
DTSTAMP:20260423T204907
CREATED:20230706T014325Z
LAST-MODIFIED:20230706T014325Z
UID:10000851-1744227000-1744228800@web2.d11s.org
SUMMARY:Sector San Diego VHF Net
DESCRIPTION:Weekly SDG Sector VHF net on YSD repeater  Wendesday’s at 1930 PST/PDT – unless preempted by federal holiday.
URL:https://web2.d11s.org/event/sector-san-diego-vhf-net/2025-04-09/
END:VEVENT
BEGIN:VEVENT
DTSTART;TZID=America/Los_Angeles:20250402T193000
DTEND;TZID=America/Los_Angeles:20250402T200000
DTSTAMP:20260423T204907
CREATED:20230706T014325Z
LAST-MODIFIED:20230706T014325Z
UID:10000850-1743622200-1743624000@web2.d11s.org
SUMMARY:Sector San Diego VHF Net
DESCRIPTION:Weekly SDG Sector VHF net on YSD repeater  Wendesday’s at 1930 PST/PDT – unless preempted by federal holiday.
URL:https://web2.d11s.org/event/sector-san-diego-vhf-net/2025-04-02/
END:VEVENT
BEGIN:VEVENT
DTSTART;TZID=America/Los_Angeles:20250326T193000
DTEND;TZID=America/Los_Angeles:20250326T200000
DTSTAMP:20260423T204907
CREATED:20230706T014325Z
LAST-MODIFIED:20230706T014325Z
UID:10000849-1743017400-1743019200@web2.d11s.org
SUMMARY:Sector San Diego VHF Net
DESCRIPTION:Weekly SDG Sector VHF net on YSD repeater  Wendesday’s at 1930 PST/PDT – unless preempted by federal holiday.
URL:https://web2.d11s.org/event/sector-san-diego-vhf-net/2025-03-26/
END:VEVENT
BEGIN:VEVENT
DTSTART;TZID=America/Los_Angeles:20250319T193000
DTEND;TZID=America/Los_Angeles:20250319T200000
DTSTAMP:20260423T204907
CREATED:20230706T014325Z
LAST-MODIFIED:20230706T014325Z
UID:10000848-1742412600-1742414400@web2.d11s.org
SUMMARY:Sector San Diego VHF Net
DESCRIPTION:Weekly SDG Sector VHF net on YSD repeater  Wendesday’s at 1930 PST/PDT – unless preempted by federal holiday.
URL:https://web2.d11s.org/event/sector-san-diego-vhf-net/2025-03-19/
END:VEVENT
BEGIN:VEVENT
DTSTART;TZID=America/Los_Angeles:20250317T190000
DTEND;TZID=America/Los_Angeles:20250317T203000
DTSTAMP:20260423T204907
CREATED:20240104T024713Z
LAST-MODIFIED:20240104T024713Z
UID:10001222-1742238000-1742243400@web2.d11s.org
SUMMARY:Division 1 Division meeting
DESCRIPTION:Division 1 monthly meeting at Sector San Diego
URL:https://web2.d11s.org/event/division-1-division-meeting/2025-03-17/
CATEGORIES:Unit Meeting
END:VEVENT
BEGIN:VEVENT
DTSTART;TZID=America/Los_Angeles:20250312T193000
DTEND;TZID=America/Los_Angeles:20250312T200000
DTSTAMP:20260423T204907
CREATED:20230706T014325Z
LAST-MODIFIED:20230706T014325Z
UID:10000847-1741807800-1741809600@web2.d11s.org
SUMMARY:Sector San Diego VHF Net
DESCRIPTION:Weekly SDG Sector VHF net on YSD repeater  Wendesday’s at 1930 PST/PDT – unless preempted by federal holiday.
URL:https://web2.d11s.org/event/sector-san-diego-vhf-net/2025-03-12/
END:VEVENT
BEGIN:VEVENT
DTSTART;TZID=America/Los_Angeles:20250305T193000
DTEND;TZID=America/Los_Angeles:20250305T200000
DTSTAMP:20260423T204907
CREATED:20230706T014325Z
LAST-MODIFIED:20230706T014325Z
UID:10000846-1741203000-1741204800@web2.d11s.org
SUMMARY:Sector San Diego VHF Net
DESCRIPTION:Weekly SDG Sector VHF net on YSD repeater  Wendesday’s at 1930 PST/PDT – unless preempted by federal holiday.
URL:https://web2.d11s.org/event/sector-san-diego-vhf-net/2025-03-05/
END:VEVENT
BEGIN:VEVENT
DTSTART;TZID=America/Los_Angeles:20250226T193000
DTEND;TZID=America/Los_Angeles:20250226T200000
DTSTAMP:20260423T204907
CREATED:20230706T014325Z
LAST-MODIFIED:20230706T014325Z
UID:10000845-1740598200-1740600000@web2.d11s.org
SUMMARY:Sector San Diego VHF Net
DESCRIPTION:Weekly SDG Sector VHF net on YSD repeater  Wendesday’s at 1930 PST/PDT – unless preempted by federal holiday.
URL:https://web2.d11s.org/event/sector-san-diego-vhf-net/2025-02-26/
END:VEVENT
BEGIN:VEVENT
DTSTART;TZID=America/Los_Angeles:20250219T193000
DTEND;TZID=America/Los_Angeles:20250219T200000
DTSTAMP:20260423T204907
CREATED:20230706T014325Z
LAST-MODIFIED:20230706T014325Z
UID:10000844-1739993400-1739995200@web2.d11s.org
SUMMARY:Sector San Diego VHF Net
DESCRIPTION:Weekly SDG Sector VHF net on YSD repeater  Wendesday’s at 1930 PST/PDT – unless preempted by federal holiday.
URL:https://web2.d11s.org/event/sector-san-diego-vhf-net/2025-02-19/
END:VEVENT
BEGIN:VEVENT
DTSTART;TZID=America/Los_Angeles:20250217T190000
DTEND;TZID=America/Los_Angeles:20250217T203000
DTSTAMP:20260423T204907
CREATED:20240104T024713Z
LAST-MODIFIED:20240104T024713Z
UID:10001221-1739818800-1739824200@web2.d11s.org
SUMMARY:Division 1 Division meeting
DESCRIPTION:Division 1 monthly meeting at Sector San Diego
URL:https://web2.d11s.org/event/division-1-division-meeting/2025-02-17/
CATEGORIES:Unit Meeting
END:VEVENT
BEGIN:VEVENT
DTSTART;TZID=America/Los_Angeles:20250212T193000
DTEND;TZID=America/Los_Angeles:20250212T200000
DTSTAMP:20260423T204907
CREATED:20230706T014325Z
LAST-MODIFIED:20230706T014325Z
UID:10000843-1739388600-1739390400@web2.d11s.org
SUMMARY:Sector San Diego VHF Net
DESCRIPTION:Weekly SDG Sector VHF net on YSD repeater  Wendesday’s at 1930 PST/PDT – unless preempted by federal holiday.
URL:https://web2.d11s.org/event/sector-san-diego-vhf-net/2025-02-12/
END:VEVENT
BEGIN:VEVENT
DTSTART;TZID=America/Los_Angeles:20250205T193000
DTEND;TZID=America/Los_Angeles:20250205T200000
DTSTAMP:20260423T204907
CREATED:20230706T014325Z
LAST-MODIFIED:20230706T014325Z
UID:10000842-1738783800-1738785600@web2.d11s.org
SUMMARY:Sector San Diego VHF Net
DESCRIPTION:Weekly SDG Sector VHF net on YSD repeater  Wendesday’s at 1930 PST/PDT – unless preempted by federal holiday.
URL:https://web2.d11s.org/event/sector-san-diego-vhf-net/2025-02-05/
END:VEVENT
BEGIN:VEVENT
DTSTART;TZID=America/Los_Angeles:20250129T193000
DTEND;TZID=America/Los_Angeles:20250129T200000
DTSTAMP:20260423T204907
CREATED:20230706T014325Z
LAST-MODIFIED:20230706T014325Z
UID:10000841-1738179000-1738180800@web2.d11s.org
SUMMARY:Sector San Diego VHF Net
DESCRIPTION:Weekly SDG Sector VHF net on YSD repeater  Wendesday’s at 1930 PST/PDT – unless preempted by federal holiday.
URL:https://web2.d11s.org/event/sector-san-diego-vhf-net/2025-01-29/
END:VEVENT
BEGIN:VEVENT
DTSTART;TZID=America/Los_Angeles:20250122T193000
DTEND;TZID=America/Los_Angeles:20250122T200000
DTSTAMP:20260423T204907
CREATED:20230706T014325Z
LAST-MODIFIED:20230706T014325Z
UID:10000840-1737574200-1737576000@web2.d11s.org
SUMMARY:Sector San Diego VHF Net
DESCRIPTION:Weekly SDG Sector VHF net on YSD repeater  Wendesday’s at 1930 PST/PDT – unless preempted by federal holiday.
URL:https://web2.d11s.org/event/sector-san-diego-vhf-net/2025-01-22/
END:VEVENT
BEGIN:VEVENT
DTSTART;TZID=America/Los_Angeles:20250120T190000
DTEND;TZID=America/Los_Angeles:20250120T203000
DTSTAMP:20260423T204907
CREATED:20240104T024713Z
LAST-MODIFIED:20240104T024713Z
UID:10001220-1737399600-1737405000@web2.d11s.org
SUMMARY:Division 1 Division meeting
DESCRIPTION:Division 1 monthly meeting at Sector San Diego
URL:https://web2.d11s.org/event/division-1-division-meeting/2025-01-20/
CATEGORIES:Unit Meeting
END:VEVENT
BEGIN:VEVENT
DTSTART;TZID=America/Los_Angeles:20250115T193000
DTEND;TZID=America/Los_Angeles:20250115T200000
DTSTAMP:20260423T204907
CREATED:20230706T014325Z
LAST-MODIFIED:20230706T014325Z
UID:10000839-1736969400-1736971200@web2.d11s.org
SUMMARY:Sector San Diego VHF Net
DESCRIPTION:Weekly SDG Sector VHF net on YSD repeater  Wendesday’s at 1930 PST/PDT – unless preempted by federal holiday.
URL:https://web2.d11s.org/event/sector-san-diego-vhf-net/2025-01-15/
END:VEVENT
BEGIN:VEVENT
DTSTART;TZID=America/Los_Angeles:20250108T193000
DTEND;TZID=America/Los_Angeles:20250108T200000
DTSTAMP:20260423T204907
CREATED:20230706T014325Z
LAST-MODIFIED:20230706T014325Z
UID:10000838-1736364600-1736366400@web2.d11s.org
SUMMARY:Sector San Diego VHF Net
DESCRIPTION:Weekly SDG Sector VHF net on YSD repeater  Wendesday’s at 1930 PST/PDT – unless preempted by federal holiday.
URL:https://web2.d11s.org/event/sector-san-diego-vhf-net/2025-01-08/
END:VEVENT
BEGIN:VEVENT
DTSTART;TZID=America/Los_Angeles:20250101T193000
DTEND;TZID=America/Los_Angeles:20250101T200000
DTSTAMP:20260423T204907
CREATED:20230706T014325Z
LAST-MODIFIED:20230706T014325Z
UID:10000837-1735759800-1735761600@web2.d11s.org
SUMMARY:Sector San Diego VHF Net
DESCRIPTION:Weekly SDG Sector VHF net on YSD repeater  Wendesday’s at 1930 PST/PDT – unless preempted by federal holiday.
URL:https://web2.d11s.org/event/sector-san-diego-vhf-net/2025-01-01/
END:VEVENT
BEGIN:VEVENT
DTSTART;TZID=America/Los_Angeles:20241225T193000
DTEND;TZID=America/Los_Angeles:20241225T200000
DTSTAMP:20260423T204907
CREATED:20230706T014325Z
LAST-MODIFIED:20230706T014325Z
UID:10000836-1735155000-1735156800@web2.d11s.org
SUMMARY:Sector San Diego VHF Net
DESCRIPTION:Weekly SDG Sector VHF net on YSD repeater  Wendesday’s at 1930 PST/PDT – unless preempted by federal holiday.
URL:https://web2.d11s.org/event/sector-san-diego-vhf-net/2024-12-25/
END:VEVENT
BEGIN:VEVENT
DTSTART;TZID=America/Los_Angeles:20241218T193000
DTEND;TZID=America/Los_Angeles:20241218T200000
DTSTAMP:20260423T204907
CREATED:20230706T014325Z
LAST-MODIFIED:20230706T014325Z
UID:10000835-1734550200-1734552000@web2.d11s.org
SUMMARY:Sector San Diego VHF Net
DESCRIPTION:Weekly SDG Sector VHF net on YSD repeater  Wendesday’s at 1930 PST/PDT – unless preempted by federal holiday.
URL:https://web2.d11s.org/event/sector-san-diego-vhf-net/2024-12-18/
END:VEVENT
BEGIN:VEVENT
DTSTART;TZID=America/Los_Angeles:20241216T190000
DTEND;TZID=America/Los_Angeles:20241216T203000
DTSTAMP:20260423T204907
CREATED:20240104T024713Z
LAST-MODIFIED:20240104T024713Z
UID:10001219-1734375600-1734381000@web2.d11s.org
SUMMARY:Division 1 Division meeting
DESCRIPTION:Division 1 monthly meeting at Sector San Diego
URL:https://web2.d11s.org/event/division-1-division-meeting/2024-12-16/
CATEGORIES:Unit Meeting
END:VEVENT
BEGIN:VEVENT
DTSTART;TZID=America/Los_Angeles:20241211T193000
DTEND;TZID=America/Los_Angeles:20241211T200000
DTSTAMP:20260423T204907
CREATED:20230706T014325Z
LAST-MODIFIED:20230706T014325Z
UID:10000834-1733945400-1733947200@web2.d11s.org
SUMMARY:Sector San Diego VHF Net
DESCRIPTION:Weekly SDG Sector VHF net on YSD repeater  Wendesday’s at 1930 PST/PDT – unless preempted by federal holiday.
URL:https://web2.d11s.org/event/sector-san-diego-vhf-net/2024-12-11/
END:VEVENT
BEGIN:VEVENT
DTSTART;TZID=America/Los_Angeles:20241204T193000
DTEND;TZID=America/Los_Angeles:20241204T200000
DTSTAMP:20260423T204907
CREATED:20230706T014325Z
LAST-MODIFIED:20230706T014325Z
UID:10000833-1733340600-1733342400@web2.d11s.org
SUMMARY:Sector San Diego VHF Net
DESCRIPTION:Weekly SDG Sector VHF net on YSD repeater  Wendesday’s at 1930 PST/PDT – unless preempted by federal holiday.
URL:https://web2.d11s.org/event/sector-san-diego-vhf-net/2024-12-04/
END:VEVENT
END:VCALENDAR