BEGIN:VCALENDAR
VERSION:2.0
PRODID:-//US Coast Guard Auxiliary-D11S - ECPv6.15.20//NONSGML v1.0//EN
CALSCALE:GREGORIAN
METHOD:PUBLISH
X-WR-CALNAME:US Coast Guard Auxiliary-D11S
X-ORIGINAL-URL:https://web2.d11s.org
X-WR-CALDESC:Events for US Coast Guard Auxiliary-D11S
REFRESH-INTERVAL;VALUE=DURATION:PT1H
X-Robots-Tag:noindex
X-PUBLISHED-TTL:PT1H
BEGIN:VTIMEZONE
TZID:America/Los_Angeles
BEGIN:DAYLIGHT
TZOFFSETFROM:-0800
TZOFFSETTO:-0700
TZNAME:PDT
DTSTART:20260308T100000
END:DAYLIGHT
BEGIN:STANDARD
TZOFFSETFROM:-0700
TZOFFSETTO:-0800
TZNAME:PST
DTSTART:20261101T090000
END:STANDARD
BEGIN:DAYLIGHT
TZOFFSETFROM:-0800
TZOFFSETTO:-0700
TZNAME:PDT
DTSTART:20270314T100000
END:DAYLIGHT
BEGIN:STANDARD
TZOFFSETFROM:-0700
TZOFFSETTO:-0800
TZNAME:PST
DTSTART:20271107T090000
END:STANDARD
BEGIN:DAYLIGHT
TZOFFSETFROM:-0800
TZOFFSETTO:-0700
TZNAME:PDT
DTSTART:20280312T100000
END:DAYLIGHT
BEGIN:STANDARD
TZOFFSETFROM:-0700
TZOFFSETTO:-0800
TZNAME:PST
DTSTART:20281105T090000
END:STANDARD
BEGIN:DAYLIGHT
TZOFFSETFROM:-0800
TZOFFSETTO:-0700
TZNAME:PDT
DTSTART:20290311T100000
END:DAYLIGHT
BEGIN:STANDARD
TZOFFSETFROM:-0700
TZOFFSETTO:-0800
TZNAME:PST
DTSTART:20291104T090000
END:STANDARD
END:VTIMEZONE
BEGIN:VEVENT
DTSTART;TZID=America/Los_Angeles:20270929T193000
DTEND;TZID=America/Los_Angeles:20270929T200000
DTSTAMP:20260424T163242
CREATED:20230706T014325Z
LAST-MODIFIED:20230706T014325Z
UID:10000980-1822246200-1822248000@web2.d11s.org
SUMMARY:Sector San Diego VHF Net
DESCRIPTION:Weekly SDG Sector VHF net on YSD repeater  Wendesday’s at 1930 PST/PDT – unless preempted by federal holiday.
URL:https://web2.d11s.org/event/sector-san-diego-vhf-net/2027-09-29/
END:VEVENT
BEGIN:VEVENT
DTSTART;TZID=America/Los_Angeles:20271006T193000
DTEND;TZID=America/Los_Angeles:20271006T200000
DTSTAMP:20260424T163242
CREATED:20230706T014325Z
LAST-MODIFIED:20230706T014325Z
UID:10000981-1822851000-1822852800@web2.d11s.org
SUMMARY:Sector San Diego VHF Net
DESCRIPTION:Weekly SDG Sector VHF net on YSD repeater  Wendesday’s at 1930 PST/PDT – unless preempted by federal holiday.
URL:https://web2.d11s.org/event/sector-san-diego-vhf-net/2027-10-06/
END:VEVENT
BEGIN:VEVENT
DTSTART;TZID=America/Los_Angeles:20271013T193000
DTEND;TZID=America/Los_Angeles:20271013T200000
DTSTAMP:20260424T163242
CREATED:20230706T014325Z
LAST-MODIFIED:20230706T014325Z
UID:10000982-1823455800-1823457600@web2.d11s.org
SUMMARY:Sector San Diego VHF Net
DESCRIPTION:Weekly SDG Sector VHF net on YSD repeater  Wendesday’s at 1930 PST/PDT – unless preempted by federal holiday.
URL:https://web2.d11s.org/event/sector-san-diego-vhf-net/2027-10-13/
END:VEVENT
BEGIN:VEVENT
DTSTART;TZID=America/Los_Angeles:20271018T190000
DTEND;TZID=America/Los_Angeles:20271018T203000
DTSTAMP:20260424T163242
CREATED:20240104T024713Z
LAST-MODIFIED:20240104T024713Z
UID:10001253-1823886000-1823891400@web2.d11s.org
SUMMARY:Division 1 Division meeting
DESCRIPTION:Division 1 monthly meeting at Sector San Diego
URL:https://web2.d11s.org/event/division-1-division-meeting/2027-10-18/
CATEGORIES:Unit Meeting
END:VEVENT
BEGIN:VEVENT
DTSTART;TZID=America/Los_Angeles:20271020T193000
DTEND;TZID=America/Los_Angeles:20271020T200000
DTSTAMP:20260424T163242
CREATED:20230706T014325Z
LAST-MODIFIED:20230706T014325Z
UID:10000983-1824060600-1824062400@web2.d11s.org
SUMMARY:Sector San Diego VHF Net
DESCRIPTION:Weekly SDG Sector VHF net on YSD repeater  Wendesday’s at 1930 PST/PDT – unless preempted by federal holiday.
URL:https://web2.d11s.org/event/sector-san-diego-vhf-net/2027-10-20/
END:VEVENT
BEGIN:VEVENT
DTSTART;TZID=America/Los_Angeles:20271027T193000
DTEND;TZID=America/Los_Angeles:20271027T200000
DTSTAMP:20260424T163242
CREATED:20230706T014325Z
LAST-MODIFIED:20230706T014325Z
UID:10000984-1824665400-1824667200@web2.d11s.org
SUMMARY:Sector San Diego VHF Net
DESCRIPTION:Weekly SDG Sector VHF net on YSD repeater  Wendesday’s at 1930 PST/PDT – unless preempted by federal holiday.
URL:https://web2.d11s.org/event/sector-san-diego-vhf-net/2027-10-27/
END:VEVENT
BEGIN:VEVENT
DTSTART;TZID=America/Los_Angeles:20271103T193000
DTEND;TZID=America/Los_Angeles:20271103T200000
DTSTAMP:20260424T163242
CREATED:20230706T014325Z
LAST-MODIFIED:20230706T014325Z
UID:10000985-1825270200-1825272000@web2.d11s.org
SUMMARY:Sector San Diego VHF Net
DESCRIPTION:Weekly SDG Sector VHF net on YSD repeater  Wendesday’s at 1930 PST/PDT – unless preempted by federal holiday.
URL:https://web2.d11s.org/event/sector-san-diego-vhf-net/2027-11-03/
END:VEVENT
BEGIN:VEVENT
DTSTART;TZID=America/Los_Angeles:20271110T193000
DTEND;TZID=America/Los_Angeles:20271110T200000
DTSTAMP:20260424T163242
CREATED:20230706T014325Z
LAST-MODIFIED:20230706T014325Z
UID:10000986-1825875000-1825876800@web2.d11s.org
SUMMARY:Sector San Diego VHF Net
DESCRIPTION:Weekly SDG Sector VHF net on YSD repeater  Wendesday’s at 1930 PST/PDT – unless preempted by federal holiday.
URL:https://web2.d11s.org/event/sector-san-diego-vhf-net/2027-11-10/
END:VEVENT
BEGIN:VEVENT
DTSTART;TZID=America/Los_Angeles:20271115T190000
DTEND;TZID=America/Los_Angeles:20271115T203000
DTSTAMP:20260424T163242
CREATED:20240104T024713Z
LAST-MODIFIED:20240104T024713Z
UID:10001254-1826305200-1826310600@web2.d11s.org
SUMMARY:Division 1 Division meeting
DESCRIPTION:Division 1 monthly meeting at Sector San Diego
URL:https://web2.d11s.org/event/division-1-division-meeting/2027-11-15/
CATEGORIES:Unit Meeting
END:VEVENT
BEGIN:VEVENT
DTSTART;TZID=America/Los_Angeles:20271117T193000
DTEND;TZID=America/Los_Angeles:20271117T200000
DTSTAMP:20260424T163242
CREATED:20230706T014325Z
LAST-MODIFIED:20230706T014325Z
UID:10000987-1826479800-1826481600@web2.d11s.org
SUMMARY:Sector San Diego VHF Net
DESCRIPTION:Weekly SDG Sector VHF net on YSD repeater  Wendesday’s at 1930 PST/PDT – unless preempted by federal holiday.
URL:https://web2.d11s.org/event/sector-san-diego-vhf-net/2027-11-17/
END:VEVENT
BEGIN:VEVENT
DTSTART;TZID=America/Los_Angeles:20271124T193000
DTEND;TZID=America/Los_Angeles:20271124T200000
DTSTAMP:20260424T163242
CREATED:20230706T014325Z
LAST-MODIFIED:20230706T014325Z
UID:10000988-1827084600-1827086400@web2.d11s.org
SUMMARY:Sector San Diego VHF Net
DESCRIPTION:Weekly SDG Sector VHF net on YSD repeater  Wendesday’s at 1930 PST/PDT – unless preempted by federal holiday.
URL:https://web2.d11s.org/event/sector-san-diego-vhf-net/2027-11-24/
END:VEVENT
BEGIN:VEVENT
DTSTART;TZID=America/Los_Angeles:20271201T193000
DTEND;TZID=America/Los_Angeles:20271201T200000
DTSTAMP:20260424T163242
CREATED:20230706T014325Z
LAST-MODIFIED:20230706T014325Z
UID:10000989-1827689400-1827691200@web2.d11s.org
SUMMARY:Sector San Diego VHF Net
DESCRIPTION:Weekly SDG Sector VHF net on YSD repeater  Wendesday’s at 1930 PST/PDT – unless preempted by federal holiday.
URL:https://web2.d11s.org/event/sector-san-diego-vhf-net/2027-12-01/
END:VEVENT
BEGIN:VEVENT
DTSTART;TZID=America/Los_Angeles:20271208T193000
DTEND;TZID=America/Los_Angeles:20271208T200000
DTSTAMP:20260424T163242
CREATED:20230706T014325Z
LAST-MODIFIED:20230706T014325Z
UID:10000990-1828294200-1828296000@web2.d11s.org
SUMMARY:Sector San Diego VHF Net
DESCRIPTION:Weekly SDG Sector VHF net on YSD repeater  Wendesday’s at 1930 PST/PDT – unless preempted by federal holiday.
URL:https://web2.d11s.org/event/sector-san-diego-vhf-net/2027-12-08/
END:VEVENT
BEGIN:VEVENT
DTSTART;TZID=America/Los_Angeles:20271215T193000
DTEND;TZID=America/Los_Angeles:20271215T200000
DTSTAMP:20260424T163242
CREATED:20230706T014325Z
LAST-MODIFIED:20230706T014325Z
UID:10000991-1828899000-1828900800@web2.d11s.org
SUMMARY:Sector San Diego VHF Net
DESCRIPTION:Weekly SDG Sector VHF net on YSD repeater  Wendesday’s at 1930 PST/PDT – unless preempted by federal holiday.
URL:https://web2.d11s.org/event/sector-san-diego-vhf-net/2027-12-15/
END:VEVENT
BEGIN:VEVENT
DTSTART;TZID=America/Los_Angeles:20271220T190000
DTEND;TZID=America/Los_Angeles:20271220T203000
DTSTAMP:20260424T163242
CREATED:20240104T024713Z
LAST-MODIFIED:20240104T024713Z
UID:10001255-1829329200-1829334600@web2.d11s.org
SUMMARY:Division 1 Division meeting
DESCRIPTION:Division 1 monthly meeting at Sector San Diego
URL:https://web2.d11s.org/event/division-1-division-meeting/2027-12-20/
CATEGORIES:Unit Meeting
END:VEVENT
BEGIN:VEVENT
DTSTART;TZID=America/Los_Angeles:20271222T193000
DTEND;TZID=America/Los_Angeles:20271222T200000
DTSTAMP:20260424T163242
CREATED:20230706T014325Z
LAST-MODIFIED:20230706T014325Z
UID:10000992-1829503800-1829505600@web2.d11s.org
SUMMARY:Sector San Diego VHF Net
DESCRIPTION:Weekly SDG Sector VHF net on YSD repeater  Wendesday’s at 1930 PST/PDT – unless preempted by federal holiday.
URL:https://web2.d11s.org/event/sector-san-diego-vhf-net/2027-12-22/
END:VEVENT
BEGIN:VEVENT
DTSTART;TZID=America/Los_Angeles:20271229T193000
DTEND;TZID=America/Los_Angeles:20271229T200000
DTSTAMP:20260424T163242
CREATED:20230706T014325Z
LAST-MODIFIED:20230706T014325Z
UID:10000993-1830108600-1830110400@web2.d11s.org
SUMMARY:Sector San Diego VHF Net
DESCRIPTION:Weekly SDG Sector VHF net on YSD repeater  Wendesday’s at 1930 PST/PDT – unless preempted by federal holiday.
URL:https://web2.d11s.org/event/sector-san-diego-vhf-net/2027-12-29/
END:VEVENT
BEGIN:VEVENT
DTSTART;TZID=America/Los_Angeles:20280105T193000
DTEND;TZID=America/Los_Angeles:20280105T200000
DTSTAMP:20260424T163242
CREATED:20230706T014325Z
LAST-MODIFIED:20230706T014325Z
UID:10000994-1830713400-1830715200@web2.d11s.org
SUMMARY:Sector San Diego VHF Net
DESCRIPTION:Weekly SDG Sector VHF net on YSD repeater  Wendesday’s at 1930 PST/PDT – unless preempted by federal holiday.
URL:https://web2.d11s.org/event/sector-san-diego-vhf-net/2028-01-05/
END:VEVENT
BEGIN:VEVENT
DTSTART;TZID=America/Los_Angeles:20280112T193000
DTEND;TZID=America/Los_Angeles:20280112T200000
DTSTAMP:20260424T163242
CREATED:20230706T014325Z
LAST-MODIFIED:20230706T014325Z
UID:10000995-1831318200-1831320000@web2.d11s.org
SUMMARY:Sector San Diego VHF Net
DESCRIPTION:Weekly SDG Sector VHF net on YSD repeater  Wendesday’s at 1930 PST/PDT – unless preempted by federal holiday.
URL:https://web2.d11s.org/event/sector-san-diego-vhf-net/2028-01-12/
END:VEVENT
BEGIN:VEVENT
DTSTART;TZID=America/Los_Angeles:20280117T190000
DTEND;TZID=America/Los_Angeles:20280117T203000
DTSTAMP:20260424T163242
CREATED:20240104T024713Z
LAST-MODIFIED:20240104T024713Z
UID:10001256-1831748400-1831753800@web2.d11s.org
SUMMARY:Division 1 Division meeting
DESCRIPTION:Division 1 monthly meeting at Sector San Diego
URL:https://web2.d11s.org/event/division-1-division-meeting/2028-01-17/
CATEGORIES:Unit Meeting
END:VEVENT
BEGIN:VEVENT
DTSTART;TZID=America/Los_Angeles:20280119T193000
DTEND;TZID=America/Los_Angeles:20280119T200000
DTSTAMP:20260424T163242
CREATED:20230706T014325Z
LAST-MODIFIED:20230706T014325Z
UID:10000996-1831923000-1831924800@web2.d11s.org
SUMMARY:Sector San Diego VHF Net
DESCRIPTION:Weekly SDG Sector VHF net on YSD repeater  Wendesday’s at 1930 PST/PDT – unless preempted by federal holiday.
URL:https://web2.d11s.org/event/sector-san-diego-vhf-net/2028-01-19/
END:VEVENT
BEGIN:VEVENT
DTSTART;TZID=America/Los_Angeles:20280126T193000
DTEND;TZID=America/Los_Angeles:20280126T200000
DTSTAMP:20260424T163242
CREATED:20230706T014325Z
LAST-MODIFIED:20230706T014325Z
UID:10000997-1832527800-1832529600@web2.d11s.org
SUMMARY:Sector San Diego VHF Net
DESCRIPTION:Weekly SDG Sector VHF net on YSD repeater  Wendesday’s at 1930 PST/PDT – unless preempted by federal holiday.
URL:https://web2.d11s.org/event/sector-san-diego-vhf-net/2028-01-26/
END:VEVENT
BEGIN:VEVENT
DTSTART;TZID=America/Los_Angeles:20280202T193000
DTEND;TZID=America/Los_Angeles:20280202T200000
DTSTAMP:20260424T163242
CREATED:20230706T014325Z
LAST-MODIFIED:20230706T014325Z
UID:10000998-1833132600-1833134400@web2.d11s.org
SUMMARY:Sector San Diego VHF Net
DESCRIPTION:Weekly SDG Sector VHF net on YSD repeater  Wendesday’s at 1930 PST/PDT – unless preempted by federal holiday.
URL:https://web2.d11s.org/event/sector-san-diego-vhf-net/2028-02-02/
END:VEVENT
BEGIN:VEVENT
DTSTART;TZID=America/Los_Angeles:20280209T193000
DTEND;TZID=America/Los_Angeles:20280209T200000
DTSTAMP:20260424T163242
CREATED:20230706T014325Z
LAST-MODIFIED:20230706T014325Z
UID:10000999-1833737400-1833739200@web2.d11s.org
SUMMARY:Sector San Diego VHF Net
DESCRIPTION:Weekly SDG Sector VHF net on YSD repeater  Wendesday’s at 1930 PST/PDT – unless preempted by federal holiday.
URL:https://web2.d11s.org/event/sector-san-diego-vhf-net/2028-02-09/
END:VEVENT
BEGIN:VEVENT
DTSTART;TZID=America/Los_Angeles:20280216T193000
DTEND;TZID=America/Los_Angeles:20280216T200000
DTSTAMP:20260424T163242
CREATED:20230706T014325Z
LAST-MODIFIED:20230706T014325Z
UID:10001000-1834342200-1834344000@web2.d11s.org
SUMMARY:Sector San Diego VHF Net
DESCRIPTION:Weekly SDG Sector VHF net on YSD repeater  Wendesday’s at 1930 PST/PDT – unless preempted by federal holiday.
URL:https://web2.d11s.org/event/sector-san-diego-vhf-net/2028-02-16/
END:VEVENT
BEGIN:VEVENT
DTSTART;TZID=America/Los_Angeles:20280221T190000
DTEND;TZID=America/Los_Angeles:20280221T203000
DTSTAMP:20260424T163242
CREATED:20240104T024713Z
LAST-MODIFIED:20240104T024713Z
UID:10001257-1834772400-1834777800@web2.d11s.org
SUMMARY:Division 1 Division meeting
DESCRIPTION:Division 1 monthly meeting at Sector San Diego
URL:https://web2.d11s.org/event/division-1-division-meeting/2028-02-21/
CATEGORIES:Unit Meeting
END:VEVENT
BEGIN:VEVENT
DTSTART;TZID=America/Los_Angeles:20280223T193000
DTEND;TZID=America/Los_Angeles:20280223T200000
DTSTAMP:20260424T163242
CREATED:20230706T014325Z
LAST-MODIFIED:20230706T014325Z
UID:10001001-1834947000-1834948800@web2.d11s.org
SUMMARY:Sector San Diego VHF Net
DESCRIPTION:Weekly SDG Sector VHF net on YSD repeater  Wendesday’s at 1930 PST/PDT – unless preempted by federal holiday.
URL:https://web2.d11s.org/event/sector-san-diego-vhf-net/2028-02-23/
END:VEVENT
BEGIN:VEVENT
DTSTART;TZID=America/Los_Angeles:20280301T193000
DTEND;TZID=America/Los_Angeles:20280301T200000
DTSTAMP:20260424T163242
CREATED:20230706T014325Z
LAST-MODIFIED:20230706T014325Z
UID:10001002-1835551800-1835553600@web2.d11s.org
SUMMARY:Sector San Diego VHF Net
DESCRIPTION:Weekly SDG Sector VHF net on YSD repeater  Wendesday’s at 1930 PST/PDT – unless preempted by federal holiday.
URL:https://web2.d11s.org/event/sector-san-diego-vhf-net/2028-03-01/
END:VEVENT
BEGIN:VEVENT
DTSTART;TZID=America/Los_Angeles:20280308T193000
DTEND;TZID=America/Los_Angeles:20280308T200000
DTSTAMP:20260424T163242
CREATED:20230706T014325Z
LAST-MODIFIED:20230706T014325Z
UID:10001003-1836156600-1836158400@web2.d11s.org
SUMMARY:Sector San Diego VHF Net
DESCRIPTION:Weekly SDG Sector VHF net on YSD repeater  Wendesday’s at 1930 PST/PDT – unless preempted by federal holiday.
URL:https://web2.d11s.org/event/sector-san-diego-vhf-net/2028-03-08/
END:VEVENT
BEGIN:VEVENT
DTSTART;TZID=America/Los_Angeles:20280315T193000
DTEND;TZID=America/Los_Angeles:20280315T200000
DTSTAMP:20260424T163242
CREATED:20230706T014325Z
LAST-MODIFIED:20230706T014325Z
UID:10001004-1836761400-1836763200@web2.d11s.org
SUMMARY:Sector San Diego VHF Net
DESCRIPTION:Weekly SDG Sector VHF net on YSD repeater  Wendesday’s at 1930 PST/PDT – unless preempted by federal holiday.
URL:https://web2.d11s.org/event/sector-san-diego-vhf-net/2028-03-15/
END:VEVENT
END:VCALENDAR