BEGIN:VCALENDAR
VERSION:2.0
PRODID:-//US Coast Guard Auxiliary-D11S - ECPv6.15.20//NONSGML v1.0//EN
CALSCALE:GREGORIAN
METHOD:PUBLISH
X-ORIGINAL-URL:https://web2.d11s.org
X-WR-CALDESC:Events for US Coast Guard Auxiliary-D11S
REFRESH-INTERVAL;VALUE=DURATION:PT1H
X-Robots-Tag:noindex
X-PUBLISHED-TTL:PT1H
BEGIN:VTIMEZONE
TZID:America/Los_Angeles
BEGIN:DAYLIGHT
TZOFFSETFROM:-0800
TZOFFSETTO:-0700
TZNAME:PDT
DTSTART:20220313T100000
END:DAYLIGHT
BEGIN:STANDARD
TZOFFSETFROM:-0700
TZOFFSETTO:-0800
TZNAME:PST
DTSTART:20221106T090000
END:STANDARD
BEGIN:DAYLIGHT
TZOFFSETFROM:-0800
TZOFFSETTO:-0700
TZNAME:PDT
DTSTART:20230312T100000
END:DAYLIGHT
BEGIN:STANDARD
TZOFFSETFROM:-0700
TZOFFSETTO:-0800
TZNAME:PST
DTSTART:20231105T090000
END:STANDARD
BEGIN:DAYLIGHT
TZOFFSETFROM:-0800
TZOFFSETTO:-0700
TZNAME:PDT
DTSTART:20240310T100000
END:DAYLIGHT
BEGIN:STANDARD
TZOFFSETFROM:-0700
TZOFFSETTO:-0800
TZNAME:PST
DTSTART:20241103T090000
END:STANDARD
BEGIN:DAYLIGHT
TZOFFSETFROM:-0800
TZOFFSETTO:-0700
TZNAME:PDT
DTSTART:20250309T100000
END:DAYLIGHT
BEGIN:STANDARD
TZOFFSETFROM:-0700
TZOFFSETTO:-0800
TZNAME:PST
DTSTART:20251102T090000
END:STANDARD
END:VTIMEZONE
BEGIN:VEVENT
DTSTART;TZID=America/Los_Angeles:20240127T160000
DTEND;TZID=America/Los_Angeles:20240127T200000
DTSTAMP:20260423T135149
CREATED:20240118T174559Z
LAST-MODIFIED:20240118T174559Z
UID:10001268-1706371200-1706385600@web2.d11s.org
SUMMARY:Division 10 Arizona Change of Watch
DESCRIPTION:Division 10 Arizona will host it’s 2nd consecutive COW since 2017 at Luke Air Force Base Club 56 on Saturday evening\, 27 January 2024.
URL:https://web2.d11s.org/event/division-10-arizona-change-of-watch/
CATEGORIES:Fellowship
ATTACH;FMTTYPE=image/png:https://web2.d11s.org/wp-content/uploads/2024/01/Div-logo.png
END:VEVENT
BEGIN:VEVENT
DTSTART;TZID=America/Los_Angeles:20240118T180000
DTEND;TZID=America/Los_Angeles:20240118T190000
DTSTAMP:20260423T135149
CREATED:20240118T175113Z
LAST-MODIFIED:20240118T175113Z
UID:10001269-1705600800-1705604400@web2.d11s.org
SUMMARY:Division 10 Arizona Meeting
DESCRIPTION:Division 10 monthly in person business meeting at the North Tempe Multi-Generational Center\, Tempe\, Arizona.
URL:https://web2.d11s.org/event/division-10-arizona-meeting/
CATEGORIES:Unit Meeting
END:VEVENT
BEGIN:VEVENT
DTSTART;TZID=America/Los_Angeles:20231111T100000
DTEND;TZID=America/Los_Angeles:20231111T120000
DTSTAMP:20260423T135149
CREATED:20231019T204120Z
LAST-MODIFIED:20231019T204120Z
UID:10001182-1699696800-1699704000@web2.d11s.org
SUMMARY:Arizona Division Veterans Day Events
DESCRIPTION:27th Annual Phoenix Veterans Day Parade\, Saturday\, November 11th\, Division 10 entry will have participants from Flotilla 10-01\, 10-3\, 10-07 and 10-08. \n10th Annual East Valley Veterans Parade\, Saturday\, November 11th.  Flotilla 10-11 will be representing the USCG and USCAUX at this event.
URL:https://web2.d11s.org/event/arizona-division-veterans-day-events/
CATEGORIES:Special Event
ATTACH;FMTTYPE=image/jpeg:https://web2.d11s.org/wp-content/uploads/2023/10/USCG-Balloon.jpg
END:VEVENT
BEGIN:VEVENT
DTSTART;TZID=America/Los_Angeles:20230724T080000
DTEND;TZID=America/Los_Angeles:20230724T083000
DTSTAMP:20260423T135149
CREATED:20230724T194249Z
LAST-MODIFIED:20230724T194249Z
UID:10001023-1690185600-1690187400@web2.d11s.org
SUMMARY:Coast Guard Day Proclamation
DESCRIPTION:Division 10\, Flotilla 10-07 PA Event.  Litchfield Park\, Arizona Mayor Tom Schoaf will proclaim\, Friday\, August 4th as Coast Guard Day in Litchfield Park in honor of the 233rd birthday of the Coast Guard. Along with the reading of the proclamation the Coast Guard the Division Color Guard will perform a color ceremony.
URL:https://web2.d11s.org/event/coast-guard-day-proclamation/
END:VEVENT
BEGIN:VEVENT
DTSTART;TZID=America/Los_Angeles:20230711T080000
DTEND;TZID=America/Los_Angeles:20230711T110000
DTSTAMP:20260423T135149
CREATED:20230615T210412Z
LAST-MODIFIED:20230615T210412Z
UID:10000746-1689062400-1689073200@web2.d11s.org
SUMMARY:Veggies for Veterans
DESCRIPTION:Local supermarket donates veggies for vets\, volunteer hand out over 600 bags of veggies.
URL:https://web2.d11s.org/event/veggies-for-veterans/
END:VEVENT
BEGIN:VEVENT
DTSTART;TZID=America/Los_Angeles:20230623T080000
DTEND;TZID=America/Los_Angeles:20230623T090000
DTSTAMP:20260423T135149
CREATED:20230613T183748Z
LAST-MODIFIED:20230613T191142Z
UID:10000664-1687507200-1687510800@web2.d11s.org
SUMMARY:Division 10- Coast Guard Auxiliary Day\, Fountain Hills\,AZ
DESCRIPTION:Come join Division 10 in Fountain Hills\, AZ at the Fountain Hills Lake Park on Friday\, June 23rd to celebrate and commemorate the 84th birthday of the USCGAUX!  Division 10 Color Guard and the Arizona Auxiliary Band will represent at the event which will take place at the Veterans Memorial at the Fountain Hills Lake Park.
URL:https://web2.d11s.org/event/division-10-event-town-council-meeting-and-mayorial-proclamation-for-town-of-fountain-hillsaz-june-23rd-as-coast-guard-auxiliary-day-in-fountain-hillsaz/
ATTACH;FMTTYPE=image/jpeg:https://web2.d11s.org/wp-content/uploads/2023/06/CG_Day_to_the_Colors_Aug_2021.jpg
END:VEVENT
BEGIN:VEVENT
DTSTART;TZID=America/Los_Angeles:20230620T173000
DTEND;TZID=America/Los_Angeles:20230620T180000
DTSTAMP:20260423T135149
CREATED:20230619T212704Z
LAST-MODIFIED:20230619T212704Z
UID:10000749-1687282200-1687284000@web2.d11s.org
SUMMARY:PA Event- Division 10 Arizona\, Fountain Hills Arizona Mayor to proclaim June23 Coast Guard Auxiliary Day
DESCRIPTION:Fountain Hills Arizona Mayor will read a proclamation to the Fountain Hills Town Council meeting on Tuesday evening June 20.  Mayor Dickey will be naming Friday\, June 23rd as Coast Guard Auxiliary Day in Fountain Hills. The Mayor will then present the proclamation to Division 10 Commander Jon Dootson who will be accompanied by other Auxiliary members.  This will mark the first public/civic event in Arizona commemorating the birthday of the US Coast Guard Auxiliary.
URL:https://web2.d11s.org/event/pa-event-division-10-arizona-fountain-hills-arizona-mayor-to-proclaim-june23-coast-guard-auxiliary-day-2/
END:VEVENT
BEGIN:VEVENT
DTSTART;TZID=America/Los_Angeles:20230617T080000
DTEND;TZID=America/Los_Angeles:20230617T170000
DTSTAMP:20260423T135149
CREATED:20230617T204059Z
LAST-MODIFIED:20230617T204612Z
UID:10000748-1686988800-1687021200@web2.d11s.org
SUMMARY:PA Event- Division 10 Arizona\, Fountain Hills Arizona Mayor to proclaim June 23 Coast Guard Auxiliary Day
DESCRIPTION:Fountain Hills Arizona Mayor will read a proclamation to the Fountain Hills Town Council meeting on Tuesday evening June 20.  Mayor Dickey will be naming Friday\, June 23rd as Coast Guard Auxiliary Day in Fountain Hills. The Mayor will then present the proclamation to Division 10 Commander Jon Dootson who will be accompanied by other Auxiliary members.  This will mark the first public/civic event in Arizona commemorating the birthday of the US Coast Guard Auxiliary.
URL:https://web2.d11s.org/event/pa-event-division-10-arizona-fountain-hills-arizona-mayor-to-proclaim-june23-coast-guard-auxiliary-day/
END:VEVENT
END:VCALENDAR