BEGIN:VCALENDAR
VERSION:2.0
PRODID:-//US Coast Guard Auxiliary-D11S - ECPv6.15.20//NONSGML v1.0//EN
CALSCALE:GREGORIAN
METHOD:PUBLISH
X-WR-CALNAME:US Coast Guard Auxiliary-D11S
X-ORIGINAL-URL:https://web2.d11s.org
X-WR-CALDESC:Events for US Coast Guard Auxiliary-D11S
REFRESH-INTERVAL;VALUE=DURATION:PT1H
X-Robots-Tag:noindex
X-PUBLISHED-TTL:PT1H
BEGIN:VTIMEZONE
TZID:America/Los_Angeles
BEGIN:DAYLIGHT
TZOFFSETFROM:-0800
TZOFFSETTO:-0700
TZNAME:PDT
DTSTART:20230312T100000
END:DAYLIGHT
BEGIN:STANDARD
TZOFFSETFROM:-0700
TZOFFSETTO:-0800
TZNAME:PST
DTSTART:20231105T090000
END:STANDARD
BEGIN:DAYLIGHT
TZOFFSETFROM:-0800
TZOFFSETTO:-0700
TZNAME:PDT
DTSTART:20240310T100000
END:DAYLIGHT
BEGIN:STANDARD
TZOFFSETFROM:-0700
TZOFFSETTO:-0800
TZNAME:PST
DTSTART:20241103T090000
END:STANDARD
BEGIN:DAYLIGHT
TZOFFSETFROM:-0800
TZOFFSETTO:-0700
TZNAME:PDT
DTSTART:20250309T100000
END:DAYLIGHT
BEGIN:STANDARD
TZOFFSETFROM:-0700
TZOFFSETTO:-0800
TZNAME:PST
DTSTART:20251102T090000
END:STANDARD
END:VTIMEZONE
BEGIN:VEVENT
DTSTART;TZID=America/Los_Angeles:20240521T100000
DTEND;TZID=America/Los_Angeles:20240521T230000
DTSTAMP:20260424T074936
CREATED:20240427T052701Z
LAST-MODIFIED:20240427T052701Z
UID:10001542-1716285600-1716332400@web2.d11s.org
SUMMARY:City of Santa Monica Mayor Brock presents Safe Boating Week proclamation
DESCRIPTION:Mayor Brock will present the Safe Boating Week proclamation for the City of Santa Monica to Division 12.
URL:https://web2.d11s.org/event/city-of-santa-monica-mayor-brock-presents-safe-boating-week-proclamation/
CATEGORIES:Special Event
END:VEVENT
BEGIN:VEVENT
DTSTART;TZID=America/Los_Angeles:20240521T100000
DTEND;TZID=America/Los_Angeles:20240521T140000
DTSTAMP:20260424T074936
CREATED:20240427T051600Z
LAST-MODIFIED:20240427T051600Z
UID:10001541-1716285600-1716300000@web2.d11s.org
SUMMARY:West Marine RBS outreach Marina Del Rey
DESCRIPTION:Staffing an RBS Outreach table in the store answering the public’s questions and encouraging safe boating and education.
URL:https://web2.d11s.org/event/west-marine-rbs-outreach-marina-del-rey/
CATEGORIES:Special Event
ATTACH;FMTTYPE=image/jpeg:https://web2.d11s.org/wp-content/uploads/2024/04/IMG_8418aa.jpg
END:VEVENT
END:VCALENDAR