BEGIN:VCALENDAR
VERSION:2.0
PRODID:-//US Coast Guard Auxiliary-D11S - ECPv6.15.20//NONSGML v1.0//EN
CALSCALE:GREGORIAN
METHOD:PUBLISH
X-WR-CALNAME:US Coast Guard Auxiliary-D11S
X-ORIGINAL-URL:https://web2.d11s.org
X-WR-CALDESC:Events for US Coast Guard Auxiliary-D11S
REFRESH-INTERVAL;VALUE=DURATION:PT1H
X-Robots-Tag:noindex
X-PUBLISHED-TTL:PT1H
BEGIN:VTIMEZONE
TZID:America/Los_Angeles
BEGIN:DAYLIGHT
TZOFFSETFROM:-0800
TZOFFSETTO:-0700
TZNAME:PDT
DTSTART:20250309T100000
END:DAYLIGHT
BEGIN:STANDARD
TZOFFSETFROM:-0700
TZOFFSETTO:-0800
TZNAME:PST
DTSTART:20251102T090000
END:STANDARD
BEGIN:DAYLIGHT
TZOFFSETFROM:-0800
TZOFFSETTO:-0700
TZNAME:PDT
DTSTART:20260308T100000
END:DAYLIGHT
BEGIN:STANDARD
TZOFFSETFROM:-0700
TZOFFSETTO:-0800
TZNAME:PST
DTSTART:20261101T090000
END:STANDARD
BEGIN:DAYLIGHT
TZOFFSETFROM:-0800
TZOFFSETTO:-0700
TZNAME:PDT
DTSTART:20270314T100000
END:DAYLIGHT
BEGIN:STANDARD
TZOFFSETFROM:-0700
TZOFFSETTO:-0800
TZNAME:PST
DTSTART:20271107T090000
END:STANDARD
END:VTIMEZONE
BEGIN:VEVENT
DTSTART;VALUE=DATE:20260516
DTEND;VALUE=DATE:20260517
DTSTAMP:20260423T121441
CREATED:20260409T213842Z
LAST-MODIFIED:20260409T215351Z
UID:10002170-1778889600-1778975999@web2.d11s.org
SUMMARY:Div 12 & 06 Torrance Armed Forces Day Parade
DESCRIPTION:Div 12 & 06 Torrance Armed Forces Day Parade\nSaturday\, May 16\nTorrance\nTorrance\, CA\, USA\nhttps://www.torranceca.gov/home/showpublishedimage/23981/638831819883170000
URL:https://web2.d11s.org/event/div-12-06-torrance-armed-forces-day-parade/
CATEGORIES:Special Event
ATTACH;FMTTYPE=image/png:https://web2.d11s.org/wp-content/uploads/2026/04/nsbc-wear-it-logo-transparent-8.png
END:VEVENT
BEGIN:VEVENT
DTSTART;VALUE=DATE:20260614
DTEND;VALUE=DATE:20260615
DTSTAMP:20260423T121441
CREATED:20260409T215641Z
LAST-MODIFIED:20260409T215641Z
UID:10002175-1781395200-1781481599@web2.d11s.org
SUMMARY:Div 06 Anaheim Flag Day Event
DESCRIPTION:Div 06 Anaheim Flag Day Event\nSunday\, June 14\nAnaheim\nAnaheim\, CA\, USA\nJUN 14        Anaheim Flag Day Event
URL:https://web2.d11s.org/event/div-06-anaheim-flag-day-event/
CATEGORIES:Special Event
ATTACH;FMTTYPE=image/png:https://web2.d11s.org/wp-content/uploads/2026/04/USCGAux_logo-min-1.png
END:VEVENT
BEGIN:VEVENT
DTSTART;TZID=America/Los_Angeles:20260704T090000
DTEND;TZID=America/Los_Angeles:20260704T140000
DTSTAMP:20260423T121441
CREATED:20260409T215836Z
LAST-MODIFIED:20260409T215836Z
UID:10002176-1783155600-1783173600@web2.d11s.org
SUMMARY:Div 06 Huntington Beach Parade
DESCRIPTION:Div 06 Huntington Beach Parade\nSaturday\, July 4\nHuntington Beach\nHuntington Beach\, CA\, USA\nJULY 4         Huntington Beach Parade
URL:https://web2.d11s.org/event/div-06-huntington-beach-parade/
CATEGORIES:Special Event
ATTACH;FMTTYPE=image/png:https://web2.d11s.org/wp-content/uploads/2026/04/USCGAux_logo-min-2.png
END:VEVENT
BEGIN:VEVENT
DTSTART;VALUE=DATE:20260925
DTEND;VALUE=DATE:20260928
DTSTAMP:20260423T121441
CREATED:20260409T220903Z
LAST-MODIFIED:20260409T220903Z
UID:10002181-1790294400-1790553599@web2.d11s.org
SUMMARY:Div 01 & 06 Miramar Air Show
DESCRIPTION:Div 01 & 06 Miramar Air Show\nSeptember 25 – 26\, 2026\nMiramar\nMiramar\, San Diego\, CA\, USA\nSEPT 25-27    Miramar Air Show
URL:https://web2.d11s.org/event/div-01-06-miramar-air-show/
CATEGORIES:Special Event
ATTACH;FMTTYPE=image/png:https://web2.d11s.org/wp-content/uploads/2026/04/nsbc-wear-it-logo-transparent-16.png
END:VEVENT
BEGIN:VEVENT
DTSTART;VALUE=DATE:20261003
DTEND;VALUE=DATE:20261005
DTSTAMP:20260423T121441
CREATED:20260409T221028Z
LAST-MODIFIED:20260409T221028Z
UID:10002182-1790985600-1791158399@web2.d11s.org
SUMMARY:Div 06 Pacific Air Show Huntington Beach
DESCRIPTION:Div 06 Pacific Air Show Huntington Beach\nOctober 3 – 4\, 2026\nOCT 3-4        Pacific Air Show Huntington Beach
URL:https://web2.d11s.org/event/div-06-pacific-air-show-huntington-beach/
CATEGORIES:Special Event
ATTACH;FMTTYPE=image/png:https://web2.d11s.org/wp-content/uploads/2026/04/nsbc-wear-it-logo-transparent-17.png
END:VEVENT
END:VCALENDAR