BEGIN:VCALENDAR
VERSION:2.0
PRODID:-//US Coast Guard Auxiliary-D11S - ECPv6.15.20//NONSGML v1.0//EN
CALSCALE:GREGORIAN
METHOD:PUBLISH
X-WR-CALNAME:US Coast Guard Auxiliary-D11S
X-ORIGINAL-URL:https://web2.d11s.org
X-WR-CALDESC:Events for US Coast Guard Auxiliary-D11S
REFRESH-INTERVAL;VALUE=DURATION:PT1H
X-Robots-Tag:noindex
X-PUBLISHED-TTL:PT1H
BEGIN:VTIMEZONE
TZID:America/Los_Angeles
BEGIN:DAYLIGHT
TZOFFSETFROM:-0800
TZOFFSETTO:-0700
TZNAME:PDT
DTSTART:20260308T100000
END:DAYLIGHT
BEGIN:STANDARD
TZOFFSETFROM:-0700
TZOFFSETTO:-0800
TZNAME:PST
DTSTART:20261101T090000
END:STANDARD
BEGIN:DAYLIGHT
TZOFFSETFROM:-0800
TZOFFSETTO:-0700
TZNAME:PDT
DTSTART:20270314T100000
END:DAYLIGHT
BEGIN:STANDARD
TZOFFSETFROM:-0700
TZOFFSETTO:-0800
TZNAME:PST
DTSTART:20271107T090000
END:STANDARD
BEGIN:DAYLIGHT
TZOFFSETFROM:-0800
TZOFFSETTO:-0700
TZNAME:PDT
DTSTART:20280312T100000
END:DAYLIGHT
BEGIN:STANDARD
TZOFFSETFROM:-0700
TZOFFSETTO:-0800
TZNAME:PST
DTSTART:20281105T090000
END:STANDARD
BEGIN:DAYLIGHT
TZOFFSETFROM:-0800
TZOFFSETTO:-0700
TZNAME:PDT
DTSTART:20290311T100000
END:DAYLIGHT
BEGIN:STANDARD
TZOFFSETFROM:-0700
TZOFFSETTO:-0800
TZNAME:PST
DTSTART:20291104T090000
END:STANDARD
BEGIN:DAYLIGHT
TZOFFSETFROM:-0800
TZOFFSETTO:-0700
TZNAME:PDT
DTSTART:20300310T100000
END:DAYLIGHT
BEGIN:STANDARD
TZOFFSETFROM:-0700
TZOFFSETTO:-0800
TZNAME:PST
DTSTART:20301103T090000
END:STANDARD
END:VTIMEZONE
BEGIN:VEVENT
DTSTART;TZID=America/Los_Angeles:20271108T183000
DTEND;TZID=America/Los_Angeles:20271108T200000
DTSTAMP:20260423T121537
CREATED:20240212T222904Z
LAST-MODIFIED:20240212T222904Z
UID:10001362-1825698600-1825704000@web2.d11s.org
SUMMARY:Division 114-07 Board Meeting
DESCRIPTION:Division 114-07 Board and Staff Officer Meeting. Held Monthly 2nd Monday of the month. Via Zoom.
URL:https://web2.d11s.org/event/division-114-07-board-meeting-2/2027-11-08/
CATEGORIES:Unit Meeting
ATTACH;FMTTYPE=image/jpeg:https://web2.d11s.org/wp-content/uploads/2024/02/Division11407-logo-good-2024-1.jpg
END:VEVENT
BEGIN:VEVENT
DTSTART;TZID=America/Los_Angeles:20280110T183000
DTEND;TZID=America/Los_Angeles:20280110T200000
DTSTAMP:20260423T121537
CREATED:20240212T222904Z
LAST-MODIFIED:20240212T222904Z
UID:10001363-1831141800-1831147200@web2.d11s.org
SUMMARY:Division 114-07 Board Meeting
DESCRIPTION:Division 114-07 Board and Staff Officer Meeting. Held Monthly 2nd Monday of the month. Via Zoom.
URL:https://web2.d11s.org/event/division-114-07-board-meeting-2/2028-01-10/
CATEGORIES:Unit Meeting
ATTACH;FMTTYPE=image/jpeg:https://web2.d11s.org/wp-content/uploads/2024/02/Division11407-logo-good-2024-1.jpg
END:VEVENT
BEGIN:VEVENT
DTSTART;TZID=America/Los_Angeles:20280313T183000
DTEND;TZID=America/Los_Angeles:20280313T200000
DTSTAMP:20260423T121537
CREATED:20240212T222904Z
LAST-MODIFIED:20240212T222904Z
UID:10001364-1836585000-1836590400@web2.d11s.org
SUMMARY:Division 114-07 Board Meeting
DESCRIPTION:Division 114-07 Board and Staff Officer Meeting. Held Monthly 2nd Monday of the month. Via Zoom.
URL:https://web2.d11s.org/event/division-114-07-board-meeting-2/2028-03-13/
CATEGORIES:Unit Meeting
ATTACH;FMTTYPE=image/jpeg:https://web2.d11s.org/wp-content/uploads/2024/02/Division11407-logo-good-2024-1.jpg
END:VEVENT
BEGIN:VEVENT
DTSTART;TZID=America/Los_Angeles:20280508T183000
DTEND;TZID=America/Los_Angeles:20280508T200000
DTSTAMP:20260423T121537
CREATED:20240212T222904Z
LAST-MODIFIED:20240212T222904Z
UID:10001365-1841423400-1841428800@web2.d11s.org
SUMMARY:Division 114-07 Board Meeting
DESCRIPTION:Division 114-07 Board and Staff Officer Meeting. Held Monthly 2nd Monday of the month. Via Zoom.
URL:https://web2.d11s.org/event/division-114-07-board-meeting-2/2028-05-08/
CATEGORIES:Unit Meeting
ATTACH;FMTTYPE=image/jpeg:https://web2.d11s.org/wp-content/uploads/2024/02/Division11407-logo-good-2024-1.jpg
END:VEVENT
BEGIN:VEVENT
DTSTART;TZID=America/Los_Angeles:20280710T183000
DTEND;TZID=America/Los_Angeles:20280710T200000
DTSTAMP:20260423T121537
CREATED:20240212T222904Z
LAST-MODIFIED:20240212T222904Z
UID:10001366-1846866600-1846872000@web2.d11s.org
SUMMARY:Division 114-07 Board Meeting
DESCRIPTION:Division 114-07 Board and Staff Officer Meeting. Held Monthly 2nd Monday of the month. Via Zoom.
URL:https://web2.d11s.org/event/division-114-07-board-meeting-2/2028-07-10/
CATEGORIES:Unit Meeting
ATTACH;FMTTYPE=image/jpeg:https://web2.d11s.org/wp-content/uploads/2024/02/Division11407-logo-good-2024-1.jpg
END:VEVENT
BEGIN:VEVENT
DTSTART;TZID=America/Los_Angeles:20280911T183000
DTEND;TZID=America/Los_Angeles:20280911T200000
DTSTAMP:20260423T121537
CREATED:20240212T222904Z
LAST-MODIFIED:20240212T222904Z
UID:10001367-1852309800-1852315200@web2.d11s.org
SUMMARY:Division 114-07 Board Meeting
DESCRIPTION:Division 114-07 Board and Staff Officer Meeting. Held Monthly 2nd Monday of the month. Via Zoom.
URL:https://web2.d11s.org/event/division-114-07-board-meeting-2/2028-09-11/
CATEGORIES:Unit Meeting
ATTACH;FMTTYPE=image/jpeg:https://web2.d11s.org/wp-content/uploads/2024/02/Division11407-logo-good-2024-1.jpg
END:VEVENT
BEGIN:VEVENT
DTSTART;TZID=America/Los_Angeles:20281113T183000
DTEND;TZID=America/Los_Angeles:20281113T200000
DTSTAMP:20260423T121537
CREATED:20240212T222904Z
LAST-MODIFIED:20240212T222904Z
UID:10001368-1857753000-1857758400@web2.d11s.org
SUMMARY:Division 114-07 Board Meeting
DESCRIPTION:Division 114-07 Board and Staff Officer Meeting. Held Monthly 2nd Monday of the month. Via Zoom.
URL:https://web2.d11s.org/event/division-114-07-board-meeting-2/2028-11-13/
CATEGORIES:Unit Meeting
ATTACH;FMTTYPE=image/jpeg:https://web2.d11s.org/wp-content/uploads/2024/02/Division11407-logo-good-2024-1.jpg
END:VEVENT
BEGIN:VEVENT
DTSTART;TZID=America/Los_Angeles:20290108T183000
DTEND;TZID=America/Los_Angeles:20290108T200000
DTSTAMP:20260423T121537
CREATED:20240212T222904Z
LAST-MODIFIED:20240212T222904Z
UID:10001369-1862591400-1862596800@web2.d11s.org
SUMMARY:Division 114-07 Board Meeting
DESCRIPTION:Division 114-07 Board and Staff Officer Meeting. Held Monthly 2nd Monday of the month. Via Zoom.
URL:https://web2.d11s.org/event/division-114-07-board-meeting-2/2029-01-08/
CATEGORIES:Unit Meeting
ATTACH;FMTTYPE=image/jpeg:https://web2.d11s.org/wp-content/uploads/2024/02/Division11407-logo-good-2024-1.jpg
END:VEVENT
END:VCALENDAR