BEGIN:VCALENDAR
VERSION:2.0
PRODID:-//US Coast Guard Auxiliary-D11S - ECPv6.15.20//NONSGML v1.0//EN
CALSCALE:GREGORIAN
METHOD:PUBLISH
X-WR-CALNAME:US Coast Guard Auxiliary-D11S
X-ORIGINAL-URL:https://web2.d11s.org
X-WR-CALDESC:Events for US Coast Guard Auxiliary-D11S
REFRESH-INTERVAL;VALUE=DURATION:PT1H
X-Robots-Tag:noindex
X-PUBLISHED-TTL:PT1H
BEGIN:VTIMEZONE
TZID:America/Los_Angeles
BEGIN:DAYLIGHT
TZOFFSETFROM:-0800
TZOFFSETTO:-0700
TZNAME:PDT
DTSTART:20220313T100000
END:DAYLIGHT
BEGIN:STANDARD
TZOFFSETFROM:-0700
TZOFFSETTO:-0800
TZNAME:PST
DTSTART:20221106T090000
END:STANDARD
BEGIN:DAYLIGHT
TZOFFSETFROM:-0800
TZOFFSETTO:-0700
TZNAME:PDT
DTSTART:20230312T100000
END:DAYLIGHT
BEGIN:STANDARD
TZOFFSETFROM:-0700
TZOFFSETTO:-0800
TZNAME:PST
DTSTART:20231105T090000
END:STANDARD
BEGIN:DAYLIGHT
TZOFFSETFROM:-0800
TZOFFSETTO:-0700
TZNAME:PDT
DTSTART:20240310T100000
END:DAYLIGHT
BEGIN:STANDARD
TZOFFSETFROM:-0700
TZOFFSETTO:-0800
TZNAME:PST
DTSTART:20241103T090000
END:STANDARD
END:VTIMEZONE
BEGIN:VEVENT
DTSTART;VALUE=DATE:20230627
DTEND;VALUE=DATE:20230629
DTSTAMP:20260423T154119
CREATED:20230605T194256Z
LAST-MODIFIED:20230605T211537Z
UID:10000137-1687824000-1687996799@web2.d11s.org
SUMMARY:USCG Station Channel Islands Fire Range Lookout Support
DESCRIPTION:USCG Station Channel Islands Fire Range Lookout Support\nJune 27 – 28\, 2023\nPoint Mugu Naval Air Station\nNAS Point Mugu\, CA 93041\, USA\nUSCG Fire Range Lookout Support\, for more information\, contact AUC Mike Brodey.\nUSCG Aux Division 11407
URL:https://web2.d11s.org/event/uscg-station-channel-islands-fire-range-lookout-support/
END:VEVENT
BEGIN:VEVENT
DTSTART;TZID=America/Los_Angeles:20230624T080000
DTEND;TZID=America/Los_Angeles:20230624T140000
DTSTAMP:20260423T154119
CREATED:20230605T193128Z
LAST-MODIFIED:20230605T193128Z
UID:10000136-1687593600-1687615200@web2.d11s.org
SUMMARY:VSC & RBS Outreach Lake Piru\, CA
DESCRIPTION:0800 Flotilla 73 Lake Piru RBS/VSC(VE)\nSaturday\, June 24\nLake Piru VSC and RBS Outreach. Flotilla Fellowship BBQ.\nUSCG Aux Division 11407\nConducted by Flotilla 114-07-03 (Thousand Oaks\, CA)
URL:https://web2.d11s.org/event/vsc-rbs-outreach-lake-piru-ca/
ATTACH;FMTTYPE=image/png:https://web2.d11s.org/wp-content/uploads/2023/06/VSC_active_VSCpage.png
END:VEVENT
BEGIN:VEVENT
DTSTART;VALUE=DATE:20230610
DTEND;VALUE=DATE:20230611
DTSTAMP:20260423T154119
CREATED:20230605T192151Z
LAST-MODIFIED:20230605T192151Z
UID:10000135-1686355200-1686441599@web2.d11s.org
SUMMARY:Boat America PE Class
DESCRIPTION:Boat America 0830AM\nSaturday\, June 10\nPort San Luis\nPort San Luis\, California 93405\, USA\nTaught by Flotilla 7-61Dave Naumann\, Mike Fiamingo (Trainee)\, Donna Banks
URL:https://web2.d11s.org/event/boat-america-pe-class/
ATTACH;FMTTYPE=image/jpeg:https://web2.d11s.org/wp-content/uploads/2023/06/Boat_America.jpg
END:VEVENT
END:VCALENDAR