BEGIN:VCALENDAR
VERSION:2.0
PRODID:-//US Coast Guard Auxiliary-D11S - ECPv6.15.20//NONSGML v1.0//EN
CALSCALE:GREGORIAN
METHOD:PUBLISH
X-ORIGINAL-URL:https://web2.d11s.org
X-WR-CALDESC:Events for US Coast Guard Auxiliary-D11S
REFRESH-INTERVAL;VALUE=DURATION:PT1H
X-Robots-Tag:noindex
X-PUBLISHED-TTL:PT1H
BEGIN:VTIMEZONE
TZID:America/Los_Angeles
BEGIN:DAYLIGHT
TZOFFSETFROM:-0800
TZOFFSETTO:-0700
TZNAME:PDT
DTSTART:20250309T100000
END:DAYLIGHT
BEGIN:STANDARD
TZOFFSETFROM:-0700
TZOFFSETTO:-0800
TZNAME:PST
DTSTART:20251102T090000
END:STANDARD
BEGIN:DAYLIGHT
TZOFFSETFROM:-0800
TZOFFSETTO:-0700
TZNAME:PDT
DTSTART:20260308T100000
END:DAYLIGHT
BEGIN:STANDARD
TZOFFSETFROM:-0700
TZOFFSETTO:-0800
TZNAME:PST
DTSTART:20261101T090000
END:STANDARD
BEGIN:DAYLIGHT
TZOFFSETFROM:-0800
TZOFFSETTO:-0700
TZNAME:PDT
DTSTART:20270314T100000
END:DAYLIGHT
BEGIN:STANDARD
TZOFFSETFROM:-0700
TZOFFSETTO:-0800
TZNAME:PST
DTSTART:20271107T090000
END:STANDARD
BEGIN:DAYLIGHT
TZOFFSETFROM:-0800
TZOFFSETTO:-0700
TZNAME:PDT
DTSTART:20280312T100000
END:DAYLIGHT
BEGIN:STANDARD
TZOFFSETFROM:-0700
TZOFFSETTO:-0800
TZNAME:PST
DTSTART:20281105T090000
END:STANDARD
BEGIN:DAYLIGHT
TZOFFSETFROM:-0800
TZOFFSETTO:-0700
TZNAME:PDT
DTSTART:20290311T100000
END:DAYLIGHT
BEGIN:STANDARD
TZOFFSETFROM:-0700
TZOFFSETTO:-0800
TZNAME:PST
DTSTART:20291104T090000
END:STANDARD
END:VTIMEZONE
BEGIN:VEVENT
DTSTART;TZID=America/Los_Angeles:20260514T180000
DTEND;TZID=America/Los_Angeles:20260514T200000
DTSTAMP:20260423T135207
CREATED:20240118T214118Z
LAST-MODIFIED:20240118T214118Z
UID:10001298-1778781600-1778788800@web2.d11s.org
SUMMARY:Monthly Meeting
DESCRIPTION:Flotilla 09-05
URL:https://web2.d11s.org/event/monthly-meeting-2/2026-05-14/
END:VEVENT
BEGIN:VEVENT
DTSTART;TZID=America/Los_Angeles:20260611T180000
DTEND;TZID=America/Los_Angeles:20260611T200000
DTSTAMP:20260423T135207
CREATED:20240118T214118Z
LAST-MODIFIED:20240118T214118Z
UID:10001299-1781200800-1781208000@web2.d11s.org
SUMMARY:Monthly Meeting
DESCRIPTION:Flotilla 09-05
URL:https://web2.d11s.org/event/monthly-meeting-2/2026-06-11/
END:VEVENT
BEGIN:VEVENT
DTSTART;TZID=America/Los_Angeles:20260709T180000
DTEND;TZID=America/Los_Angeles:20260709T200000
DTSTAMP:20260423T135207
CREATED:20240118T214118Z
LAST-MODIFIED:20240118T214118Z
UID:10001300-1783620000-1783627200@web2.d11s.org
SUMMARY:Monthly Meeting
DESCRIPTION:Flotilla 09-05
URL:https://web2.d11s.org/event/monthly-meeting-2/2026-07-09/
END:VEVENT
BEGIN:VEVENT
DTSTART;TZID=America/Los_Angeles:20260813T180000
DTEND;TZID=America/Los_Angeles:20260813T200000
DTSTAMP:20260423T135207
CREATED:20240118T214118Z
LAST-MODIFIED:20240118T214118Z
UID:10001301-1786644000-1786651200@web2.d11s.org
SUMMARY:Monthly Meeting
DESCRIPTION:Flotilla 09-05
URL:https://web2.d11s.org/event/monthly-meeting-2/2026-08-13/
END:VEVENT
BEGIN:VEVENT
DTSTART;TZID=America/Los_Angeles:20260910T180000
DTEND;TZID=America/Los_Angeles:20260910T200000
DTSTAMP:20260423T135207
CREATED:20240118T214118Z
LAST-MODIFIED:20240118T214118Z
UID:10001302-1789063200-1789070400@web2.d11s.org
SUMMARY:Monthly Meeting
DESCRIPTION:Flotilla 09-05
URL:https://web2.d11s.org/event/monthly-meeting-2/2026-09-10/
END:VEVENT
BEGIN:VEVENT
DTSTART;TZID=America/Los_Angeles:20261008T180000
DTEND;TZID=America/Los_Angeles:20261008T200000
DTSTAMP:20260423T135207
CREATED:20240118T214118Z
LAST-MODIFIED:20240118T214118Z
UID:10001303-1791482400-1791489600@web2.d11s.org
SUMMARY:Monthly Meeting
DESCRIPTION:Flotilla 09-05
URL:https://web2.d11s.org/event/monthly-meeting-2/2026-10-08/
END:VEVENT
BEGIN:VEVENT
DTSTART;TZID=America/Los_Angeles:20261112T180000
DTEND;TZID=America/Los_Angeles:20261112T200000
DTSTAMP:20260423T135207
CREATED:20240118T214118Z
LAST-MODIFIED:20240118T214118Z
UID:10001304-1794506400-1794513600@web2.d11s.org
SUMMARY:Monthly Meeting
DESCRIPTION:Flotilla 09-05
URL:https://web2.d11s.org/event/monthly-meeting-2/2026-11-12/
END:VEVENT
BEGIN:VEVENT
DTSTART;TZID=America/Los_Angeles:20261210T180000
DTEND;TZID=America/Los_Angeles:20261210T200000
DTSTAMP:20260423T135207
CREATED:20240118T214118Z
LAST-MODIFIED:20240118T214118Z
UID:10001305-1796925600-1796932800@web2.d11s.org
SUMMARY:Monthly Meeting
DESCRIPTION:Flotilla 09-05
URL:https://web2.d11s.org/event/monthly-meeting-2/2026-12-10/
END:VEVENT
BEGIN:VEVENT
DTSTART;TZID=America/Los_Angeles:20270114T180000
DTEND;TZID=America/Los_Angeles:20270114T200000
DTSTAMP:20260423T135207
CREATED:20240118T214118Z
LAST-MODIFIED:20240118T214118Z
UID:10001306-1799949600-1799956800@web2.d11s.org
SUMMARY:Monthly Meeting
DESCRIPTION:Flotilla 09-05
URL:https://web2.d11s.org/event/monthly-meeting-2/2027-01-14/
END:VEVENT
BEGIN:VEVENT
DTSTART;TZID=America/Los_Angeles:20270211T180000
DTEND;TZID=America/Los_Angeles:20270211T200000
DTSTAMP:20260423T135207
CREATED:20240118T214118Z
LAST-MODIFIED:20240118T214118Z
UID:10001307-1802368800-1802376000@web2.d11s.org
SUMMARY:Monthly Meeting
DESCRIPTION:Flotilla 09-05
URL:https://web2.d11s.org/event/monthly-meeting-2/2027-02-11/
END:VEVENT
BEGIN:VEVENT
DTSTART;TZID=America/Los_Angeles:20270311T180000
DTEND;TZID=America/Los_Angeles:20270311T200000
DTSTAMP:20260423T135207
CREATED:20240118T214118Z
LAST-MODIFIED:20240118T214118Z
UID:10001308-1804788000-1804795200@web2.d11s.org
SUMMARY:Monthly Meeting
DESCRIPTION:Flotilla 09-05
URL:https://web2.d11s.org/event/monthly-meeting-2/2027-03-11/
END:VEVENT
BEGIN:VEVENT
DTSTART;TZID=America/Los_Angeles:20270408T180000
DTEND;TZID=America/Los_Angeles:20270408T200000
DTSTAMP:20260423T135207
CREATED:20240118T214118Z
LAST-MODIFIED:20240118T214118Z
UID:10001309-1807207200-1807214400@web2.d11s.org
SUMMARY:Monthly Meeting
DESCRIPTION:Flotilla 09-05
URL:https://web2.d11s.org/event/monthly-meeting-2/2027-04-08/
END:VEVENT
BEGIN:VEVENT
DTSTART;TZID=America/Los_Angeles:20270513T180000
DTEND;TZID=America/Los_Angeles:20270513T200000
DTSTAMP:20260423T135207
CREATED:20240118T214118Z
LAST-MODIFIED:20240118T214118Z
UID:10001310-1810231200-1810238400@web2.d11s.org
SUMMARY:Monthly Meeting
DESCRIPTION:Flotilla 09-05
URL:https://web2.d11s.org/event/monthly-meeting-2/2027-05-13/
END:VEVENT
BEGIN:VEVENT
DTSTART;TZID=America/Los_Angeles:20270610T180000
DTEND;TZID=America/Los_Angeles:20270610T200000
DTSTAMP:20260423T135207
CREATED:20240118T214118Z
LAST-MODIFIED:20240118T214118Z
UID:10001311-1812650400-1812657600@web2.d11s.org
SUMMARY:Monthly Meeting
DESCRIPTION:Flotilla 09-05
URL:https://web2.d11s.org/event/monthly-meeting-2/2027-06-10/
END:VEVENT
BEGIN:VEVENT
DTSTART;TZID=America/Los_Angeles:20270708T180000
DTEND;TZID=America/Los_Angeles:20270708T200000
DTSTAMP:20260423T135207
CREATED:20240118T214118Z
LAST-MODIFIED:20240118T214118Z
UID:10001312-1815069600-1815076800@web2.d11s.org
SUMMARY:Monthly Meeting
DESCRIPTION:Flotilla 09-05
URL:https://web2.d11s.org/event/monthly-meeting-2/2027-07-08/
END:VEVENT
BEGIN:VEVENT
DTSTART;TZID=America/Los_Angeles:20270812T180000
DTEND;TZID=America/Los_Angeles:20270812T200000
DTSTAMP:20260423T135207
CREATED:20240118T214118Z
LAST-MODIFIED:20240118T214118Z
UID:10001313-1818093600-1818100800@web2.d11s.org
SUMMARY:Monthly Meeting
DESCRIPTION:Flotilla 09-05
URL:https://web2.d11s.org/event/monthly-meeting-2/2027-08-12/
END:VEVENT
BEGIN:VEVENT
DTSTART;TZID=America/Los_Angeles:20270909T180000
DTEND;TZID=America/Los_Angeles:20270909T200000
DTSTAMP:20260423T135207
CREATED:20240118T214118Z
LAST-MODIFIED:20240118T214118Z
UID:10001314-1820512800-1820520000@web2.d11s.org
SUMMARY:Monthly Meeting
DESCRIPTION:Flotilla 09-05
URL:https://web2.d11s.org/event/monthly-meeting-2/2027-09-09/
END:VEVENT
BEGIN:VEVENT
DTSTART;TZID=America/Los_Angeles:20271014T180000
DTEND;TZID=America/Los_Angeles:20271014T200000
DTSTAMP:20260423T135207
CREATED:20240118T214118Z
LAST-MODIFIED:20240118T214118Z
UID:10001315-1823536800-1823544000@web2.d11s.org
SUMMARY:Monthly Meeting
DESCRIPTION:Flotilla 09-05
URL:https://web2.d11s.org/event/monthly-meeting-2/2027-10-14/
END:VEVENT
BEGIN:VEVENT
DTSTART;TZID=America/Los_Angeles:20271111T180000
DTEND;TZID=America/Los_Angeles:20271111T200000
DTSTAMP:20260423T135207
CREATED:20240118T214118Z
LAST-MODIFIED:20240118T214118Z
UID:10001316-1825956000-1825963200@web2.d11s.org
SUMMARY:Monthly Meeting
DESCRIPTION:Flotilla 09-05
URL:https://web2.d11s.org/event/monthly-meeting-2/2027-11-11/
END:VEVENT
BEGIN:VEVENT
DTSTART;TZID=America/Los_Angeles:20271209T180000
DTEND;TZID=America/Los_Angeles:20271209T200000
DTSTAMP:20260423T135207
CREATED:20240118T214118Z
LAST-MODIFIED:20240118T214118Z
UID:10001317-1828375200-1828382400@web2.d11s.org
SUMMARY:Monthly Meeting
DESCRIPTION:Flotilla 09-05
URL:https://web2.d11s.org/event/monthly-meeting-2/2027-12-09/
END:VEVENT
BEGIN:VEVENT
DTSTART;TZID=America/Los_Angeles:20280113T180000
DTEND;TZID=America/Los_Angeles:20280113T200000
DTSTAMP:20260423T135207
CREATED:20240118T214118Z
LAST-MODIFIED:20240118T214118Z
UID:10001318-1831399200-1831406400@web2.d11s.org
SUMMARY:Monthly Meeting
DESCRIPTION:Flotilla 09-05
URL:https://web2.d11s.org/event/monthly-meeting-2/2028-01-13/
END:VEVENT
BEGIN:VEVENT
DTSTART;TZID=America/Los_Angeles:20280210T180000
DTEND;TZID=America/Los_Angeles:20280210T200000
DTSTAMP:20260423T135207
CREATED:20240118T214118Z
LAST-MODIFIED:20240118T214118Z
UID:10001319-1833818400-1833825600@web2.d11s.org
SUMMARY:Monthly Meeting
DESCRIPTION:Flotilla 09-05
URL:https://web2.d11s.org/event/monthly-meeting-2/2028-02-10/
END:VEVENT
BEGIN:VEVENT
DTSTART;TZID=America/Los_Angeles:20280309T180000
DTEND;TZID=America/Los_Angeles:20280309T200000
DTSTAMP:20260423T135207
CREATED:20240118T214118Z
LAST-MODIFIED:20240118T214118Z
UID:10001320-1836237600-1836244800@web2.d11s.org
SUMMARY:Monthly Meeting
DESCRIPTION:Flotilla 09-05
URL:https://web2.d11s.org/event/monthly-meeting-2/2028-03-09/
END:VEVENT
BEGIN:VEVENT
DTSTART;TZID=America/Los_Angeles:20280413T180000
DTEND;TZID=America/Los_Angeles:20280413T200000
DTSTAMP:20260423T135207
CREATED:20240118T214118Z
LAST-MODIFIED:20240118T214118Z
UID:10001321-1839261600-1839268800@web2.d11s.org
SUMMARY:Monthly Meeting
DESCRIPTION:Flotilla 09-05
URL:https://web2.d11s.org/event/monthly-meeting-2/2028-04-13/
END:VEVENT
BEGIN:VEVENT
DTSTART;TZID=America/Los_Angeles:20280511T180000
DTEND;TZID=America/Los_Angeles:20280511T200000
DTSTAMP:20260423T135207
CREATED:20240118T214118Z
LAST-MODIFIED:20240118T214118Z
UID:10001322-1841680800-1841688000@web2.d11s.org
SUMMARY:Monthly Meeting
DESCRIPTION:Flotilla 09-05
URL:https://web2.d11s.org/event/monthly-meeting-2/2028-05-11/
END:VEVENT
BEGIN:VEVENT
DTSTART;TZID=America/Los_Angeles:20280608T180000
DTEND;TZID=America/Los_Angeles:20280608T200000
DTSTAMP:20260423T135207
CREATED:20240118T214118Z
LAST-MODIFIED:20240118T214118Z
UID:10001323-1844100000-1844107200@web2.d11s.org
SUMMARY:Monthly Meeting
DESCRIPTION:Flotilla 09-05
URL:https://web2.d11s.org/event/monthly-meeting-2/2028-06-08/
END:VEVENT
BEGIN:VEVENT
DTSTART;TZID=America/Los_Angeles:20280713T180000
DTEND;TZID=America/Los_Angeles:20280713T200000
DTSTAMP:20260423T135207
CREATED:20240118T214118Z
LAST-MODIFIED:20240118T214118Z
UID:10001324-1847124000-1847131200@web2.d11s.org
SUMMARY:Monthly Meeting
DESCRIPTION:Flotilla 09-05
URL:https://web2.d11s.org/event/monthly-meeting-2/2028-07-13/
END:VEVENT
BEGIN:VEVENT
DTSTART;TZID=America/Los_Angeles:20280810T180000
DTEND;TZID=America/Los_Angeles:20280810T200000
DTSTAMP:20260423T135207
CREATED:20240118T214118Z
LAST-MODIFIED:20240118T214118Z
UID:10001325-1849543200-1849550400@web2.d11s.org
SUMMARY:Monthly Meeting
DESCRIPTION:Flotilla 09-05
URL:https://web2.d11s.org/event/monthly-meeting-2/2028-08-10/
END:VEVENT
BEGIN:VEVENT
DTSTART;TZID=America/Los_Angeles:20280914T180000
DTEND;TZID=America/Los_Angeles:20280914T200000
DTSTAMP:20260423T135207
CREATED:20240118T214118Z
LAST-MODIFIED:20240118T214118Z
UID:10001326-1852567200-1852574400@web2.d11s.org
SUMMARY:Monthly Meeting
DESCRIPTION:Flotilla 09-05
URL:https://web2.d11s.org/event/monthly-meeting-2/2028-09-14/
END:VEVENT
BEGIN:VEVENT
DTSTART;TZID=America/Los_Angeles:20281012T180000
DTEND;TZID=America/Los_Angeles:20281012T200000
DTSTAMP:20260423T135207
CREATED:20240118T214118Z
LAST-MODIFIED:20240118T214118Z
UID:10001327-1854986400-1854993600@web2.d11s.org
SUMMARY:Monthly Meeting
DESCRIPTION:Flotilla 09-05
URL:https://web2.d11s.org/event/monthly-meeting-2/2028-10-12/
END:VEVENT
END:VCALENDAR