BEGIN:VCALENDAR
VERSION:2.0
PRODID:-//US Coast Guard Auxiliary-D11S - ECPv6.15.20//NONSGML v1.0//EN
CALSCALE:GREGORIAN
METHOD:PUBLISH
X-ORIGINAL-URL:https://web2.d11s.org
X-WR-CALDESC:Events for US Coast Guard Auxiliary-D11S
REFRESH-INTERVAL;VALUE=DURATION:PT1H
X-Robots-Tag:noindex
X-PUBLISHED-TTL:PT1H
BEGIN:VTIMEZONE
TZID:America/Los_Angeles
BEGIN:DAYLIGHT
TZOFFSETFROM:-0800
TZOFFSETTO:-0700
TZNAME:PDT
DTSTART:20230312T100000
END:DAYLIGHT
BEGIN:STANDARD
TZOFFSETFROM:-0700
TZOFFSETTO:-0800
TZNAME:PST
DTSTART:20231105T090000
END:STANDARD
BEGIN:DAYLIGHT
TZOFFSETFROM:-0800
TZOFFSETTO:-0700
TZNAME:PDT
DTSTART:20240310T100000
END:DAYLIGHT
BEGIN:STANDARD
TZOFFSETFROM:-0700
TZOFFSETTO:-0800
TZNAME:PST
DTSTART:20241103T090000
END:STANDARD
BEGIN:DAYLIGHT
TZOFFSETFROM:-0800
TZOFFSETTO:-0700
TZNAME:PDT
DTSTART:20250309T100000
END:DAYLIGHT
BEGIN:STANDARD
TZOFFSETFROM:-0700
TZOFFSETTO:-0800
TZNAME:PST
DTSTART:20251102T090000
END:STANDARD
END:VTIMEZONE
BEGIN:VEVENT
DTSTART;TZID=America/Los_Angeles:20240411T180000
DTEND;TZID=America/Los_Angeles:20240411T200000
DTSTAMP:20260423T173208
CREATED:20240118T214118Z
LAST-MODIFIED:20240118T214118Z
UID:10001273-1712858400-1712865600@web2.d11s.org
SUMMARY:Monthly Meeting
DESCRIPTION:Flotilla 09-05
URL:https://web2.d11s.org/event/monthly-meeting-2/2024-04-11/
END:VEVENT
BEGIN:VEVENT
DTSTART;TZID=America/Los_Angeles:20240314T180000
DTEND;TZID=America/Los_Angeles:20240314T200000
DTSTAMP:20260423T173208
CREATED:20240214T192943Z
LAST-MODIFIED:20240214T192943Z
UID:10001429-1710439200-1710446400@web2.d11s.org
SUMMARY:Flotilla 9-5 Monthly Meeting
DESCRIPTION:Monthly meeting for Flotilla 9-5
URL:https://web2.d11s.org/event/flotilla-9-5-monthly-meeting/
LOCATION:Hybrid
CATEGORIES:Unit Meeting
END:VEVENT
BEGIN:VEVENT
DTSTART;TZID=America/Los_Angeles:20240314T180000
DTEND;TZID=America/Los_Angeles:20240314T200000
DTSTAMP:20260423T173208
CREATED:20240118T214118Z
LAST-MODIFIED:20240118T214118Z
UID:10001272-1710439200-1710446400@web2.d11s.org
SUMMARY:Monthly Meeting
DESCRIPTION:Flotilla 09-05
URL:https://web2.d11s.org/event/monthly-meeting-2/2024-03-14/
END:VEVENT
BEGIN:VEVENT
DTSTART;TZID=America/Los_Angeles:20240208T180000
DTEND;TZID=America/Los_Angeles:20240208T200000
DTSTAMP:20260423T173208
CREATED:20240118T214118Z
LAST-MODIFIED:20240118T214118Z
UID:10001271-1707415200-1707422400@web2.d11s.org
SUMMARY:Monthly Meeting
DESCRIPTION:Flotilla 09-05
URL:https://web2.d11s.org/event/monthly-meeting-2/2024-02-08/
END:VEVENT
END:VCALENDAR