BEGIN:VCALENDAR
VERSION:2.0
PRODID:-//US Coast Guard Auxiliary-D11S - ECPv6.15.20//NONSGML v1.0//EN
CALSCALE:GREGORIAN
METHOD:PUBLISH
X-ORIGINAL-URL:https://web2.d11s.org
X-WR-CALDESC:Events for US Coast Guard Auxiliary-D11S
REFRESH-INTERVAL;VALUE=DURATION:PT1H
X-Robots-Tag:noindex
X-PUBLISHED-TTL:PT1H
BEGIN:VTIMEZONE
TZID:America/Los_Angeles
BEGIN:DAYLIGHT
TZOFFSETFROM:-0800
TZOFFSETTO:-0700
TZNAME:PDT
DTSTART:20230312T100000
END:DAYLIGHT
BEGIN:STANDARD
TZOFFSETFROM:-0700
TZOFFSETTO:-0800
TZNAME:PST
DTSTART:20231105T090000
END:STANDARD
BEGIN:DAYLIGHT
TZOFFSETFROM:-0800
TZOFFSETTO:-0700
TZNAME:PDT
DTSTART:20240310T100000
END:DAYLIGHT
BEGIN:STANDARD
TZOFFSETFROM:-0700
TZOFFSETTO:-0800
TZNAME:PST
DTSTART:20241103T090000
END:STANDARD
BEGIN:DAYLIGHT
TZOFFSETFROM:-0800
TZOFFSETTO:-0700
TZNAME:PDT
DTSTART:20250309T100000
END:DAYLIGHT
BEGIN:STANDARD
TZOFFSETFROM:-0700
TZOFFSETTO:-0800
TZNAME:PST
DTSTART:20251102T090000
END:STANDARD
BEGIN:DAYLIGHT
TZOFFSETFROM:-0800
TZOFFSETTO:-0700
TZNAME:PDT
DTSTART:20260308T100000
END:DAYLIGHT
BEGIN:STANDARD
TZOFFSETFROM:-0700
TZOFFSETTO:-0800
TZNAME:PST
DTSTART:20261101T090000
END:STANDARD
BEGIN:DAYLIGHT
TZOFFSETFROM:-0800
TZOFFSETTO:-0700
TZNAME:PDT
DTSTART:20270314T100000
END:DAYLIGHT
BEGIN:STANDARD
TZOFFSETFROM:-0700
TZOFFSETTO:-0800
TZNAME:PST
DTSTART:20271107T090000
END:STANDARD
END:VTIMEZONE
BEGIN:VEVENT
DTSTART;TZID=America/Los_Angeles:20260325T180000
DTEND;TZID=America/Los_Angeles:20260325T200000
DTSTAMP:20260423T122030
CREATED:20231019T180854Z
LAST-MODIFIED:20231019T180854Z
UID:10001151-1774461600-1774468800@web2.d11s.org
SUMMARY:Flotilla 96 Meeting
DESCRIPTION:Flotilla 114-09-06 Las Vegas Monthly Meeting
URL:https://web2.d11s.org/event/flotilla-96-meeting/2026-03-25/
LOCATION:In Person
CATEGORIES:Member Training,Unit Meeting
END:VEVENT
BEGIN:VEVENT
DTSTART;TZID=America/Los_Angeles:20260225T180000
DTEND;TZID=America/Los_Angeles:20260225T200000
DTSTAMP:20260423T122030
CREATED:20231019T180854Z
LAST-MODIFIED:20231019T180854Z
UID:10001150-1772042400-1772049600@web2.d11s.org
SUMMARY:Flotilla 96 Meeting
DESCRIPTION:Flotilla 114-09-06 Las Vegas Monthly Meeting
URL:https://web2.d11s.org/event/flotilla-96-meeting/2026-02-25/
LOCATION:In Person
CATEGORIES:Member Training,Unit Meeting
END:VEVENT
BEGIN:VEVENT
DTSTART;TZID=America/Los_Angeles:20260128T180000
DTEND;TZID=America/Los_Angeles:20260128T200000
DTSTAMP:20260423T122030
CREATED:20231019T180854Z
LAST-MODIFIED:20231019T180854Z
UID:10001149-1769623200-1769630400@web2.d11s.org
SUMMARY:Flotilla 96 Meeting
DESCRIPTION:Flotilla 114-09-06 Las Vegas Monthly Meeting
URL:https://web2.d11s.org/event/flotilla-96-meeting/2026-01-28/
LOCATION:In Person
CATEGORIES:Member Training,Unit Meeting
END:VEVENT
BEGIN:VEVENT
DTSTART;TZID=America/Los_Angeles:20251231T180000
DTEND;TZID=America/Los_Angeles:20251231T200000
DTSTAMP:20260423T122030
CREATED:20231019T180854Z
LAST-MODIFIED:20231019T180854Z
UID:10001148-1767204000-1767211200@web2.d11s.org
SUMMARY:Flotilla 96 Meeting
DESCRIPTION:Flotilla 114-09-06 Las Vegas Monthly Meeting
URL:https://web2.d11s.org/event/flotilla-96-meeting/2025-12-31/
LOCATION:In Person
CATEGORIES:Member Training,Unit Meeting
END:VEVENT
BEGIN:VEVENT
DTSTART;TZID=America/Los_Angeles:20251126T180000
DTEND;TZID=America/Los_Angeles:20251126T200000
DTSTAMP:20260423T122030
CREATED:20231019T180854Z
LAST-MODIFIED:20231019T180854Z
UID:10001147-1764180000-1764187200@web2.d11s.org
SUMMARY:Flotilla 96 Meeting
DESCRIPTION:Flotilla 114-09-06 Las Vegas Monthly Meeting
URL:https://web2.d11s.org/event/flotilla-96-meeting/2025-11-26/
LOCATION:In Person
CATEGORIES:Member Training,Unit Meeting
END:VEVENT
BEGIN:VEVENT
DTSTART;TZID=America/Los_Angeles:20251029T180000
DTEND;TZID=America/Los_Angeles:20251029T200000
DTSTAMP:20260423T122030
CREATED:20231019T180854Z
LAST-MODIFIED:20231019T180854Z
UID:10001146-1761760800-1761768000@web2.d11s.org
SUMMARY:Flotilla 96 Meeting
DESCRIPTION:Flotilla 114-09-06 Las Vegas Monthly Meeting
URL:https://web2.d11s.org/event/flotilla-96-meeting/2025-10-29/
LOCATION:In Person
CATEGORIES:Member Training,Unit Meeting
END:VEVENT
BEGIN:VEVENT
DTSTART;TZID=America/Los_Angeles:20250924T180000
DTEND;TZID=America/Los_Angeles:20250924T200000
DTSTAMP:20260423T122030
CREATED:20231019T180854Z
LAST-MODIFIED:20231019T180854Z
UID:10001145-1758736800-1758744000@web2.d11s.org
SUMMARY:Flotilla 96 Meeting
DESCRIPTION:Flotilla 114-09-06 Las Vegas Monthly Meeting
URL:https://web2.d11s.org/event/flotilla-96-meeting/2025-09-24/
LOCATION:In Person
CATEGORIES:Member Training,Unit Meeting
END:VEVENT
BEGIN:VEVENT
DTSTART;TZID=America/Los_Angeles:20250827T180000
DTEND;TZID=America/Los_Angeles:20250827T200000
DTSTAMP:20260423T122030
CREATED:20231019T180854Z
LAST-MODIFIED:20231019T180854Z
UID:10001144-1756317600-1756324800@web2.d11s.org
SUMMARY:Flotilla 96 Meeting
DESCRIPTION:Flotilla 114-09-06 Las Vegas Monthly Meeting
URL:https://web2.d11s.org/event/flotilla-96-meeting/2025-08-27/
LOCATION:In Person
CATEGORIES:Member Training,Unit Meeting
END:VEVENT
BEGIN:VEVENT
DTSTART;TZID=America/Los_Angeles:20250730T180000
DTEND;TZID=America/Los_Angeles:20250730T200000
DTSTAMP:20260423T122030
CREATED:20231019T180854Z
LAST-MODIFIED:20231019T180854Z
UID:10001143-1753898400-1753905600@web2.d11s.org
SUMMARY:Flotilla 96 Meeting
DESCRIPTION:Flotilla 114-09-06 Las Vegas Monthly Meeting
URL:https://web2.d11s.org/event/flotilla-96-meeting/2025-07-30/
LOCATION:In Person
CATEGORIES:Member Training,Unit Meeting
END:VEVENT
BEGIN:VEVENT
DTSTART;TZID=America/Los_Angeles:20250625T180000
DTEND;TZID=America/Los_Angeles:20250625T200000
DTSTAMP:20260423T122030
CREATED:20231019T180854Z
LAST-MODIFIED:20231019T180854Z
UID:10001142-1750874400-1750881600@web2.d11s.org
SUMMARY:Flotilla 96 Meeting
DESCRIPTION:Flotilla 114-09-06 Las Vegas Monthly Meeting
URL:https://web2.d11s.org/event/flotilla-96-meeting/2025-06-25/
LOCATION:In Person
CATEGORIES:Member Training,Unit Meeting
END:VEVENT
BEGIN:VEVENT
DTSTART;TZID=America/Los_Angeles:20250528T180000
DTEND;TZID=America/Los_Angeles:20250528T200000
DTSTAMP:20260423T122030
CREATED:20231019T180854Z
LAST-MODIFIED:20231019T180854Z
UID:10001141-1748455200-1748462400@web2.d11s.org
SUMMARY:Flotilla 96 Meeting
DESCRIPTION:Flotilla 114-09-06 Las Vegas Monthly Meeting
URL:https://web2.d11s.org/event/flotilla-96-meeting/2025-05-28/
LOCATION:In Person
CATEGORIES:Member Training,Unit Meeting
END:VEVENT
BEGIN:VEVENT
DTSTART;TZID=America/Los_Angeles:20250430T180000
DTEND;TZID=America/Los_Angeles:20250430T200000
DTSTAMP:20260423T122030
CREATED:20231019T180854Z
LAST-MODIFIED:20231019T180854Z
UID:10001140-1746036000-1746043200@web2.d11s.org
SUMMARY:Flotilla 96 Meeting
DESCRIPTION:Flotilla 114-09-06 Las Vegas Monthly Meeting
URL:https://web2.d11s.org/event/flotilla-96-meeting/2025-04-30/
LOCATION:In Person
CATEGORIES:Member Training,Unit Meeting
END:VEVENT
BEGIN:VEVENT
DTSTART;TZID=America/Los_Angeles:20250326T180000
DTEND;TZID=America/Los_Angeles:20250326T200000
DTSTAMP:20260423T122030
CREATED:20231019T180854Z
LAST-MODIFIED:20231019T180854Z
UID:10001139-1743012000-1743019200@web2.d11s.org
SUMMARY:Flotilla 96 Meeting
DESCRIPTION:Flotilla 114-09-06 Las Vegas Monthly Meeting
URL:https://web2.d11s.org/event/flotilla-96-meeting/2025-03-26/
LOCATION:In Person
CATEGORIES:Member Training,Unit Meeting
END:VEVENT
BEGIN:VEVENT
DTSTART;TZID=America/Los_Angeles:20250226T180000
DTEND;TZID=America/Los_Angeles:20250226T200000
DTSTAMP:20260423T122030
CREATED:20231019T180854Z
LAST-MODIFIED:20231019T180854Z
UID:10001138-1740592800-1740600000@web2.d11s.org
SUMMARY:Flotilla 96 Meeting
DESCRIPTION:Flotilla 114-09-06 Las Vegas Monthly Meeting
URL:https://web2.d11s.org/event/flotilla-96-meeting/2025-02-26/
LOCATION:In Person
CATEGORIES:Member Training,Unit Meeting
END:VEVENT
BEGIN:VEVENT
DTSTART;TZID=America/Los_Angeles:20250129T180000
DTEND;TZID=America/Los_Angeles:20250129T200000
DTSTAMP:20260423T122031
CREATED:20231019T180854Z
LAST-MODIFIED:20231019T180854Z
UID:10001137-1738173600-1738180800@web2.d11s.org
SUMMARY:Flotilla 96 Meeting
DESCRIPTION:Flotilla 114-09-06 Las Vegas Monthly Meeting
URL:https://web2.d11s.org/event/flotilla-96-meeting/2025-01-29/
LOCATION:In Person
CATEGORIES:Member Training,Unit Meeting
END:VEVENT
BEGIN:VEVENT
DTSTART;TZID=America/Los_Angeles:20241225T180000
DTEND;TZID=America/Los_Angeles:20241225T200000
DTSTAMP:20260423T122031
CREATED:20231019T180854Z
LAST-MODIFIED:20231019T180854Z
UID:10001136-1735149600-1735156800@web2.d11s.org
SUMMARY:Flotilla 96 Meeting
DESCRIPTION:Flotilla 114-09-06 Las Vegas Monthly Meeting
URL:https://web2.d11s.org/event/flotilla-96-meeting/2024-12-25/
LOCATION:In Person
CATEGORIES:Member Training,Unit Meeting
END:VEVENT
BEGIN:VEVENT
DTSTART;TZID=America/Los_Angeles:20241127T180000
DTEND;TZID=America/Los_Angeles:20241127T200000
DTSTAMP:20260423T122031
CREATED:20231019T180854Z
LAST-MODIFIED:20231019T180854Z
UID:10001135-1732730400-1732737600@web2.d11s.org
SUMMARY:Flotilla 96 Meeting
DESCRIPTION:Flotilla 114-09-06 Las Vegas Monthly Meeting
URL:https://web2.d11s.org/event/flotilla-96-meeting/2024-11-27/
LOCATION:In Person
CATEGORIES:Member Training,Unit Meeting
END:VEVENT
BEGIN:VEVENT
DTSTART;TZID=America/Los_Angeles:20241120T180000
DTEND;TZID=America/Los_Angeles:20241120T200000
DTSTAMP:20260423T122031
CREATED:20241120T155734Z
LAST-MODIFIED:20241120T155734Z
UID:10001651-1732125600-1732132800@web2.d11s.org
SUMMARY:Flotilla 114-09-06 (Central Las Vegas) November Flotilla Business Meeting
DESCRIPTION:United States Coast Guard Auxiliary\nCentral Las Vegas Flotilla 9-6 \n****November Monthly Business Meeting ***\nWednesday\, November 20\, 2024 @ 6:00 pm \n******* VIRTUAL MEETING ONLY ****** \nVIRTUAL / ZOOM MEETING LINK\nhttps://us06web.zoom.us/j/81529276129?pwd=VO1l3AnFLoi04oEtsih2TIjcTxwZpH.1 \nMeeting ID: 815 2927 6129\nPasscode: 8724 \nPHONE CALL-IN: 1-669-444 9171\nMeeting ID: 81529276129 & Passcode: 8724
URL:https://web2.d11s.org/event/flotilla-114-09-06-central-las-vegas-november-flotilla-business-meeting/2024-11-20/2/
LOCATION:Virtual Event
CATEGORIES:Unit Meeting
END:VEVENT
BEGIN:VEVENT
DTSTART;TZID=America/Los_Angeles:20241120T080000
DTEND;TZID=America/Los_Angeles:20241120T170000
DTSTAMP:20260423T122031
CREATED:20241120T155734Z
LAST-MODIFIED:20241120T155734Z
UID:10001650-1732089600-1732122000@web2.d11s.org
SUMMARY:Flotilla 114-09-06 (Central Las Vegas) November Flotilla Business Meeting
DESCRIPTION:United States Coast Guard Auxiliary\nCentral Las Vegas Flotilla 9-6 \n****November Monthly Business Meeting ***\nWednesday\, November 20\, 2024 @ 6:00 pm \n******* VIRTUAL MEETING ONLY ****** \nVIRTUAL / ZOOM MEETING LINK\nhttps://us06web.zoom.us/j/81529276129?pwd=VO1l3AnFLoi04oEtsih2TIjcTxwZpH.1 \nMeeting ID: 815 2927 6129\nPasscode: 8724 \nPHONE CALL-IN: 1-669-444 9171\nMeeting ID: 81529276129 & Passcode: 8724
URL:https://web2.d11s.org/event/flotilla-114-09-06-central-las-vegas-november-flotilla-business-meeting/2024-11-20/1/
LOCATION:Virtual Event
CATEGORIES:Unit Meeting
END:VEVENT
BEGIN:VEVENT
DTSTART;TZID=America/Los_Angeles:20241030T180000
DTEND;TZID=America/Los_Angeles:20241030T200000
DTSTAMP:20260423T122031
CREATED:20231019T180854Z
LAST-MODIFIED:20231019T180854Z
UID:10001134-1730311200-1730318400@web2.d11s.org
SUMMARY:Flotilla 96 Meeting
DESCRIPTION:Flotilla 114-09-06 Las Vegas Monthly Meeting
URL:https://web2.d11s.org/event/flotilla-96-meeting/2024-10-30/
LOCATION:In Person
CATEGORIES:Member Training,Unit Meeting
END:VEVENT
BEGIN:VEVENT
DTSTART;TZID=America/Los_Angeles:20240925T180000
DTEND;TZID=America/Los_Angeles:20240925T200000
DTSTAMP:20260423T122031
CREATED:20231019T180854Z
LAST-MODIFIED:20231019T180854Z
UID:10001133-1727287200-1727294400@web2.d11s.org
SUMMARY:Flotilla 96 Meeting
DESCRIPTION:Flotilla 114-09-06 Las Vegas Monthly Meeting
URL:https://web2.d11s.org/event/flotilla-96-meeting/2024-09-25/
LOCATION:In Person
CATEGORIES:Member Training,Unit Meeting
END:VEVENT
BEGIN:VEVENT
DTSTART;TZID=America/Los_Angeles:20240828T180000
DTEND;TZID=America/Los_Angeles:20240828T200000
DTSTAMP:20260423T122031
CREATED:20240806T024351Z
LAST-MODIFIED:20240806T024351Z
UID:10001573-1724868000-1724875200@web2.d11s.org
SUMMARY:Las Vegas Flotilla 9-6 Monthly Meeting - August
DESCRIPTION:Las Vegas Flotilla 9-6 Monthly Meeting – August\nBass Pro Shop-Las Vegas\n8200 Dean Martin Dr\, Las Vegas\, NV 89139\n2nd Floor Conservation Meeting Room \n***Current and New Potential Members are Welcome!!!***
URL:https://web2.d11s.org/event/las-vegas-flotilla-9-6-monthly-meeting-august/
LOCATION:In Person
END:VEVENT
BEGIN:VEVENT
DTSTART;TZID=America/Los_Angeles:20240828T180000
DTEND;TZID=America/Los_Angeles:20240828T200000
DTSTAMP:20260423T122031
CREATED:20231019T180854Z
LAST-MODIFIED:20231019T180854Z
UID:10001132-1724868000-1724875200@web2.d11s.org
SUMMARY:Flotilla 96 Meeting
DESCRIPTION:Flotilla 114-09-06 Las Vegas Monthly Meeting
URL:https://web2.d11s.org/event/flotilla-96-meeting/2024-08-28/
LOCATION:In Person
CATEGORIES:Member Training,Unit Meeting
END:VEVENT
BEGIN:VEVENT
DTSTART;TZID=America/Los_Angeles:20240731T180000
DTEND;TZID=America/Los_Angeles:20240731T200000
DTSTAMP:20260423T122031
CREATED:20231019T180854Z
LAST-MODIFIED:20231019T180854Z
UID:10001131-1722448800-1722456000@web2.d11s.org
SUMMARY:Flotilla 96 Meeting
DESCRIPTION:Flotilla 114-09-06 Las Vegas Monthly Meeting
URL:https://web2.d11s.org/event/flotilla-96-meeting/2024-07-31/
LOCATION:In Person
CATEGORIES:Member Training,Unit Meeting
END:VEVENT
BEGIN:VEVENT
DTSTART;TZID=America/Los_Angeles:20240626T180000
DTEND;TZID=America/Los_Angeles:20240626T200000
DTSTAMP:20260423T122031
CREATED:20231019T180854Z
LAST-MODIFIED:20231019T180854Z
UID:10001130-1719424800-1719432000@web2.d11s.org
SUMMARY:Flotilla 96 Meeting
DESCRIPTION:Flotilla 114-09-06 Las Vegas Monthly Meeting
URL:https://web2.d11s.org/event/flotilla-96-meeting/2024-06-26/
LOCATION:In Person
CATEGORIES:Member Training,Unit Meeting
END:VEVENT
BEGIN:VEVENT
DTSTART;TZID=America/Los_Angeles:20240529T180000
DTEND;TZID=America/Los_Angeles:20240529T200000
DTSTAMP:20260423T122031
CREATED:20231019T180854Z
LAST-MODIFIED:20231019T180854Z
UID:10001129-1717005600-1717012800@web2.d11s.org
SUMMARY:Flotilla 96 Meeting
DESCRIPTION:Flotilla 114-09-06 Las Vegas Monthly Meeting
URL:https://web2.d11s.org/event/flotilla-96-meeting/2024-05-29/
LOCATION:In Person
CATEGORIES:Member Training,Unit Meeting
END:VEVENT
BEGIN:VEVENT
DTSTART;TZID=America/Los_Angeles:20240424T180000
DTEND;TZID=America/Los_Angeles:20240424T200000
DTSTAMP:20260423T122031
CREATED:20231019T180854Z
LAST-MODIFIED:20231019T180854Z
UID:10001128-1713981600-1713988800@web2.d11s.org
SUMMARY:Flotilla 96 Meeting
DESCRIPTION:Flotilla 114-09-06 Las Vegas Monthly Meeting
URL:https://web2.d11s.org/event/flotilla-96-meeting/2024-04-24/
LOCATION:In Person
CATEGORIES:Member Training,Unit Meeting
END:VEVENT
BEGIN:VEVENT
DTSTART;TZID=America/Los_Angeles:20240327T180000
DTEND;TZID=America/Los_Angeles:20240327T200000
DTSTAMP:20260423T122031
CREATED:20231019T180854Z
LAST-MODIFIED:20231019T180854Z
UID:10001127-1711562400-1711569600@web2.d11s.org
SUMMARY:Flotilla 96 Meeting
DESCRIPTION:Flotilla 114-09-06 Las Vegas Monthly Meeting
URL:https://web2.d11s.org/event/flotilla-96-meeting/2024-03-27/
LOCATION:In Person
CATEGORIES:Member Training,Unit Meeting
END:VEVENT
BEGIN:VEVENT
DTSTART;TZID=America/Los_Angeles:20240228T180000
DTEND;TZID=America/Los_Angeles:20240228T200000
DTSTAMP:20260423T122031
CREATED:20231019T180854Z
LAST-MODIFIED:20231019T180854Z
UID:10001126-1709143200-1709150400@web2.d11s.org
SUMMARY:Flotilla 96 Meeting
DESCRIPTION:Flotilla 114-09-06 Las Vegas Monthly Meeting
URL:https://web2.d11s.org/event/flotilla-96-meeting/2024-02-28/
LOCATION:In Person
CATEGORIES:Member Training,Unit Meeting
END:VEVENT
BEGIN:VEVENT
DTSTART;TZID=America/Los_Angeles:20240131T180000
DTEND;TZID=America/Los_Angeles:20240131T200000
DTSTAMP:20260423T122031
CREATED:20231019T180854Z
LAST-MODIFIED:20231019T180854Z
UID:10001125-1706724000-1706731200@web2.d11s.org
SUMMARY:Flotilla 96 Meeting
DESCRIPTION:Flotilla 114-09-06 Las Vegas Monthly Meeting
URL:https://web2.d11s.org/event/flotilla-96-meeting/2024-01-31/
LOCATION:In Person
CATEGORIES:Member Training,Unit Meeting
END:VEVENT
END:VCALENDAR