BEGIN:VCALENDAR
VERSION:2.0
PRODID:-//US Coast Guard Auxiliary-D11S - ECPv6.15.20//NONSGML v1.0//EN
CALSCALE:GREGORIAN
METHOD:PUBLISH
X-ORIGINAL-URL:https://web2.d11s.org
X-WR-CALDESC:Events for US Coast Guard Auxiliary-D11S
REFRESH-INTERVAL;VALUE=DURATION:PT1H
X-Robots-Tag:noindex
X-PUBLISHED-TTL:PT1H
BEGIN:VTIMEZONE
TZID:America/Los_Angeles
BEGIN:DAYLIGHT
TZOFFSETFROM:-0800
TZOFFSETTO:-0700
TZNAME:PDT
DTSTART:20230312T100000
END:DAYLIGHT
BEGIN:STANDARD
TZOFFSETFROM:-0700
TZOFFSETTO:-0800
TZNAME:PST
DTSTART:20231105T090000
END:STANDARD
BEGIN:DAYLIGHT
TZOFFSETFROM:-0800
TZOFFSETTO:-0700
TZNAME:PDT
DTSTART:20240310T100000
END:DAYLIGHT
BEGIN:STANDARD
TZOFFSETFROM:-0700
TZOFFSETTO:-0800
TZNAME:PST
DTSTART:20241103T090000
END:STANDARD
BEGIN:DAYLIGHT
TZOFFSETFROM:-0800
TZOFFSETTO:-0700
TZNAME:PDT
DTSTART:20250309T100000
END:DAYLIGHT
BEGIN:STANDARD
TZOFFSETFROM:-0700
TZOFFSETTO:-0800
TZNAME:PST
DTSTART:20251102T090000
END:STANDARD
END:VTIMEZONE
BEGIN:VEVENT
DTSTART;TZID=America/Los_Angeles:20240523T183000
DTEND;TZID=America/Los_Angeles:20240523T213000
DTSTAMP:20260423T204846
CREATED:20240429T192744Z
LAST-MODIFIED:20240429T192744Z
UID:10001548-1716489000-1716499800@web2.d11s.org
SUMMARY:Boat America (California)
DESCRIPTION:Boat America Boating Safety Course
URL:https://web2.d11s.org/event/boat-america-california/2024-05-23/
LOCATION:Virtual Event
END:VEVENT
BEGIN:VEVENT
DTSTART;TZID=America/Los_Angeles:20240522T183000
DTEND;TZID=America/Los_Angeles:20240522T213000
DTSTAMP:20260423T204846
CREATED:20240429T192744Z
LAST-MODIFIED:20240429T192744Z
UID:10001547-1716402600-1716413400@web2.d11s.org
SUMMARY:Boat America (California)
DESCRIPTION:Boat America Boating Safety Course
URL:https://web2.d11s.org/event/boat-america-california/2024-05-22/
LOCATION:Virtual Event
END:VEVENT
BEGIN:VEVENT
DTSTART;TZID=America/Los_Angeles:20240521T183000
DTEND;TZID=America/Los_Angeles:20240521T213000
DTSTAMP:20260423T204846
CREATED:20240429T192744Z
LAST-MODIFIED:20240429T192744Z
UID:10001546-1716316200-1716327000@web2.d11s.org
SUMMARY:Boat America (California)
DESCRIPTION:Boat America Boating Safety Course
URL:https://web2.d11s.org/event/boat-america-california/2024-05-21/
LOCATION:Virtual Event
END:VEVENT
BEGIN:VEVENT
DTSTART;TZID=America/Los_Angeles:20240501T183000
DTEND;TZID=America/Los_Angeles:20240501T210000
DTSTAMP:20260423T204846
CREATED:20240429T192218Z
LAST-MODIFIED:20240429T192218Z
UID:10001545-1714588200-1714597200@web2.d11s.org
SUMMARY:Suddenly In Command
DESCRIPTION:The captain becomes incapacitated or falls overboard; you purchase a new boat for the first time. You are Suddenly in Command. This boating safety primer is designed for those not generally at the helm\, and will help you to be prepared with the basics in case of an emergency
URL:https://web2.d11s.org/event/suddenly-in-command-3/
LOCATION:Virtual Event
CATEGORIES:Special Event
END:VEVENT
END:VCALENDAR