BEGIN:VCALENDAR
VERSION:2.0
PRODID:-//US Coast Guard Auxiliary-D11S - ECPv6.15.20//NONSGML v1.0//EN
CALSCALE:GREGORIAN
METHOD:PUBLISH
X-ORIGINAL-URL:https://web2.d11s.org
X-WR-CALDESC:Events for US Coast Guard Auxiliary-D11S
REFRESH-INTERVAL;VALUE=DURATION:PT1H
X-Robots-Tag:noindex
X-PUBLISHED-TTL:PT1H
BEGIN:VTIMEZONE
TZID:America/Los_Angeles
BEGIN:DAYLIGHT
TZOFFSETFROM:-0800
TZOFFSETTO:-0700
TZNAME:PDT
DTSTART:20230312T100000
END:DAYLIGHT
BEGIN:STANDARD
TZOFFSETFROM:-0700
TZOFFSETTO:-0800
TZNAME:PST
DTSTART:20231105T090000
END:STANDARD
BEGIN:DAYLIGHT
TZOFFSETFROM:-0800
TZOFFSETTO:-0700
TZNAME:PDT
DTSTART:20240310T100000
END:DAYLIGHT
BEGIN:STANDARD
TZOFFSETFROM:-0700
TZOFFSETTO:-0800
TZNAME:PST
DTSTART:20241103T090000
END:STANDARD
BEGIN:DAYLIGHT
TZOFFSETFROM:-0800
TZOFFSETTO:-0700
TZNAME:PDT
DTSTART:20250309T100000
END:DAYLIGHT
BEGIN:STANDARD
TZOFFSETFROM:-0700
TZOFFSETTO:-0800
TZNAME:PST
DTSTART:20251102T090000
END:STANDARD
BEGIN:DAYLIGHT
TZOFFSETFROM:-0800
TZOFFSETTO:-0700
TZNAME:PDT
DTSTART:20260308T100000
END:DAYLIGHT
BEGIN:STANDARD
TZOFFSETFROM:-0700
TZOFFSETTO:-0800
TZNAME:PST
DTSTART:20261101T090000
END:STANDARD
END:VTIMEZONE
BEGIN:VEVENT
DTSTART;TZID=America/Los_Angeles:20250114T170000
DTEND;TZID=America/Los_Angeles:20250114T193000
DTSTAMP:20260423T121829
CREATED:20241102T005342Z
LAST-MODIFIED:20241102T005342Z
UID:10001588-1736874000-1736883000@web2.d11s.org
SUMMARY:New Member Academy (NMA3) - Online
DESCRIPTION:The New Member Academy (NMA) is designed to assist the AP and IQ member in getting started in the AUX career.  We will go through info on Core Training\, Uniforms\, Customs and Courtesy’s\, Chain of Leadership\, and Navigation of the AUX Websites.  \nThis is a must do for every new member.   \nTo enroll in the NMA 3 Goto the following link…  \nhttps://docs.google.com/forms/d/1pKhi1P7tyqDTuFp9MGdf8GmMJUClJD9OekkzW6pLxRw/edit
URL:https://web2.d11s.org/event/new-member-academy-nma3-online/
LOCATION:Hybrid
ATTACH;FMTTYPE=image/gif:https://web2.d11s.org/wp-content/uploads/2024/11/cropped-D11SR_Logo_552x552_Transparent-270x270-1.gif
ORGANIZER;CN="District 11":MAILTO:crosario.uscgaux@gmail.com
END:VEVENT
BEGIN:VEVENT
DTSTART;TZID=America/Los_Angeles:20240422T183000
DTEND;TZID=America/Los_Angeles:20240422T200000
DTSTAMP:20260423T121829
CREATED:20240409T123513Z
LAST-MODIFIED:20240409T123513Z
UID:10001537-1713810600-1713816000@web2.d11s.org
SUMMARY:Flotilla 10-07 Monthly Meeting
DESCRIPTION:Flotilla 10-07 Monthly Meeting
URL:https://web2.d11s.org/event/flotilla-10-07-monthly-meeting/
LOCATION:Hybrid
END:VEVENT
BEGIN:VEVENT
DTSTART;TZID=America/Los_Angeles:20240314T180000
DTEND;TZID=America/Los_Angeles:20240314T200000
DTSTAMP:20260423T121829
CREATED:20240214T192943Z
LAST-MODIFIED:20240214T192943Z
UID:10001429-1710439200-1710446400@web2.d11s.org
SUMMARY:Flotilla 9-5 Monthly Meeting
DESCRIPTION:Monthly meeting for Flotilla 9-5
URL:https://web2.d11s.org/event/flotilla-9-5-monthly-meeting/
LOCATION:Hybrid
CATEGORIES:Unit Meeting
END:VEVENT
END:VCALENDAR