BEGIN:VCALENDAR
VERSION:2.0
PRODID:-//US Coast Guard Auxiliary-D11S - ECPv6.15.20//NONSGML v1.0//EN
CALSCALE:GREGORIAN
METHOD:PUBLISH
X-ORIGINAL-URL:https://web2.d11s.org
X-WR-CALDESC:Events for US Coast Guard Auxiliary-D11S
REFRESH-INTERVAL;VALUE=DURATION:PT1H
X-Robots-Tag:noindex
X-PUBLISHED-TTL:PT1H
BEGIN:VTIMEZONE
TZID:America/Los_Angeles
BEGIN:DAYLIGHT
TZOFFSETFROM:-0800
TZOFFSETTO:-0700
TZNAME:PDT
DTSTART:20260308T100000
END:DAYLIGHT
BEGIN:STANDARD
TZOFFSETFROM:-0700
TZOFFSETTO:-0800
TZNAME:PST
DTSTART:20261101T090000
END:STANDARD
BEGIN:DAYLIGHT
TZOFFSETFROM:-0800
TZOFFSETTO:-0700
TZNAME:PDT
DTSTART:20270314T100000
END:DAYLIGHT
BEGIN:STANDARD
TZOFFSETFROM:-0700
TZOFFSETTO:-0800
TZNAME:PST
DTSTART:20271107T090000
END:STANDARD
BEGIN:DAYLIGHT
TZOFFSETFROM:-0800
TZOFFSETTO:-0700
TZNAME:PDT
DTSTART:20280312T100000
END:DAYLIGHT
BEGIN:STANDARD
TZOFFSETFROM:-0700
TZOFFSETTO:-0800
TZNAME:PST
DTSTART:20281105T090000
END:STANDARD
BEGIN:DAYLIGHT
TZOFFSETFROM:-0800
TZOFFSETTO:-0700
TZNAME:PDT
DTSTART:20290311T100000
END:DAYLIGHT
BEGIN:STANDARD
TZOFFSETFROM:-0700
TZOFFSETTO:-0800
TZNAME:PST
DTSTART:20291104T090000
END:STANDARD
BEGIN:DAYLIGHT
TZOFFSETFROM:-0800
TZOFFSETTO:-0700
TZNAME:PDT
DTSTART:20300310T100000
END:DAYLIGHT
BEGIN:STANDARD
TZOFFSETFROM:-0700
TZOFFSETTO:-0800
TZNAME:PST
DTSTART:20301103T090000
END:STANDARD
END:VTIMEZONE
BEGIN:VEVENT
DTSTART;TZID=America/Los_Angeles:20271027T180000
DTEND;TZID=America/Los_Angeles:20271027T200000
DTSTAMP:20260423T154220
CREATED:20231019T180854Z
LAST-MODIFIED:20231019T180854Z
UID:10001170-1824660000-1824667200@web2.d11s.org
SUMMARY:Flotilla 96 Meeting
DESCRIPTION:Flotilla 114-09-06 Las Vegas Monthly Meeting
URL:https://web2.d11s.org/event/flotilla-96-meeting/2027-10-27/
LOCATION:In Person
CATEGORIES:Member Training,Unit Meeting
END:VEVENT
BEGIN:VEVENT
DTSTART;TZID=America/Los_Angeles:20271118T180000
DTEND;TZID=America/Los_Angeles:20271118T203000
DTSTAMP:20260423T154220
CREATED:20250512T153620Z
LAST-MODIFIED:20250512T153620Z
UID:10002060-1826560800-1826569800@web2.d11s.org
SUMMARY:Flotilla Meeting- Flotilla 9-2
DESCRIPTION:
URL:https://web2.d11s.org/event/flotilla-meeting-flotilla-9-2/2027-11-18/
LOCATION:In Person
END:VEVENT
BEGIN:VEVENT
DTSTART;TZID=America/Los_Angeles:20271124T180000
DTEND;TZID=America/Los_Angeles:20271124T200000
DTSTAMP:20260423T154220
CREATED:20231019T180854Z
LAST-MODIFIED:20231019T180854Z
UID:10001171-1827079200-1827086400@web2.d11s.org
SUMMARY:Flotilla 96 Meeting
DESCRIPTION:Flotilla 114-09-06 Las Vegas Monthly Meeting
URL:https://web2.d11s.org/event/flotilla-96-meeting/2027-11-24/
LOCATION:In Person
CATEGORIES:Member Training,Unit Meeting
END:VEVENT
BEGIN:VEVENT
DTSTART;TZID=America/Los_Angeles:20271216T180000
DTEND;TZID=America/Los_Angeles:20271216T203000
DTSTAMP:20260423T154220
CREATED:20250512T153620Z
LAST-MODIFIED:20250512T153620Z
UID:10002061-1828980000-1828989000@web2.d11s.org
SUMMARY:Flotilla Meeting- Flotilla 9-2
DESCRIPTION:
URL:https://web2.d11s.org/event/flotilla-meeting-flotilla-9-2/2027-12-16/
LOCATION:In Person
END:VEVENT
BEGIN:VEVENT
DTSTART;TZID=America/Los_Angeles:20271229T180000
DTEND;TZID=America/Los_Angeles:20271229T200000
DTSTAMP:20260423T154220
CREATED:20231019T180854Z
LAST-MODIFIED:20231019T180854Z
UID:10001172-1830103200-1830110400@web2.d11s.org
SUMMARY:Flotilla 96 Meeting
DESCRIPTION:Flotilla 114-09-06 Las Vegas Monthly Meeting
URL:https://web2.d11s.org/event/flotilla-96-meeting/2027-12-29/
LOCATION:In Person
CATEGORIES:Member Training,Unit Meeting
END:VEVENT
BEGIN:VEVENT
DTSTART;TZID=America/Los_Angeles:20280120T180000
DTEND;TZID=America/Los_Angeles:20280120T203000
DTSTAMP:20260423T154220
CREATED:20250512T153620Z
LAST-MODIFIED:20250512T153620Z
UID:10002062-1832004000-1832013000@web2.d11s.org
SUMMARY:Flotilla Meeting- Flotilla 9-2
DESCRIPTION:
URL:https://web2.d11s.org/event/flotilla-meeting-flotilla-9-2/2028-01-20/
LOCATION:In Person
END:VEVENT
BEGIN:VEVENT
DTSTART;TZID=America/Los_Angeles:20280126T180000
DTEND;TZID=America/Los_Angeles:20280126T200000
DTSTAMP:20260423T154220
CREATED:20231019T180854Z
LAST-MODIFIED:20231019T180854Z
UID:10001173-1832522400-1832529600@web2.d11s.org
SUMMARY:Flotilla 96 Meeting
DESCRIPTION:Flotilla 114-09-06 Las Vegas Monthly Meeting
URL:https://web2.d11s.org/event/flotilla-96-meeting/2028-01-26/
LOCATION:In Person
CATEGORIES:Member Training,Unit Meeting
END:VEVENT
BEGIN:VEVENT
DTSTART;TZID=America/Los_Angeles:20280217T180000
DTEND;TZID=America/Los_Angeles:20280217T203000
DTSTAMP:20260423T154220
CREATED:20250512T153620Z
LAST-MODIFIED:20250512T153620Z
UID:10002063-1834423200-1834432200@web2.d11s.org
SUMMARY:Flotilla Meeting- Flotilla 9-2
DESCRIPTION:
URL:https://web2.d11s.org/event/flotilla-meeting-flotilla-9-2/2028-02-17/
LOCATION:In Person
END:VEVENT
BEGIN:VEVENT
DTSTART;TZID=America/Los_Angeles:20280223T180000
DTEND;TZID=America/Los_Angeles:20280223T200000
DTSTAMP:20260423T154220
CREATED:20231019T180854Z
LAST-MODIFIED:20231019T180854Z
UID:10001174-1834941600-1834948800@web2.d11s.org
SUMMARY:Flotilla 96 Meeting
DESCRIPTION:Flotilla 114-09-06 Las Vegas Monthly Meeting
URL:https://web2.d11s.org/event/flotilla-96-meeting/2028-02-23/
LOCATION:In Person
CATEGORIES:Member Training,Unit Meeting
END:VEVENT
BEGIN:VEVENT
DTSTART;TZID=America/Los_Angeles:20280316T180000
DTEND;TZID=America/Los_Angeles:20280316T203000
DTSTAMP:20260423T154220
CREATED:20250512T153620Z
LAST-MODIFIED:20250512T153620Z
UID:10002064-1836842400-1836851400@web2.d11s.org
SUMMARY:Flotilla Meeting- Flotilla 9-2
DESCRIPTION:
URL:https://web2.d11s.org/event/flotilla-meeting-flotilla-9-2/2028-03-16/
LOCATION:In Person
END:VEVENT
BEGIN:VEVENT
DTSTART;TZID=America/Los_Angeles:20280329T180000
DTEND;TZID=America/Los_Angeles:20280329T200000
DTSTAMP:20260423T154220
CREATED:20231019T180854Z
LAST-MODIFIED:20231019T180854Z
UID:10001175-1837965600-1837972800@web2.d11s.org
SUMMARY:Flotilla 96 Meeting
DESCRIPTION:Flotilla 114-09-06 Las Vegas Monthly Meeting
URL:https://web2.d11s.org/event/flotilla-96-meeting/2028-03-29/
LOCATION:In Person
CATEGORIES:Member Training,Unit Meeting
END:VEVENT
BEGIN:VEVENT
DTSTART;TZID=America/Los_Angeles:20280420T180000
DTEND;TZID=America/Los_Angeles:20280420T203000
DTSTAMP:20260423T154220
CREATED:20250512T153620Z
LAST-MODIFIED:20250512T153620Z
UID:10002065-1839866400-1839875400@web2.d11s.org
SUMMARY:Flotilla Meeting- Flotilla 9-2
DESCRIPTION:
URL:https://web2.d11s.org/event/flotilla-meeting-flotilla-9-2/2028-04-20/
LOCATION:In Person
END:VEVENT
BEGIN:VEVENT
DTSTART;TZID=America/Los_Angeles:20280426T180000
DTEND;TZID=America/Los_Angeles:20280426T200000
DTSTAMP:20260423T154220
CREATED:20231019T180854Z
LAST-MODIFIED:20231019T180854Z
UID:10001176-1840384800-1840392000@web2.d11s.org
SUMMARY:Flotilla 96 Meeting
DESCRIPTION:Flotilla 114-09-06 Las Vegas Monthly Meeting
URL:https://web2.d11s.org/event/flotilla-96-meeting/2028-04-26/
LOCATION:In Person
CATEGORIES:Member Training,Unit Meeting
END:VEVENT
BEGIN:VEVENT
DTSTART;TZID=America/Los_Angeles:20280518T180000
DTEND;TZID=America/Los_Angeles:20280518T203000
DTSTAMP:20260423T154220
CREATED:20250512T153620Z
LAST-MODIFIED:20250512T153620Z
UID:10002066-1842285600-1842294600@web2.d11s.org
SUMMARY:Flotilla Meeting- Flotilla 9-2
DESCRIPTION:
URL:https://web2.d11s.org/event/flotilla-meeting-flotilla-9-2/2028-05-18/
LOCATION:In Person
END:VEVENT
BEGIN:VEVENT
DTSTART;TZID=America/Los_Angeles:20280531T180000
DTEND;TZID=America/Los_Angeles:20280531T200000
DTSTAMP:20260423T154220
CREATED:20231019T180854Z
LAST-MODIFIED:20231019T180854Z
UID:10001177-1843408800-1843416000@web2.d11s.org
SUMMARY:Flotilla 96 Meeting
DESCRIPTION:Flotilla 114-09-06 Las Vegas Monthly Meeting
URL:https://web2.d11s.org/event/flotilla-96-meeting/2028-05-31/
LOCATION:In Person
CATEGORIES:Member Training,Unit Meeting
END:VEVENT
BEGIN:VEVENT
DTSTART;TZID=America/Los_Angeles:20280615T180000
DTEND;TZID=America/Los_Angeles:20280615T203000
DTSTAMP:20260423T154220
CREATED:20250512T153620Z
LAST-MODIFIED:20250512T153620Z
UID:10002067-1844704800-1844713800@web2.d11s.org
SUMMARY:Flotilla Meeting- Flotilla 9-2
DESCRIPTION:
URL:https://web2.d11s.org/event/flotilla-meeting-flotilla-9-2/2028-06-15/
LOCATION:In Person
END:VEVENT
BEGIN:VEVENT
DTSTART;TZID=America/Los_Angeles:20280628T180000
DTEND;TZID=America/Los_Angeles:20280628T200000
DTSTAMP:20260423T154220
CREATED:20231019T180854Z
LAST-MODIFIED:20231019T180854Z
UID:10001178-1845828000-1845835200@web2.d11s.org
SUMMARY:Flotilla 96 Meeting
DESCRIPTION:Flotilla 114-09-06 Las Vegas Monthly Meeting
URL:https://web2.d11s.org/event/flotilla-96-meeting/2028-06-28/
LOCATION:In Person
CATEGORIES:Member Training,Unit Meeting
END:VEVENT
BEGIN:VEVENT
DTSTART;TZID=America/Los_Angeles:20280720T180000
DTEND;TZID=America/Los_Angeles:20280720T203000
DTSTAMP:20260423T154220
CREATED:20250512T153620Z
LAST-MODIFIED:20250512T153620Z
UID:10002068-1847728800-1847737800@web2.d11s.org
SUMMARY:Flotilla Meeting- Flotilla 9-2
DESCRIPTION:
URL:https://web2.d11s.org/event/flotilla-meeting-flotilla-9-2/2028-07-20/
LOCATION:In Person
END:VEVENT
BEGIN:VEVENT
DTSTART;TZID=America/Los_Angeles:20280726T180000
DTEND;TZID=America/Los_Angeles:20280726T200000
DTSTAMP:20260423T154220
CREATED:20231019T180854Z
LAST-MODIFIED:20231019T180854Z
UID:10001179-1848247200-1848254400@web2.d11s.org
SUMMARY:Flotilla 96 Meeting
DESCRIPTION:Flotilla 114-09-06 Las Vegas Monthly Meeting
URL:https://web2.d11s.org/event/flotilla-96-meeting/2028-07-26/
LOCATION:In Person
CATEGORIES:Member Training,Unit Meeting
END:VEVENT
BEGIN:VEVENT
DTSTART;TZID=America/Los_Angeles:20280817T180000
DTEND;TZID=America/Los_Angeles:20280817T203000
DTSTAMP:20260423T154220
CREATED:20250512T153620Z
LAST-MODIFIED:20250512T153620Z
UID:10002069-1850148000-1850157000@web2.d11s.org
SUMMARY:Flotilla Meeting- Flotilla 9-2
DESCRIPTION:
URL:https://web2.d11s.org/event/flotilla-meeting-flotilla-9-2/2028-08-17/
LOCATION:In Person
END:VEVENT
BEGIN:VEVENT
DTSTART;TZID=America/Los_Angeles:20280830T180000
DTEND;TZID=America/Los_Angeles:20280830T200000
DTSTAMP:20260423T154220
CREATED:20231019T180854Z
LAST-MODIFIED:20231019T180854Z
UID:10001180-1851271200-1851278400@web2.d11s.org
SUMMARY:Flotilla 96 Meeting
DESCRIPTION:Flotilla 114-09-06 Las Vegas Monthly Meeting
URL:https://web2.d11s.org/event/flotilla-96-meeting/2028-08-30/
LOCATION:In Person
CATEGORIES:Member Training,Unit Meeting
END:VEVENT
BEGIN:VEVENT
DTSTART;TZID=America/Los_Angeles:20280921T180000
DTEND;TZID=America/Los_Angeles:20280921T203000
DTSTAMP:20260423T154220
CREATED:20250512T153620Z
LAST-MODIFIED:20250512T153620Z
UID:10002070-1853172000-1853181000@web2.d11s.org
SUMMARY:Flotilla Meeting- Flotilla 9-2
DESCRIPTION:
URL:https://web2.d11s.org/event/flotilla-meeting-flotilla-9-2/2028-09-21/
LOCATION:In Person
END:VEVENT
BEGIN:VEVENT
DTSTART;TZID=America/Los_Angeles:20280927T180000
DTEND;TZID=America/Los_Angeles:20280927T200000
DTSTAMP:20260423T154220
CREATED:20231019T180854Z
LAST-MODIFIED:20231019T180854Z
UID:10001181-1853690400-1853697600@web2.d11s.org
SUMMARY:Flotilla 96 Meeting
DESCRIPTION:Flotilla 114-09-06 Las Vegas Monthly Meeting
URL:https://web2.d11s.org/event/flotilla-96-meeting/2028-09-27/
LOCATION:In Person
CATEGORIES:Member Training,Unit Meeting
END:VEVENT
BEGIN:VEVENT
DTSTART;TZID=America/Los_Angeles:20281019T180000
DTEND;TZID=America/Los_Angeles:20281019T203000
DTSTAMP:20260423T154220
CREATED:20250512T153620Z
LAST-MODIFIED:20250512T153620Z
UID:10002071-1855591200-1855600200@web2.d11s.org
SUMMARY:Flotilla Meeting- Flotilla 9-2
DESCRIPTION:
URL:https://web2.d11s.org/event/flotilla-meeting-flotilla-9-2/2028-10-19/
LOCATION:In Person
END:VEVENT
BEGIN:VEVENT
DTSTART;TZID=America/Los_Angeles:20281116T180000
DTEND;TZID=America/Los_Angeles:20281116T203000
DTSTAMP:20260423T154220
CREATED:20250512T153620Z
LAST-MODIFIED:20250512T153620Z
UID:10002072-1858010400-1858019400@web2.d11s.org
SUMMARY:Flotilla Meeting- Flotilla 9-2
DESCRIPTION:
URL:https://web2.d11s.org/event/flotilla-meeting-flotilla-9-2/2028-11-16/
LOCATION:In Person
END:VEVENT
BEGIN:VEVENT
DTSTART;TZID=America/Los_Angeles:20281221T180000
DTEND;TZID=America/Los_Angeles:20281221T203000
DTSTAMP:20260423T154220
CREATED:20250512T153620Z
LAST-MODIFIED:20250512T153620Z
UID:10002073-1861034400-1861043400@web2.d11s.org
SUMMARY:Flotilla Meeting- Flotilla 9-2
DESCRIPTION:
URL:https://web2.d11s.org/event/flotilla-meeting-flotilla-9-2/2028-12-21/
LOCATION:In Person
END:VEVENT
BEGIN:VEVENT
DTSTART;TZID=America/Los_Angeles:20290118T180000
DTEND;TZID=America/Los_Angeles:20290118T203000
DTSTAMP:20260423T154220
CREATED:20250512T153620Z
LAST-MODIFIED:20250512T153620Z
UID:10002074-1863453600-1863462600@web2.d11s.org
SUMMARY:Flotilla Meeting- Flotilla 9-2
DESCRIPTION:
URL:https://web2.d11s.org/event/flotilla-meeting-flotilla-9-2/2029-01-18/
LOCATION:In Person
END:VEVENT
BEGIN:VEVENT
DTSTART;TZID=America/Los_Angeles:20290215T180000
DTEND;TZID=America/Los_Angeles:20290215T203000
DTSTAMP:20260423T154220
CREATED:20250512T153620Z
LAST-MODIFIED:20250512T153620Z
UID:10002075-1865872800-1865881800@web2.d11s.org
SUMMARY:Flotilla Meeting- Flotilla 9-2
DESCRIPTION:
URL:https://web2.d11s.org/event/flotilla-meeting-flotilla-9-2/2029-02-15/
LOCATION:In Person
END:VEVENT
BEGIN:VEVENT
DTSTART;TZID=America/Los_Angeles:20290315T180000
DTEND;TZID=America/Los_Angeles:20290315T203000
DTSTAMP:20260423T154220
CREATED:20250512T153620Z
LAST-MODIFIED:20250512T153620Z
UID:10002076-1868292000-1868301000@web2.d11s.org
SUMMARY:Flotilla Meeting- Flotilla 9-2
DESCRIPTION:
URL:https://web2.d11s.org/event/flotilla-meeting-flotilla-9-2/2029-03-15/
LOCATION:In Person
END:VEVENT
BEGIN:VEVENT
DTSTART;TZID=America/Los_Angeles:20290419T180000
DTEND;TZID=America/Los_Angeles:20290419T203000
DTSTAMP:20260423T154220
CREATED:20250512T153620Z
LAST-MODIFIED:20250512T153620Z
UID:10002077-1871316000-1871325000@web2.d11s.org
SUMMARY:Flotilla Meeting- Flotilla 9-2
DESCRIPTION:
URL:https://web2.d11s.org/event/flotilla-meeting-flotilla-9-2/2029-04-19/
LOCATION:In Person
END:VEVENT
END:VCALENDAR