BEGIN:VCALENDAR
VERSION:2.0
PRODID:-//US Coast Guard Auxiliary-D11S - ECPv6.15.20//NONSGML v1.0//EN
CALSCALE:GREGORIAN
METHOD:PUBLISH
X-ORIGINAL-URL:https://web2.d11s.org
X-WR-CALDESC:Events for US Coast Guard Auxiliary-D11S
REFRESH-INTERVAL;VALUE=DURATION:PT1H
X-Robots-Tag:noindex
X-PUBLISHED-TTL:PT1H
BEGIN:VTIMEZONE
TZID:America/Los_Angeles
BEGIN:DAYLIGHT
TZOFFSETFROM:-0800
TZOFFSETTO:-0700
TZNAME:PDT
DTSTART:20220313T100000
END:DAYLIGHT
BEGIN:STANDARD
TZOFFSETFROM:-0700
TZOFFSETTO:-0800
TZNAME:PST
DTSTART:20221106T090000
END:STANDARD
BEGIN:DAYLIGHT
TZOFFSETFROM:-0800
TZOFFSETTO:-0700
TZNAME:PDT
DTSTART:20230312T100000
END:DAYLIGHT
BEGIN:STANDARD
TZOFFSETFROM:-0700
TZOFFSETTO:-0800
TZNAME:PST
DTSTART:20231105T090000
END:STANDARD
BEGIN:DAYLIGHT
TZOFFSETFROM:-0800
TZOFFSETTO:-0700
TZNAME:PDT
DTSTART:20240310T100000
END:DAYLIGHT
BEGIN:STANDARD
TZOFFSETFROM:-0700
TZOFFSETTO:-0800
TZNAME:PST
DTSTART:20241103T090000
END:STANDARD
END:VTIMEZONE
BEGIN:VEVENT
DTSTART;TZID=America/Los_Angeles:20230627T200000
DTEND;TZID=America/Los_Angeles:20230627T213000
DTSTAMP:20260423T154226
CREATED:20230622T012655Z
LAST-MODIFIED:20230622T012655Z
UID:10000751-1687896000-1687901400@web2.d11s.org
SUMMARY:2023 TCO Workshop
DESCRIPTION:Yearly TCO Workshop is required to maintain currency for TCO and grandfathered AUXCOM (before Aug 2008).  Will be conducted by Zoom teleconference. \nAn optional AUXMON program presentation will be made after the TCO workshop all are invited. \nTo join: Contact Bill Calderwood Div ONE SO-CM @ k1ct@arrl.net \nThe Zoom session will open appx. 30 minutes prior to start to enable participants to square away their configuration.
URL:https://web2.d11s.org/event/2023-tco-workshop/
LOCATION:Virtual Event
END:VEVENT
BEGIN:VEVENT
DTSTART;TZID=America/Los_Angeles:20230626T180000
DTEND;TZID=America/Los_Angeles:20230626T200000
DTSTAMP:20260423T154226
CREATED:20230613T203854Z
LAST-MODIFIED:20230613T203854Z
UID:10000677-1687802400-1687809600@web2.d11s.org
SUMMARY:Operations Workshop
DESCRIPTION:The 2023 National Operations Workshop\, with local updates and comments by our Operations Training Officer (OTO)\, is ready for Prime Time.\nThe OTO has asked that the instructors that present the Workshop to the membership participate in a presentation of this training by The DSO-OP\, an ADSO-OP\, or SO-OP.\nThe Train the Trainer Workshops are being presented on May 31st to prepare our Operations Staff and provide them an opportunity for Questions & Answers before they present the class to the membership.\nThe Members filling these positions in Operations have access to the newest policies and procedures established by the Commandant.\nThe Workshop is required to be completed by all Operational Members by June 30Th each year. The class must be taken in a workshop format. Self Attestation is not authorized. Please register for the workshop on the D11s website.\nIf you have any difficulties\, Email me\, or call me at 949 / 375-1814
URL:https://web2.d11s.org/event/operations-workshop/
LOCATION:Virtual Event
END:VEVENT
BEGIN:VEVENT
DTSTART;TZID=America/Los_Angeles:20230619T180000
DTEND;TZID=America/Los_Angeles:20230620T210000
DTSTAMP:20260423T154226
CREATED:20230613T203852Z
LAST-MODIFIED:20230613T203852Z
UID:10000671-1687197600-1687294800@web2.d11s.org
SUMMARY:RM/TCT Refresher
DESCRIPTION:Note – this is a 4.5 to 5-hour class\,  broken into 2 nights Monday\, June 19th\, 1800 to 2000\, and Wednesday\, June 20th\, 1800 to 2000\nWho needs TCT Refresher?\nBoat Crew (COXSWAIN\, CREW\, and trainees)\nPWC Operator and Trainee (PWOIT)\nATON Verifier\nTelecommunications Operator (TCO)\nWatchstander\nPrerequisites for ONLINE TCT Refresher\nMust:\nBe BQ or AUXOP\nBe CURRENT in Core Training (as shown in AUXDATA)\nHave completed Intro to Risk Management (as shown in AUXDATA)\nHave access to a computer with a camera and microphone as well as a telephone.\nThis is an interactive class.  Attendees must be present and involved to get credit. In the case of the weeknight classes\, members must participate on two consecutive nights.\nThis course must be taken at least every 15 months.\nNew crew candidates MUST have completed both Intro to Risk Management AND online RM Refresher prior to being eligible to request a QE checkride. Current and REYR (for hours u/w) members must be current in RM at the time of the check ride.\nChecking system setup\nThe Zoom Room is opened 30 minutes before each session. Please take advantage of the opportunity to log in early and ensure your computer\, camera\, and microphone are working. If all is good\,  grab a cup of coffee and return to your desk at class time.\nIf you don’t take advantage of the setup period and are trying to call a facilitator for help getting logged on 2 minutes before or 10 minutes after class starts\, you will not get in. If you miss your scheduled training because of log on or equipment issues\, you may have to wait until in-person training can be scheduled\, which may be a very long wait. Given that this training format severely limits the number of participants per class\, please log in early to help us maximize participation.\nIf this event shows “Registration Closed\,” please check the calendar\, as many more sessions are being scheduled.  If you have questions\, send an email to D11-SMB-D11AUX-South@uscg.mil.
URL:https://web2.d11s.org/event/rm-tct-refresher/
LOCATION:Virtual Event
END:VEVENT
END:VCALENDAR